From mboxrd@z Thu Jan 1 00:00:00 1970 Return-Path: Received: from mails.dpdk.org (mails.dpdk.org [217.70.189.124]) by inbox.dpdk.org (Postfix) with ESMTP id CCB1246B3B for ; Thu, 10 Jul 2025 19:27:42 +0200 (CEST) Received: from mails.dpdk.org (localhost [127.0.0.1]) by mails.dpdk.org (Postfix) with ESMTP id 9896E4028B; Thu, 10 Jul 2025 19:27:42 +0200 (CEST) Received: from mail-il1-f228.google.com (mail-il1-f228.google.com [209.85.166.228]) by mails.dpdk.org (Postfix) with ESMTP id 24EE44028B for ; Thu, 10 Jul 2025 19:27:41 +0200 (CEST) Received: by mail-il1-f228.google.com with SMTP id e9e14a558f8ab-3df2ccbb895so9290635ab.3 for ; Thu, 10 Jul 2025 10:27:41 -0700 (PDT) DKIM-Signature: v=1; a=rsa-sha256; c=relaxed/relaxed; d=iol.unh.edu; s=unh-iol; t=1752168460; x=1752773260; darn=dpdk.org; h=references:in-reply-to:cc:to:from:subject:message-id:date:from:to :cc:subject:date:message-id:reply-to; bh=7geUOIAJaXU7HePusEW0Z0jbyHXZ3SgHtMGH0l3LZfk=; b=bUbi8uF0Gk7uHEZUhS719f7ym6Kamm8fmqtnoWS+BQElUOgfzTSCrjdwql602G+fFE mqOrObriUV6pyQNCn14gLYytMwz4sz1HpofidjBkTSeLQQlbvX11V/fhGozeRKIOnqNw j7De+l+OugqvZpb4dps2pzZ3buwtlIKIL0RGo= X-Google-DKIM-Signature: v=1; a=rsa-sha256; c=relaxed/relaxed; d=1e100.net; s=20230601; t=1752168460; x=1752773260; h=references:in-reply-to:cc:to:from:subject:message-id:date :x-gm-message-state:from:to:cc:subject:date:message-id:reply-to; bh=7geUOIAJaXU7HePusEW0Z0jbyHXZ3SgHtMGH0l3LZfk=; b=AmsswQqhipFAe5YX3N/YvIR9v0zjhHkLhFyN7KiuUUiyzWumYXtmBwjmTyDqpFEoWM 42weEQh6C8zHvN+q9CHBswQBdM3GUsa03HQtDQw837tFwekH6pyrGvHbzS/JAMSVc4o6 EqR+sOrr+jleTkMKc1zgh64Mfd2jIpEOTQYJsz4pOkTNDmWSdy7m0oyyrNn3k2W8abcX mK3zaCzeuunyhhT+uV7SBSkkuw4pW2PycXkP+7cqaBQkst6C0NIIq3gWqSXIqzQPPB8E ayb9vYuV2BL25GgjrLuoqlM+tHMl+T0pRmYBPj+5/pPr7ohkGlbciehae5cvztVCoUx0 NoOA== X-Gm-Message-State: AOJu0YwiRZ8K7i7fnpg3eqfCwNlkUyhCLiX+H+lG/PJTzd+mDa9kQa1J F6vZbmQmqqcP5/p4Z3UapFMo6vcBY1nKmv+thUyHItk4PWkNd+HDQg4DErMjyoslkOhArDrK+1R 9xbYt27JnZ/RNVBJUXU6dZlyOYM/1idjbB0WA5g/ztekeUnA11xs39cEDK6fV X-Gm-Gg: ASbGncsFE1NCLYEll8miL0+cGnIJNgmdDi4X7v09PrZ7W6SbY44tRQ1SgVl8aII8t7g KPEjWf4NYtzNht/+j3jzLu0O0DNOixi2W/Hun9OLGA2HhObc6R2y0HwdVwIiv89+I3btWeFi3IH kLCRFmcRl9rNnYIMeCL/S6uYakLZofPoy0YeppnBUGVgbGOwfk5pieMMA/eQsHvQH9y1M/NYrSN 3fHdU7EzJksth84r47y1cI+CqzPhUi7qGerbayjRUSr6JzXLT+91yiimm2AUBo/dlBBfMdW1vW/ bspO0t1+fn6K5OWAHqqTislHgNG5m77oLsNR38d8+RcP/T4= X-Google-Smtp-Source: AGHT+IEAhzR79BLnQGBNA/eN+o75QNgVwE0gioqR5RxKUYjJ4CZmZZfdgN/eg+y1Aw81bUDc9QlodQSlsTDL X-Received: by 2002:a05:6e02:3a0f:b0:3df:4738:977e with SMTP id e9e14a558f8ab-3e2532e2bb4mr3547085ab.10.1752168460291; Thu, 10 Jul 2025 10:27:40 -0700 (PDT) Received: from postal.iol.unh.edu (postal.iol.unh.edu. [2606:4100:3880:1234::84]) by smtp-relay.gmail.com with ESMTPS id e9e14a558f8ab-3e2461113e2sm1220565ab.16.2025.07.10.10.27.40 (version=TLS1_2 cipher=ECDHE-ECDSA-AES128-GCM-SHA256 bits=128/128); Thu, 10 Jul 2025 10:27:40 -0700 (PDT) X-Relaying-Domain: iol.unh.edu Date: Thu, 10 Jul 2025 10:27:40 -0700 (PDT) Message-ID: <686ff80c.050a0220.aae95.6868SMTPIN_ADDED_MISSING@mx.google.com> Received: from [172.21.0.5] (unknown [172.18.0.240]) by postal.iol.unh.edu (Postfix) with ESMTP id C7FAA604D420; Thu, 10 Jul 2025 13:27:39 -0400 (EDT) Subject: |WARNING| pw155109 [PATCH] [v2] test_bbdev: enable to be compiled on From: dpdklab@iol.unh.edu To: Test Report Cc: dpdk-test-reports@iol.unh.edu In-Reply-To: <1752074012-14869-1-git-send-email-andremue@linux.microsoft.com> References: <1752074012-14869-1-git-send-email-andremue@linux.microsoft.com> Content-Type: text/plain X-BeenThere: test-report@dpdk.org X-Mailman-Version: 2.1.29 Precedence: list List-Id: automatic DPDK test reports List-Unsubscribe: , List-Archive: List-Post: List-Help: List-Subscribe: , Errors-To: test-report-bounces@dpdk.org Test-Label: iol-compile-amd64-testing Test-Status: WARNING http://dpdk.org/patch/155109 _Testing issues_ Submitter: Andre Muezerie Date: Wednesday, July 09 2025 15:13:32 DPDK git baseline: Repo:dpdk Branch: master CommitID:9fe9c0b231c8da5435bfccb1963121b4277f961c 155109 --> testing issues Upstream job id: Generic-DPDK-Compile-Meson#407728 Test environment and result as below: +-------------------------------+--------------------+-------------------+------------------+-------------------------+-------------------+----------------------+ | Environment | dpdk_meson_compile | dpdk_compile_spdk | dpdk_compile_ovs | dpdk_llvm_clang_compile | dpdk_msvc_compile | dpdk_mingw64_compile | +===============================+====================+===================+==================+=========================+===================+======================+ | CentOS Stream 9 | PASS | PASS | SKIPPED | SKIPPED | SKIPPED | SKIPPED | +-------------------------------+--------------------+-------------------+------------------+-------------------------+-------------------+----------------------+ | CentOS Stream 10 | PASS | SKIPPED | SKIPPED | SKIPPED | SKIPPED | SKIPPED | +-------------------------------+--------------------+-------------------+------------------+-------------------------+-------------------+----------------------+ | Fedora Linux 40 | PASS | PASS | SKIPPED | SKIPPED | SKIPPED | SKIPPED | +-------------------------------+--------------------+-------------------+------------------+-------------------------+-------------------+----------------------+ | Debian GNU/Linux 12 | PASS | PASS | SKIPPED | SKIPPED | SKIPPED | SKIPPED | +-------------------------------+--------------------+-------------------+------------------+-------------------------+-------------------+----------------------+ | Fedora Linux 41 | PASS | PASS | PASS | SKIPPED | SKIPPED | SKIPPED | +-------------------------------+--------------------+-------------------+------------------+-------------------------+-------------------+----------------------+ | openSUSE Leap 15.6 | PASS | SKIPPED | SKIPPED | SKIPPED | SKIPPED | SKIPPED | +-------------------------------+--------------------+-------------------+------------------+-------------------------+-------------------+----------------------+ | Ubuntu 24.04 | PASS | PASS | PASS | SKIPPED | SKIPPED | SKIPPED | +-------------------------------+--------------------+-------------------+------------------+-------------------------+-------------------+----------------------+ | Red Hat Enterprise Linux 8.10 | PASS | SKIPPED | SKIPPED | SKIPPED | SKIPPED | SKIPPED | +-------------------------------+--------------------+-------------------+------------------+-------------------------+-------------------+----------------------+ | Ubuntu 22.04 | PASS | PASS | SKIPPED | SKIPPED | SKIPPED | SKIPPED | +-------------------------------+--------------------+-------------------+------------------+-------------------------+-------------------+----------------------+ | Ubuntu 20.04 | PASS | SKIPPED | SKIPPED | SKIPPED | SKIPPED | SKIPPED | +-------------------------------+--------------------+-------------------+------------------+-------------------------+-------------------+----------------------+ | Alpine Linux 3.22.0 | PASS | SKIPPED | SKIPPED | SKIPPED | SKIPPED | SKIPPED | +-------------------------------+--------------------+-------------------+------------------+-------------------------+-------------------+----------------------+ | Red Hat Enterprise Linux 9.5 | PASS | SKIPPED | SKIPPED | SKIPPED | SKIPPED | SKIPPED | +-------------------------------+--------------------+-------------------+------------------+-------------------------+-------------------+----------------------+ | FreeBSD 14.2 | PASS | SKIPPED | SKIPPED | SKIPPED | SKIPPED | SKIPPED | +-------------------------------+--------------------+-------------------+------------------+-------------------------+-------------------+----------------------+ | Windows Server 2022 | SKIPPED | SKIPPED | SKIPPED | PASS | PASS | PASS | +-------------------------------+--------------------+-------------------+------------------+-------------------------+-------------------+----------------------+ CentOS Stream 9 Kernel: 5.15 Compiler: gcc gcc (GCC) 11.5.0 20240719 (Red Hat 11.5.0-7) CentOS Stream 10 Kernel: 5.15 Compiler: gcc gcc (GCC) 14.2.1 20250110 (Red Hat 14.2.1-8) Fedora Linux 40 Kernel: 5.15 Compiler: clang gcc (GCC) 14.2.1 20240912 (Red Hat 14.2.1-3) Debian GNU/Linux 12 Kernel: 5.15 Compiler: gcc gcc (Debian 12.2.0-14+deb12u1) 12.2.0 Fedora Linux 41 Kernel: 5.15 Compiler: clang gcc (GCC) 14.3.1 20250523 (Red Hat 14.3.1-1) openSUSE Leap 15.6 Kernel: 5.15 Compiler: gcc gcc (SUSE Linux) 7.5.0 Ubuntu 24.04 Kernel: 5.15 Compiler: gcc gcc (Ubuntu 13.3.0-6ubuntu2~24.04) 13.3.0 Red Hat Enterprise Linux 8.10 Kernel: 5.15 Compiler: gcc gcc (GCC) 8.5.0 20210514 (Red Hat 8.5.0-22) Ubuntu 22.04 Kernel: 5.15 Compiler: gcc gcc (Ubuntu 11.4.0-1ubuntu1~22.04) 11.4.0 Ubuntu 20.04 Kernel: 4.19 Compiler: gcc gcc (Ubuntu 9.4.0-1ubuntu1~20.04.2) 9.4.0 Alpine Linux 3.22.0 Kernel: 5.15 Compiler: gcc gcc (Alpine 14.2.0) 14.2.0 Red Hat Enterprise Linux 9.5 Kernel: 5.15 Compiler: gcc gcc (GCC) 11.5.0 20240719 (Red Hat 11.5.0-2) FreeBSD 14.2 Kernel: 14.2-RELEASE Compiler: clang 18.1.6 Windows Server 2022 Kernel: 10.0.20348.2031 Compiler: clang 15.0.7, gcc 14.1.0 (MinGW), and MSVC VS 19.39.33521 To view detailed results, visit: https://lab.dpdk.org/results/dashboard/patchsets/33628/ UNH-IOL DPDK Community Lab To manage your email subscriptions, visit: https://lab.dpdk.org/results/dashboard/preferences/subscriptions/