From mboxrd@z Thu Jan 1 00:00:00 1970 Return-Path: Received: from mails.dpdk.org (mails.dpdk.org [217.70.189.124]) by inbox.dpdk.org (Postfix) with ESMTP id E9DF446B3B for ; Thu, 10 Jul 2025 19:30:26 +0200 (CEST) Received: from mails.dpdk.org (localhost [127.0.0.1]) by mails.dpdk.org (Postfix) with ESMTP id E0DD94028B; Thu, 10 Jul 2025 19:30:26 +0200 (CEST) Received: from mail-il1-f228.google.com (mail-il1-f228.google.com [209.85.166.228]) by mails.dpdk.org (Postfix) with ESMTP id 5B0E94028B for ; Thu, 10 Jul 2025 19:30:25 +0200 (CEST) Received: by mail-il1-f228.google.com with SMTP id e9e14a558f8ab-3e058c64a76so8175895ab.0 for ; Thu, 10 Jul 2025 10:30:25 -0700 (PDT) DKIM-Signature: v=1; a=rsa-sha256; c=relaxed/relaxed; d=iol.unh.edu; s=unh-iol; t=1752168624; x=1752773424; darn=dpdk.org; h=references:in-reply-to:cc:to:from:subject:message-id:date:from:to :cc:subject:date:message-id:reply-to; bh=Q9rAZj3x9bYAfGIFNqBj8OZethoMSR7NvdIuN239m78=; b=ZB28oz0F18zYQAfQ+ZYUi0lJj1WPBcHWaixFnjDaMwH1+p6owkJqnG1fGuahty1EcU S1rVGUUAP7KduIHON5p1lNOgOiJTBEJSVMO0x7j8BqcbfhEwTNlrTLGM4WosEXK+qNFW TQmXKzdVMousxbYpCCK3AxZF7LXCcMSUpQYow= X-Google-DKIM-Signature: v=1; a=rsa-sha256; c=relaxed/relaxed; d=1e100.net; s=20230601; t=1752168624; x=1752773424; h=references:in-reply-to:cc:to:from:subject:message-id:date :x-gm-message-state:from:to:cc:subject:date:message-id:reply-to; bh=Q9rAZj3x9bYAfGIFNqBj8OZethoMSR7NvdIuN239m78=; b=H/t9YhQZP2Wy7M31RCce97fKvQ3Lpu8VO43BGAtb/xeAU3goN9JAJT7zQmsd8TwGJV 9sDVIoovCDO0ECaFV3xf1K6ebeuUgZHBYy9kngZQsTLVgWTr28XB+JGOBRdyaLKNO9/Q 8FCDZa4iDHpAIXbBTOdMFkEAOKcSQRENEtXTHNn70mxt/xr6HwSgT+YMiOAMdxD+VY1I t4fBw5fUop7c1i1owCvAK0g/dy9HGuEhYQMO2yGOAjBJkRn7EzIpSDt+NGixA9xl6BQK Vo+HXLbCrcdrNaIzR+ZVojvAiucaJ1lFJCLdYmUf1esbjyJkS8pe0qlGnyhFNsEXMTtI cP8w== X-Gm-Message-State: AOJu0YzWqKwpZgrDOt1C0Dp3qW0ypRCmXK9Jc/n8n56s3AL+Gfx7Iklp 8AmvNwWXSbQmiiWF0uFPR26otN7NZYYFAqvp7bmfNUAplAbDbnyCCAT2LcSWvgM5Z4ZzpFMYC+a vn61XoO2JvN2WSwUtl13mdgZSGSuUVtCepgGvb5WtYWAE X-Gm-Gg: ASbGncu/cxnISW0x5IwZeZmjbgF61zUlgLELhvtwWLMVhvtT+b3DAJQ4/ae1CM5szoy fX3ISiOrCsy1k/68E9xd6jaFoZQdZIcdmj879wBk2LJmtq9F/jZAAtfbg1Xk7anv4/QVqjpFBsh 3dSWKawc/GHUOz7yFxSLyKxIAOQ9SR+zwK3yeLnyrA8B8Qa/8SoDd2UC6HmmzCJvNQMIi/c54Es a45q/K+cnG5PE6h4c9N10e0z6FDj6Vf0pOKZM1bMDNLYbukDsOdG0zAsTrhu0SEgMg1SVKxPUH1 9kord1GKod998mvssrpjl5GfJFwLi7/25BZ79FZqyK1pGCP+ijSE3eJ3rUbiysQLrMELkA== X-Google-Smtp-Source: AGHT+IFkup2kagA9384huvswfRYhauL5HqxdId2S3RbBRdG1VzhDJmYwWncE4iryIZ/CcEmy3nw/oda0JZNd X-Received: by 2002:a05:6e02:74a:b0:3df:49b4:8cd6 with SMTP id e9e14a558f8ab-3e2532947bcmr3726855ab.7.1752168624559; Thu, 10 Jul 2025 10:30:24 -0700 (PDT) Received: from postal.iol.unh.edu (postal.iol.unh.edu. [132.177.123.84]) by smtp-relay.gmail.com with ESMTPS id e9e14a558f8ab-3e2460e2057sm1151345ab.2.2025.07.10.10.30.24 (version=TLS1_2 cipher=ECDHE-ECDSA-AES128-GCM-SHA256 bits=128/128); Thu, 10 Jul 2025 10:30:24 -0700 (PDT) X-Relaying-Domain: iol.unh.edu Date: Thu, 10 Jul 2025 10:30:24 -0700 (PDT) Message-ID: <686ff8b0.050a0220.338515.609fSMTPIN_ADDED_MISSING@mx.google.com> Received: from [172.21.0.7] (unknown [172.18.0.240]) by postal.iol.unh.edu (Postfix) with ESMTP id 1837F604D420; Thu, 10 Jul 2025 13:30:24 -0400 (EDT) Subject: |SUCCESS| pw155144-155141 [PATCH] [v2,6/6] net/zxdh: add support I51 From: dpdklab@iol.unh.edu To: Test Report Cc: dpdk-test-reports@iol.unh.edu In-Reply-To: <20250710105643.516329-7-wang.junlong1@zte.com.cn> References: <20250710105643.516329-7-wang.junlong1@zte.com.cn> Content-Type: text/plain X-BeenThere: test-report@dpdk.org X-Mailman-Version: 2.1.29 Precedence: list List-Id: automatic DPDK test reports List-Unsubscribe: , List-Archive: List-Post: List-Help: List-Subscribe: , Errors-To: test-report-bounces@dpdk.org Test-Label: iol-abi-testing Test-Status: SUCCESS http://dpdk.org/patch/155141 _Testing PASS_ Submitter: Junlong Wang Date: Thursday, July 10 2025 10:56:43 DPDK git baseline: Repo:dpdk Branch: master CommitID:ba982f9a1ca9b96ed0394b764f1523d482e963a2 155144-155141 --> testing pass Upstream job id: Generic-DPDK-Compile-ABI#133977 Test environment and result as below: +-------------------------------+----------+ | Environment | abi_test | +===============================+==========+ | CentOS Stream 10 | PASS | +-------------------------------+----------+ | CentOS Stream 9 | PASS | +-------------------------------+----------+ | Debian GNU/Linux 12 | PASS | +-------------------------------+----------+ | Fedora Linux 40 | PASS | +-------------------------------+----------+ | Fedora Linux 41 | PASS | +-------------------------------+----------+ | Red Hat Enterprise Linux 8.10 | PASS | +-------------------------------+----------+ | Ubuntu 22.04 | PASS | +-------------------------------+----------+ | Red Hat Enterprise Linux 9.5 | PASS | +-------------------------------+----------+ | Ubuntu 24.04 | PASS | +-------------------------------+----------+ | openSUSE Leap 15.6 | PASS | +-------------------------------+----------+ CentOS Stream 10 Kernel: 5.15 Compiler: gcc gcc (GCC) 14.2.1 20250110 (Red Hat 14.2.1-8) CentOS Stream 9 Kernel: 5.15 Compiler: gcc gcc (GCC) 11.5.0 20240719 (Red Hat 11.5.0-7) Debian GNU/Linux 12 Kernel: 5.15 Compiler: gcc gcc (Debian 12.2.0-14+deb12u1) 12.2.0 Fedora Linux 40 Kernel: 5.15 Compiler: clang gcc (GCC) 14.2.1 20240912 (Red Hat 14.2.1-3) Fedora Linux 41 Kernel: 5.15 Compiler: clang gcc (GCC) 14.3.1 20250523 (Red Hat 14.3.1-1) Red Hat Enterprise Linux 8.10 Kernel: 5.15 Compiler: gcc gcc (GCC) 8.5.0 20210514 (Red Hat 8.5.0-22) Ubuntu 22.04 Kernel: 5.15 Compiler: gcc gcc (Ubuntu 11.4.0-1ubuntu1~22.04) 11.4.0 Red Hat Enterprise Linux 9.5 Kernel: 5.15 Compiler: gcc gcc (GCC) 11.5.0 20240719 (Red Hat 11.5.0-2) Ubuntu 24.04 Kernel: 5.15 Compiler: gcc gcc (Ubuntu 13.3.0-6ubuntu2~24.04) 13.3.0 openSUSE Leap 15.6 Kernel: 5.15 Compiler: gcc gcc (SUSE Linux) 7.5.0 To view detailed results, visit: https://lab.dpdk.org/results/dashboard/patchsets/33633/ UNH-IOL DPDK Community Lab To manage your email subscriptions, visit: https://lab.dpdk.org/results/dashboard/preferences/subscriptions/