From mboxrd@z Thu Jan 1 00:00:00 1970 Return-Path: Received: from mails.dpdk.org (mails.dpdk.org [217.70.189.124]) by inbox.dpdk.org (Postfix) with ESMTP id 0753146B3B for ; Thu, 10 Jul 2025 19:30:56 +0200 (CEST) Received: from mails.dpdk.org (localhost [127.0.0.1]) by mails.dpdk.org (Postfix) with ESMTP id 0327E4028B; Thu, 10 Jul 2025 19:30:56 +0200 (CEST) Received: from mail-oi1-f227.google.com (mail-oi1-f227.google.com [209.85.167.227]) by mails.dpdk.org (Postfix) with ESMTP id A813B4028B for ; Thu, 10 Jul 2025 19:30:54 +0200 (CEST) Received: by mail-oi1-f227.google.com with SMTP id 5614622812f47-40a4bf1eb0dso599688b6e.3 for ; Thu, 10 Jul 2025 10:30:54 -0700 (PDT) DKIM-Signature: v=1; a=rsa-sha256; c=relaxed/relaxed; d=iol.unh.edu; s=unh-iol; t=1752168654; x=1752773454; darn=dpdk.org; h=references:in-reply-to:cc:to:from:subject:message-id:date:from:to :cc:subject:date:message-id:reply-to; bh=HXsmI9k3iE48HUZNPiuQZX566AGwMJ1GSRnmVIr5yoc=; b=U3ZpSG/OwqkTbNSuoNs+6S7zJdKL0AdKnPEY8lT6l4Qu3+cU5Uh00zqUjLPJ8nJ9oi WN8s1WVzTbFaOe6XrgkdOsYCTxPYPvK4MzMBy8ivwH9cxMUz+dCtiEoK0td9bhUrGLYM E3s1s/JR/j8l/xDdX3Q2VslgMutvlrT1v976s= X-Google-DKIM-Signature: v=1; a=rsa-sha256; c=relaxed/relaxed; d=1e100.net; s=20230601; t=1752168654; x=1752773454; h=references:in-reply-to:cc:to:from:subject:message-id:date :x-gm-message-state:from:to:cc:subject:date:message-id:reply-to; bh=HXsmI9k3iE48HUZNPiuQZX566AGwMJ1GSRnmVIr5yoc=; b=kVO315LNUfZKmExq7gwEqQPQyMHd12zgBTSwZi7rwb7FvkBSrgjPMfZUjt9hrzU8y/ JLScmHzdCXBMcHvv4ytrut1LrnyHs/iGQyrd050nlHn7un6A848Y52kPAmxcANsRv9pa q0Hxu2FVgxQph5PcGRAyjIGoXrCLfwE0skz+0oXN9RAr7Obe6G85YarnMRI+NEl8ywvg vTOah4/8jl/yOJvW2JecF/8ShkDpJgEHXWgkLgmjbKGa1CihmvUdDPC2VYroT/jkFlB4 lldh/nltlcaajsfawHEjjvhiJzzBP28PNDffD9awhckP3VAA6veH+ohZQ9Ovb7GsgtRN 5Fuw== X-Gm-Message-State: AOJu0Yw+mqQRRby1Ps12AF6jfivigG4Nr87CqYCOFuUI74PyX9LbQAdJ Y1l15/YPnpY4i5Bfr1P+4QiX/0l0djqB3uNoZoLyswuOftWbWV4kaBnRx44Vq76mACfnwZp+K0o KDTuf7CjTesONxB6CoRJvDjbGM4VEnPHLlsFVHCzRNooq X-Gm-Gg: ASbGncuVwCFrKpQkfpXBHvESPwplH3fONuB6H+pm9mxsFBu359aLCvKstvOaJ+U2mBY LgekTp/Gik0LWIDIkQO8iqSjENrQLWkruHqmEnE2Do0QNdxI07cpcWqePNtPyuVOAEPE6q3w+CF eLwBiz5ioKnQjJ/9sDly2fLCEwtApaXZQFx49XpF5WpN2SruMd768/7jRg+AlfBWwhCnKz+aPT8 QtltRfpiCvFfZ56NisZQA4gR60Z7ZnIFSzzoq2CzRJlTtc1096ss3x955Hoj52FaRxyVAfC73+g wQiluM9Vzj8F0L12gmeWY5fMhd0RnuRTuHA7XJtL76L6zDDjjHeFG83PIl+ksmwFxs5YdA== X-Google-Smtp-Source: AGHT+IERbRVXqeHu9/v5suOvGj6UHPh2VPLh4Z6bSu6NtZujj/oehmsJaHAganuQOK5u1emLeYvd6T1RQZhF X-Received: by 2002:a05:6808:e8c:b0:40b:3530:9c9c with SMTP id 5614622812f47-415116179eamr311362b6e.34.1752168653773; Thu, 10 Jul 2025 10:30:53 -0700 (PDT) Received: from postal.iol.unh.edu (postal.iol.unh.edu. [132.177.123.84]) by smtp-relay.gmail.com with ESMTPS id 006d021491bc7-613d9d8d1c7sm58897eaf.7.2025.07.10.10.30.53 (version=TLS1_2 cipher=ECDHE-ECDSA-AES128-GCM-SHA256 bits=128/128); Thu, 10 Jul 2025 10:30:53 -0700 (PDT) X-Relaying-Domain: iol.unh.edu Date: Thu, 10 Jul 2025 10:30:53 -0700 (PDT) Message-ID: <686ff8cd.050a0220.139a20.317dSMTPIN_ADDED_MISSING@mx.google.com> Received: from [172.21.0.6] (unknown [172.18.0.240]) by postal.iol.unh.edu (Postfix) with ESMTP id 1AAF8604D420; Thu, 10 Jul 2025 13:30:53 -0400 (EDT) Subject: |SUCCESS| pw155144-155141 [PATCH] [v2,6/6] net/zxdh: add support I51 From: dpdklab@iol.unh.edu To: Test Report Cc: dpdk-test-reports@iol.unh.edu In-Reply-To: <20250710105643.516329-7-wang.junlong1@zte.com.cn> References: <20250710105643.516329-7-wang.junlong1@zte.com.cn> Content-Type: text/plain X-BeenThere: test-report@dpdk.org X-Mailman-Version: 2.1.29 Precedence: list List-Id: automatic DPDK test reports List-Unsubscribe: , List-Archive: List-Post: List-Help: List-Subscribe: , Errors-To: test-report-bounces@dpdk.org Test-Label: iol-abi-testing Test-Status: SUCCESS http://dpdk.org/patch/155141 _Testing PASS_ Submitter: Junlong Wang Date: Thursday, July 10 2025 10:56:43 DPDK git baseline: Repo:dpdk Branch: master CommitID:ba982f9a1ca9b96ed0394b764f1523d482e963a2 155144-155141 --> testing pass Upstream job id: Generic-DPDK-Compile-ABI#133970 Test environment and result as below: +-------------------------------+----------+ | Environment | abi_test | +===============================+==========+ | CentOS Stream 10 | PASS | +-------------------------------+----------+ | CentOS Stream 9 | PASS | +-------------------------------+----------+ | Debian GNU/Linux 12 | PASS | +-------------------------------+----------+ | Fedora Linux 40 | PASS | +-------------------------------+----------+ | Fedora Linux 41 | PASS | +-------------------------------+----------+ | Red Hat Enterprise Linux 8.10 | PASS | +-------------------------------+----------+ | Ubuntu 22.04 | PASS | +-------------------------------+----------+ | Red Hat Enterprise Linux 9.5 | PASS | +-------------------------------+----------+ | Ubuntu 24.04 | PASS | +-------------------------------+----------+ | openSUSE Leap 15.6 | PASS | +-------------------------------+----------+ CentOS Stream 10 Kernel: 5.15 Compiler: gcc gcc (GCC) 14.2.1 20250110 (Red Hat 14.2.1-8) CentOS Stream 9 Kernel: 5.15 Compiler: gcc gcc (GCC) 11.5.0 20240719 (Red Hat 11.5.0-7) Debian GNU/Linux 12 Kernel: 5.15 Compiler: gcc gcc (Debian 12.2.0-14+deb12u1) 12.2.0 Fedora Linux 40 Kernel: 5.15 Compiler: clang gcc (GCC) 14.2.1 20240912 (Red Hat 14.2.1-3) Fedora Linux 41 Kernel: 5.15 Compiler: clang gcc (GCC) 14.3.1 20250523 (Red Hat 14.3.1-1) Red Hat Enterprise Linux 8.10 Kernel: 5.15 Compiler: gcc gcc (GCC) 8.5.0 20210514 (Red Hat 8.5.0-22) Ubuntu 22.04 Kernel: 5.15 Compiler: gcc gcc (Ubuntu 11.4.0-1ubuntu1~22.04) 11.4.0 Red Hat Enterprise Linux 9.5 Kernel: 5.15 Compiler: gcc gcc (GCC) 11.5.0 20240719 (Red Hat 11.5.0-2) Ubuntu 24.04 Kernel: 5.15 Compiler: gcc gcc (Ubuntu 13.3.0-6ubuntu2~24.04) 13.3.0 openSUSE Leap 15.6 Kernel: 5.15 Compiler: gcc gcc (SUSE Linux) 7.5.0 To view detailed results, visit: https://lab.dpdk.org/results/dashboard/patchsets/33633/ UNH-IOL DPDK Community Lab To manage your email subscriptions, visit: https://lab.dpdk.org/results/dashboard/preferences/subscriptions/