From mboxrd@z Thu Jan 1 00:00:00 1970 Return-Path: Received: from mails.dpdk.org (mails.dpdk.org [217.70.189.124]) by inbox.dpdk.org (Postfix) with ESMTP id 1305446B3B for ; Thu, 10 Jul 2025 19:31:02 +0200 (CEST) Received: from mails.dpdk.org (localhost [127.0.0.1]) by mails.dpdk.org (Postfix) with ESMTP id 0D7BC4028B; Thu, 10 Jul 2025 19:31:02 +0200 (CEST) Received: from mail-vk1-f228.google.com (mail-vk1-f228.google.com [209.85.221.228]) by mails.dpdk.org (Postfix) with ESMTP id 6A8904028B for ; Thu, 10 Jul 2025 19:31:00 +0200 (CEST) Received: by mail-vk1-f228.google.com with SMTP id 71dfb90a1353d-532d498eb95so531244e0c.1 for ; Thu, 10 Jul 2025 10:31:00 -0700 (PDT) DKIM-Signature: v=1; a=rsa-sha256; c=relaxed/relaxed; d=iol.unh.edu; s=unh-iol; t=1752168660; x=1752773460; darn=dpdk.org; h=references:in-reply-to:cc:to:from:subject:message-id:date:from:to :cc:subject:date:message-id:reply-to; bh=wG+kNgnXUlj/SP/TPeChyuMazT0MHovvgmJmy0TaCr4=; b=egRYqgp690ohdQphowKvRzX+EL60R220k/eTigZgsbjhiUet2j7KRWckSQ4u6Gqywb IlLGhErm2ts0fJrvohvwHw2CoHM1JO2Q1ARuxlj78XnSnP7LnLcL/DwIodsr+Oh4RRH1 Gh4gn4BB2jtrTnASgJS6vihmU6Yh2XFKqzZV8= X-Google-DKIM-Signature: v=1; a=rsa-sha256; c=relaxed/relaxed; d=1e100.net; s=20230601; t=1752168660; x=1752773460; h=references:in-reply-to:cc:to:from:subject:message-id:date :x-gm-message-state:from:to:cc:subject:date:message-id:reply-to; bh=wG+kNgnXUlj/SP/TPeChyuMazT0MHovvgmJmy0TaCr4=; b=lLaJ96YXS5AulPzOxhLWnYJxrUJ8h50PO33MREVz33+PREh99F/qjWVH5qDAK7snn+ 8ZgJhsuwaZQiTNqdZsufUXG7ovMhNStJmXmsTTGdAbZDJlY9uN75PR6BUJ+abO7OPAl6 DORGz1Dmd4Pa8eRxTZxfSZ+DnZ5GwgQ7L7DRAWTD7xVx1m9hT/478bkMezWcjBezNyQP u1xpWvutJLnLs8cE+QSuPSD105nrtWsjpdG0dRapMnOBQQwux1aJ224GWS2Gs9dGFF4g pRzE/fTxRQGtBPi1I0dISMIqKT+1iBVaILkHhLeJ6aSt6mjlRFxC4D5+Bn+rJcNf0CZ5 ixGg== X-Gm-Message-State: AOJu0YxTh3WpqoheJMYHVqtq48Jllskrkv4Q2aHS4KjMkyy+MMYdFljB lmXUQSGAwDWQbWyActVtGLpS+wj3IOx32kh++jTJ4iOpFMw1bv7HdKE3aw3u+8PSGsSBIVHD4ag Y6qtKNLhX1p2J1uiHJiLnTFyCk4pQFsmP1U/fwqqr9KqF X-Gm-Gg: ASbGnctnkR4PXRlM7tDlLtXihrhdXvz5f6ohhEyRLe3lhlDP4gxa49Z7/zsBzUePDMM hjou1/flkNti0RXY1MQR7pv9E1ntmDK1VT0HOgW84BeRYoFKrZdXO2Eu0QypJokndQ0JNdhpzzi 8SRxVxcixOtWdKmhfg7J0O0QbjTyt41vqdGFTPQJGqMyL3+n/tDU8eejpsnGm5X0RavJjXgssa5 kyq0ufg8ABo18hfPN9sGtFpzUObkZmRcvNer/R3IqHdxlJ9WeGYeZPIegZd36TR1DVjMnzSL9lQ f5chvejILu70JGauIR3VJBHHdPDIlxO786xcpi6XA5HI4MZ0C9P3PsWt6r89jOJaUaedhw== X-Google-Smtp-Source: AGHT+IEUaQV0otaFh5s/a97dQQO1bQa1fzBV2yl6Um0Hs3XWDK6EaJXFJdxN63fs8fR1CL88bfLuAn6NM/Os X-Received: by 2002:a05:6122:659c:b0:52f:47de:3700 with SMTP id 71dfb90a1353d-535e3d00f28mr4065916e0c.5.1752168659696; Thu, 10 Jul 2025 10:30:59 -0700 (PDT) Received: from postal.iol.unh.edu (postal.iol.unh.edu. [132.177.123.84]) by smtp-relay.gmail.com with ESMTPS id 6a1803df08f44-70497d9eebasm948836d6.58.2025.07.10.10.30.59 (version=TLS1_2 cipher=ECDHE-ECDSA-AES128-GCM-SHA256 bits=128/128); Thu, 10 Jul 2025 10:30:59 -0700 (PDT) X-Relaying-Domain: iol.unh.edu Date: Thu, 10 Jul 2025 10:30:59 -0700 (PDT) Message-ID: <686ff8d3.d40a0220.16182a.51e3SMTPIN_ADDED_MISSING@mx.google.com> Received: from [172.21.0.7] (unknown [172.18.0.240]) by postal.iol.unh.edu (Postfix) with ESMTP id 72EA7604D420; Thu, 10 Jul 2025 13:30:59 -0400 (EDT) Subject: |SUCCESS| pw155144-155141 [PATCH] [v2,6/6] net/zxdh: add support I51 From: dpdklab@iol.unh.edu To: Test Report Cc: dpdk-test-reports@iol.unh.edu In-Reply-To: <20250710105643.516329-7-wang.junlong1@zte.com.cn> References: <20250710105643.516329-7-wang.junlong1@zte.com.cn> Content-Type: text/plain X-BeenThere: test-report@dpdk.org X-Mailman-Version: 2.1.29 Precedence: list List-Id: automatic DPDK test reports List-Unsubscribe: , List-Archive: List-Post: List-Help: List-Subscribe: , Errors-To: test-report-bounces@dpdk.org Test-Label: iol-unit-amd64-testing Test-Status: SUCCESS http://dpdk.org/patch/155141 _Testing PASS_ Submitter: Junlong Wang Date: Thursday, July 10 2025 10:56:43 DPDK git baseline: Repo:dpdk Branch: master CommitID:ba982f9a1ca9b96ed0394b764f1523d482e963a2 155144-155141 --> testing pass Upstream job id: Generic-VM-Unit-Test-DPDK#29880 Test environment and result as below: +-------------------------------+----------------+ | Environment | dpdk_unit_test | +===============================+================+ | CentOS Stream 9 | PASS | +-------------------------------+----------------+ | Debian GNU/Linux 12 | PASS | +-------------------------------+----------------+ | CentOS Stream 10 | PASS | +-------------------------------+----------------+ | Fedora Linux 40 | PASS | +-------------------------------+----------------+ | Fedora Linux 41 | PASS | +-------------------------------+----------------+ | Ubuntu 20.04 | PASS | +-------------------------------+----------------+ | Red Hat Enterprise Linux 9.5 | PASS | +-------------------------------+----------------+ | Red Hat Enterprise Linux 8.10 | PASS | +-------------------------------+----------------+ | Ubuntu 24.04 | PASS | +-------------------------------+----------------+ | Ubuntu 22.04 | PASS | +-------------------------------+----------------+ | Windows Server 2022 | PASS | +-------------------------------+----------------+ CentOS Stream 9 Kernel: 5.15 Compiler: gcc gcc (GCC) 11.5.0 20240719 (Red Hat 11.5.0-7) Debian GNU/Linux 12 Kernel: 5.15 Compiler: gcc gcc (Debian 12.2.0-14+deb12u1) 12.2.0 CentOS Stream 10 Kernel: 5.15 Compiler: gcc gcc (GCC) 14.2.1 20250110 (Red Hat 14.2.1-8) Fedora Linux 40 Kernel: 5.15 Compiler: gcc gcc (GCC) 14.2.1 20240912 (Red Hat 14.2.1-3) Fedora Linux 41 Kernel: 5.15 Compiler: gcc gcc (GCC) 14.3.1 20250523 (Red Hat 14.3.1-1) Ubuntu 20.04 Kernel: 5.15 Compiler: gcc gcc (Ubuntu 9.4.0-1ubuntu1~20.04.2) 9.4.0 Red Hat Enterprise Linux 9.5 Kernel: 5.15 Compiler: gcc gcc (GCC) 11.5.0 20240719 (Red Hat 11.5.0-2) Red Hat Enterprise Linux 8.10 Kernel: 5.15 Compiler: gcc gcc (GCC) 8.5.0 20210514 (Red Hat 8.5.0-22) Ubuntu 24.04 Kernel: 5.15 Compiler: gcc gcc (Ubuntu 13.3.0-6ubuntu2~24.04) 13.3.0 Ubuntu 22.04 Kernel: 5.15 Compiler: gcc gcc (Ubuntu 11.4.0-1ubuntu1~22.04) 11.4.0 Windows Server 2022 Kernel: 10.0.20348.2031 Compiler: clang 15.0.7, gcc 14.1.0 (MinGW), and MSVC VS 19.39.33521 To view detailed results, visit: https://lab.dpdk.org/results/dashboard/patchsets/33633/ UNH-IOL DPDK Community Lab To manage your email subscriptions, visit: https://lab.dpdk.org/results/dashboard/preferences/subscriptions/