From mboxrd@z Thu Jan 1 00:00:00 1970 Return-Path: Received: from mails.dpdk.org (mails.dpdk.org [217.70.189.124]) by inbox.dpdk.org (Postfix) with ESMTP id 1A6A946B3B for ; Thu, 10 Jul 2025 19:31:07 +0200 (CEST) Received: from mails.dpdk.org (localhost [127.0.0.1]) by mails.dpdk.org (Postfix) with ESMTP id 160064028B; Thu, 10 Jul 2025 19:31:07 +0200 (CEST) Received: from mail-pl1-f225.google.com (mail-pl1-f225.google.com [209.85.214.225]) by mails.dpdk.org (Postfix) with ESMTP id A1ACF4028B for ; Thu, 10 Jul 2025 19:31:05 +0200 (CEST) Received: by mail-pl1-f225.google.com with SMTP id d9443c01a7336-23602481460so13250515ad.0 for ; Thu, 10 Jul 2025 10:31:05 -0700 (PDT) DKIM-Signature: v=1; a=rsa-sha256; c=relaxed/relaxed; d=iol.unh.edu; s=unh-iol; t=1752168665; x=1752773465; darn=dpdk.org; h=references:in-reply-to:cc:to:from:subject:message-id:date:from:to :cc:subject:date:message-id:reply-to; bh=hGX/wolBeqHAJ6QtMLyPqn1MUI9OW4d5UGEMLsgLzww=; b=GbH+VztCA1B/c1KBTWc0zcCKj406pvwUcapkx/Yga6ZVlIYyki7/gHgdfz3yLOlp5s lmbfOCrmjtNt7WRtKrBqlRxLVDgZYKAQTVRMRFoJwOYakmyqN0NGaygNfGHu3kStJ9nm cFfvJYKlyeJQPNPpJyxpezHYSvLsXmTfMzHrI= X-Google-DKIM-Signature: v=1; a=rsa-sha256; c=relaxed/relaxed; d=1e100.net; s=20230601; t=1752168665; x=1752773465; h=references:in-reply-to:cc:to:from:subject:message-id:date :x-gm-message-state:from:to:cc:subject:date:message-id:reply-to; bh=hGX/wolBeqHAJ6QtMLyPqn1MUI9OW4d5UGEMLsgLzww=; b=wu7b96fxuiGead7CXwfwcJ6ZPhRumtzfjYbN0/N9oVTcQjhLqOuxxMXuAd/0ADu7b5 Febha8LbX6aCB/CMT/DAS06Wle6SWFfjh4KX0LBRi0Dgsjy8K/ootVMOtvEC47z5jncM PfDXyVo8EVhzTh1MuuKiT/uoct8yXSdqPRV2de7XkF0rM2zil7BDrYAHias2lUx7GFG9 EixZLZx+9koNgZHYsSt2k+P49Mw/j2Y8T8Wr7TIFX3dScLoMjLBMeuIH3b2n/GpHYsrS lJYLIwYNiytNc3oQCOctZhDEuTIHc8Ezwsr1BV7izlTVFG3LME2/i3Nq7Wn81agYX/Dy 5Yiw== X-Gm-Message-State: AOJu0Yynmf3FgO79OzU4mFvZCVivGAFt3D0/BtOkxOrSyKRmAgNHFHeO /Oq8R9Hmb+/7PtHIhie4fm88t2O6BkbnxBwAlnzpS7Kl+5qpF3bXgP2vxQlyjDBSYwFFyQsOD/R NYSyFg8jDgrTzksgP4IJf/KJ2WTbg15y6UVNXCgc0eDoXGDQ5ODNV2kRWS+7P X-Gm-Gg: ASbGncvGF2ObJ1KN2G7IwSF+9u4ZA9TH+E7QcWJKkOnpGPP3efcfvu4MYNVKWv5Bg4Y Oi394wE+AIw+nC1wXze9nSUOG7yp2OEXcTTDiva1/ewAH456ZT1JCfJmG/sLZGYmBT4W+bVmRzG oUkqPXcu2RlfYMsrhJKc8tUfRb4N+N5DenVKxYBbTPsHDvIbVAawiEt9NUnYoWtOsjTnWQtAznZ D6o5Zqg80g4plPemhAsc0Su1E5baSO03WyyX7dzVe0hV7t1WZYlbtfj1T+YcA3HASGK1o+PV5/I dfMIAHFPHS3M9I4xHKTJszRZ7k6wNZ+VMfQFl2YjCq2q9/U= X-Google-Smtp-Source: AGHT+IG0cozL8Ya0UJe5N6aRzw5CywN/fVDqPVNGLywPvQkc0znpLsJx9zchdWevVamLBIel3HrMpO/ZgLyM X-Received: by 2002:a17:903:4b2f:b0:23d:d0e7:754b with SMTP id d9443c01a7336-23dede4640emr1558385ad.18.1752168664737; Thu, 10 Jul 2025 10:31:04 -0700 (PDT) Received: from postal.iol.unh.edu (postal.iol.unh.edu. [2606:4100:3880:1234::84]) by smtp-relay.gmail.com with ESMTPS id d9443c01a7336-23de4320c70sm982505ad.78.2025.07.10.10.31.04 (version=TLS1_2 cipher=ECDHE-ECDSA-AES128-GCM-SHA256 bits=128/128); Thu, 10 Jul 2025 10:31:04 -0700 (PDT) X-Relaying-Domain: iol.unh.edu Date: Thu, 10 Jul 2025 10:31:04 -0700 (PDT) Message-ID: <686ff8d8.170a0220.8227a.53d1SMTPIN_ADDED_MISSING@mx.google.com> Received: from [172.21.0.8] (unknown [172.18.0.240]) by postal.iol.unh.edu (Postfix) with ESMTP id EDF42604D420; Thu, 10 Jul 2025 13:31:03 -0400 (EDT) Subject: |SUCCESS| pw155144-155141 [PATCH] [v2,6/6] net/zxdh: add support I51 From: dpdklab@iol.unh.edu To: Test Report Cc: dpdk-test-reports@iol.unh.edu In-Reply-To: <20250710105643.516329-7-wang.junlong1@zte.com.cn> References: <20250710105643.516329-7-wang.junlong1@zte.com.cn> Content-Type: text/plain X-BeenThere: test-report@dpdk.org X-Mailman-Version: 2.1.29 Precedence: list List-Id: automatic DPDK test reports List-Unsubscribe: , List-Archive: List-Post: List-Help: List-Subscribe: , Errors-To: test-report-bounces@dpdk.org Test-Label: iol-unit-amd64-testing Test-Status: SUCCESS http://dpdk.org/patch/155141 _Testing PASS_ Submitter: Junlong Wang Date: Thursday, July 10 2025 10:56:43 DPDK git baseline: Repo:dpdk Branch: master CommitID:ba982f9a1ca9b96ed0394b764f1523d482e963a2 155144-155141 --> testing pass Upstream job id: Generic-Unit-Test-DPDK#354589 Test environment and result as below: +-------------------------------+----------------+ | Environment | dpdk_unit_test | +===============================+================+ | CentOS Stream 9 | PASS | +-------------------------------+----------------+ | Debian GNU/Linux 12 | PASS | +-------------------------------+----------------+ | CentOS Stream 10 | PASS | +-------------------------------+----------------+ | Fedora Linux 40 | PASS | +-------------------------------+----------------+ | Fedora Linux 41 | PASS | +-------------------------------+----------------+ | Ubuntu 20.04 | PASS | +-------------------------------+----------------+ | Red Hat Enterprise Linux 9.5 | PASS | +-------------------------------+----------------+ | Red Hat Enterprise Linux 8.10 | PASS | +-------------------------------+----------------+ | Ubuntu 24.04 | PASS | +-------------------------------+----------------+ | Ubuntu 22.04 | PASS | +-------------------------------+----------------+ | Windows Server 2022 | PASS | +-------------------------------+----------------+ CentOS Stream 9 Kernel: 5.15 Compiler: gcc gcc (GCC) 11.5.0 20240719 (Red Hat 11.5.0-7) Debian GNU/Linux 12 Kernel: 5.15 Compiler: gcc gcc (Debian 12.2.0-14+deb12u1) 12.2.0 CentOS Stream 10 Kernel: 5.15 Compiler: gcc gcc (GCC) 14.2.1 20250110 (Red Hat 14.2.1-8) Fedora Linux 40 Kernel: 5.15 Compiler: gcc gcc (GCC) 14.2.1 20240912 (Red Hat 14.2.1-3) Fedora Linux 41 Kernel: 5.15 Compiler: gcc gcc (GCC) 14.3.1 20250523 (Red Hat 14.3.1-1) Ubuntu 20.04 Kernel: 5.15 Compiler: gcc gcc (Ubuntu 9.4.0-1ubuntu1~20.04.2) 9.4.0 Red Hat Enterprise Linux 9.5 Kernel: 5.15 Compiler: gcc gcc (GCC) 11.5.0 20240719 (Red Hat 11.5.0-2) Red Hat Enterprise Linux 8.10 Kernel: 5.15 Compiler: gcc gcc (GCC) 8.5.0 20210514 (Red Hat 8.5.0-22) Ubuntu 24.04 Kernel: 5.15 Compiler: gcc gcc (Ubuntu 13.3.0-6ubuntu2~24.04) 13.3.0 Ubuntu 22.04 Kernel: 5.15 Compiler: gcc gcc (Ubuntu 11.4.0-1ubuntu1~22.04) 11.4.0 Windows Server 2022 Kernel: 10.0.20348.2031 Compiler: clang 15.0.7, gcc 14.1.0 (MinGW), and MSVC VS 19.39.33521 To view detailed results, visit: https://lab.dpdk.org/results/dashboard/patchsets/33633/ UNH-IOL DPDK Community Lab To manage your email subscriptions, visit: https://lab.dpdk.org/results/dashboard/preferences/subscriptions/