From mboxrd@z Thu Jan 1 00:00:00 1970 Return-Path: Received: from mails.dpdk.org (mails.dpdk.org [217.70.189.124]) by inbox.dpdk.org (Postfix) with ESMTP id 9954B46B3B for ; Thu, 10 Jul 2025 19:47:42 +0200 (CEST) Received: from mails.dpdk.org (localhost [127.0.0.1]) by mails.dpdk.org (Postfix) with ESMTP id 728C34028B; Thu, 10 Jul 2025 19:47:42 +0200 (CEST) Received: from mail-io1-f100.google.com (mail-io1-f100.google.com [209.85.166.100]) by mails.dpdk.org (Postfix) with ESMTP id 031064028B for ; Thu, 10 Jul 2025 19:47:40 +0200 (CEST) Received: by mail-io1-f100.google.com with SMTP id ca18e2360f4ac-8733548c627so47187639f.3 for ; Thu, 10 Jul 2025 10:47:40 -0700 (PDT) DKIM-Signature: v=1; a=rsa-sha256; c=relaxed/relaxed; d=iol.unh.edu; s=unh-iol; t=1752169660; x=1752774460; darn=dpdk.org; h=references:in-reply-to:cc:to:from:subject:message-id:date:from:to :cc:subject:date:message-id:reply-to; bh=umoDLbM61iIfP4DEI3Kyvw9uvH6s87OAwW/m03GQJow=; b=QvO1tIlb47VQnBWOLlN4K1ASqZo3BlHvHqjWYxoUfti3OTtgCJPiQrgx+MlgaRaQ+g zPQGUTyZn4O1rrLVtmVX+kRD9dGax4RGcF5qnCjWRs8/T+CfnNT3C5gL2gtiikwWKZtT uJujlJvO6+PkVpdcbKBYuLXp3vnAdpi6JqDLw= X-Google-DKIM-Signature: v=1; a=rsa-sha256; c=relaxed/relaxed; d=1e100.net; s=20230601; t=1752169660; x=1752774460; h=references:in-reply-to:cc:to:from:subject:message-id:date :x-gm-message-state:from:to:cc:subject:date:message-id:reply-to; bh=umoDLbM61iIfP4DEI3Kyvw9uvH6s87OAwW/m03GQJow=; b=YC4v5U97CkxkXc6Q406xC5I7SW1Do6Kr8jlT5stCtx5gQPXk4OmvI7xMtjWYDS2udr 8OuOqVOq5iiawzf41dEsbix+UnSgavdRkOtQLoyUYYtbKqOat9aOMbdwsyni+VMFVJ41 2AbG/vu6RDh6O3aMkAIibYnHEHiuiBPOQfppW2MWxuTO8ilgwiNPz6HaAvFUKB3ZowJh E7a6m/7w+A6PDPbXN39oc1mnzSFUDbWPf2jYM3XOS1m3IBb1TkLa/bb6xfdyjLtD0gGf LjPJnRUUZFmKHfRHiOC16VMkQjb0MO6xTZcnZAnWY7aK/gMJKXRYRPWeBAUvCfi1SKRu qSCg== X-Gm-Message-State: AOJu0Yw2KXPxuOBzP0DRx6UeJ7L+a3fqJHVRe2pB0VfEjr3xQmovC20f Yo9dUbtyGx7GhzA8SxH5keL4aZJs3HP49P2xcbnBajrhSszL/y0tBTEKyQr/bLzHAS0yoNWzxEd 8S72U9MozdlbvhIoVqzaMbtSOyE2rwo/+BZSwpZt+tlkRgQcQ5bP2GqOKs8Wo X-Gm-Gg: ASbGncvcXMsA5l93vZsu0fGRiRius1Dbv+9RgfG35F+KUv7hgisRtZ1AGCptjSKNWfi SOeyT/bOA3I0eW+01+C1VYr/bM8nN+PlfewGXkA999u0sGhmf0wXs8Z0RBgc6DLvGcgBlIyVZZ5 aHhJ6ZPa3m2FYIkTLVnZJLhDuaaTxzmmSpW2G1IRA9PWScKx5ceDwk+DbfJFSiN4Aaet11re1g/ 8m5mvDN/gUdfqxcuTlu2Uv0CSunQvhgCBi7L7j3f57Xg+4rnr2sFIkzzgkWRW9NtmReOXjXYbax NJ67amUPd+UAfoFFAaKy0APtCrj3OXWZegmcrf09Du7gD90= X-Google-Smtp-Source: AGHT+IEvGO/lcWUncR32GUwsFoD7LOpM3ztQLTADf78zxOzJnHjvGO27O4NnAJqu7VexQzXDzFy3brwIQmMF X-Received: by 2002:a05:6e02:b2d:b0:3df:4eb6:d04e with SMTP id e9e14a558f8ab-3e253342979mr3925815ab.22.1752169660253; Thu, 10 Jul 2025 10:47:40 -0700 (PDT) Received: from postal.iol.unh.edu (postal.iol.unh.edu. [2606:4100:3880:1234::84]) by smtp-relay.gmail.com with ESMTPS id e9e14a558f8ab-3e2460e2a7esm1214255ab.10.2025.07.10.10.47.40 (version=TLS1_2 cipher=ECDHE-ECDSA-AES128-GCM-SHA256 bits=128/128); Thu, 10 Jul 2025 10:47:40 -0700 (PDT) X-Relaying-Domain: iol.unh.edu Date: Thu, 10 Jul 2025 10:47:40 -0700 (PDT) Message-ID: <686ffcbc.050a0220.1925a8.6946SMTPIN_ADDED_MISSING@mx.google.com> Received: from [172.21.0.5] (unknown [172.18.0.240]) by postal.iol.unh.edu (Postfix) with ESMTP id DCD43604D420; Thu, 10 Jul 2025 13:47:39 -0400 (EDT) Subject: |SUCCESS| pw155144-155141 [PATCH] [v2,6/6] net/zxdh: add support I51 From: dpdklab@iol.unh.edu To: Test Report Cc: dpdk-test-reports@iol.unh.edu In-Reply-To: <20250710105643.516329-7-wang.junlong1@zte.com.cn> References: <20250710105643.516329-7-wang.junlong1@zte.com.cn> Content-Type: text/plain X-BeenThere: test-report@dpdk.org X-Mailman-Version: 2.1.29 Precedence: list List-Id: automatic DPDK test reports List-Unsubscribe: , List-Archive: List-Post: List-Help: List-Subscribe: , Errors-To: test-report-bounces@dpdk.org Test-Label: iol-unit-arm64-testing Test-Status: SUCCESS http://dpdk.org/patch/155141 _Testing PASS_ Submitter: Junlong Wang Date: Thursday, July 10 2025 10:56:43 DPDK git baseline: Repo:dpdk Branch: master CommitID:ba982f9a1ca9b96ed0394b764f1523d482e963a2 155144-155141 --> testing pass Upstream job id: Generic-Unit-Test-DPDK#354592 Test environment and result as below: +------------------------------+--------------+------------------------------+---------------------------+----------------+ | Environment | lpm_autotest | cryptodev_sw_snow3g_autotest | cryptodev_sw_zuc_autotest | dpdk_unit_test | +==============================+==============+==============================+===========================+================+ | Ubuntu 20.04 | PASS | SKIPPED | SKIPPED | PASS | +------------------------------+--------------+------------------------------+---------------------------+----------------+ | Debian 12 (arm) | SKIPPED | PASS | PASS | SKIPPED | +------------------------------+--------------+------------------------------+---------------------------+----------------+ | CentOS Stream 9 | SKIPPED | SKIPPED | SKIPPED | PASS | +------------------------------+--------------+------------------------------+---------------------------+----------------+ | Debian GNU/Linux 12 | SKIPPED | SKIPPED | SKIPPED | PASS | +------------------------------+--------------+------------------------------+---------------------------+----------------+ | CentOS Stream 10 | SKIPPED | SKIPPED | SKIPPED | PASS | +------------------------------+--------------+------------------------------+---------------------------+----------------+ | Fedora Linux 41 | SKIPPED | SKIPPED | SKIPPED | PASS | +------------------------------+--------------+------------------------------+---------------------------+----------------+ | Fedora Linux 40 | SKIPPED | SKIPPED | SKIPPED | PASS | +------------------------------+--------------+------------------------------+---------------------------+----------------+ | Ubuntu 22.04 | SKIPPED | SKIPPED | SKIPPED | PASS | +------------------------------+--------------+------------------------------+---------------------------+----------------+ | Red Hat Enterprise Linux 9.5 | SKIPPED | SKIPPED | SKIPPED | PASS | +------------------------------+--------------+------------------------------+---------------------------+----------------+ | Ubuntu 24.04 | SKIPPED | SKIPPED | SKIPPED | PASS | +------------------------------+--------------+------------------------------+---------------------------+----------------+ Ubuntu 20.04 Kernel: 5.4 Compiler: gcc gcc (Ubuntu 9.4.0-1ubuntu1~20.04.2) 9.4.0 Debian 12 (arm) Kernel: Depends on container host Compiler: gcc (Debian 12.2.0-14) 12.2.0 CentOS Stream 9 Kernel: 5.4 Compiler: gcc gcc (GCC) 11.5.0 20240719 (Red Hat 11.5.0-7) Debian GNU/Linux 12 Kernel: 5.4 Compiler: gcc gcc (Debian 12.2.0-14+deb12u1) 12.2.0 CentOS Stream 10 Kernel: 5.4 Compiler: gcc gcc (GCC) 14.2.1 20250110 (Red Hat 14.2.1-8) Fedora Linux 41 Kernel: 5.4 Compiler: gcc gcc (GCC) 14.3.1 20250523 (Red Hat 14.3.1-1) Fedora Linux 40 Kernel: 5.4 Compiler: gcc gcc (GCC) 14.2.1 20240912 (Red Hat 14.2.1-3) Ubuntu 22.04 Kernel: 5.4 Compiler: gcc gcc (Ubuntu 11.4.0-1ubuntu1~22.04) 11.4.0 Red Hat Enterprise Linux 9.5 Kernel: 5.4 Compiler: gcc gcc (GCC) 11.5.0 20240719 (Red Hat 11.5.0-2) Ubuntu 24.04 Kernel: 5.4 Compiler: gcc gcc (Ubuntu 13.3.0-6ubuntu2~24.04) 13.3.0 To view detailed results, visit: https://lab.dpdk.org/results/dashboard/patchsets/33633/ UNH-IOL DPDK Community Lab To manage your email subscriptions, visit: https://lab.dpdk.org/results/dashboard/preferences/subscriptions/