From mboxrd@z Thu Jan 1 00:00:00 1970 Return-Path: Received: from mails.dpdk.org (mails.dpdk.org [217.70.189.124]) by inbox.dpdk.org (Postfix) with ESMTP id 65FAC46B3C for ; Thu, 10 Jul 2025 20:41:47 +0200 (CEST) Received: from mails.dpdk.org (localhost [127.0.0.1]) by mails.dpdk.org (Postfix) with ESMTP id 5E1A84028B; Thu, 10 Jul 2025 20:41:47 +0200 (CEST) Received: from mail-il1-f228.google.com (mail-il1-f228.google.com [209.85.166.228]) by mails.dpdk.org (Postfix) with ESMTP id B1E194028B for ; Thu, 10 Jul 2025 20:41:46 +0200 (CEST) Received: by mail-il1-f228.google.com with SMTP id e9e14a558f8ab-3ddda0a8ba2so9654835ab.0 for ; Thu, 10 Jul 2025 11:41:46 -0700 (PDT) DKIM-Signature: v=1; a=rsa-sha256; c=relaxed/relaxed; d=iol.unh.edu; s=unh-iol; t=1752172906; x=1752777706; darn=dpdk.org; h=references:in-reply-to:cc:to:from:subject:message-id:date:from:to :cc:subject:date:message-id:reply-to; bh=oT0ncJATqFyRejza4qG4QE/DAtrmoW4uH9YRIJ0qtFM=; b=XMG+2UkQUQ73i16JjwWBy9XVZfX2nMEnl7ETC4lpd+k8xECsolp5dm4M9PLQMrhvP7 ftB0MX6fuD1iZux6/+BFO6Kzsc8VyeVVt6qR4C/Qwbt0rNPU/j4MHsSarHYktmI9Cd44 sx9rK5AcD4xNY1l5pH0eoFxI32SSvPP29dgNg= X-Google-DKIM-Signature: v=1; a=rsa-sha256; c=relaxed/relaxed; d=1e100.net; s=20230601; t=1752172906; x=1752777706; h=references:in-reply-to:cc:to:from:subject:message-id:date :x-gm-message-state:from:to:cc:subject:date:message-id:reply-to; bh=oT0ncJATqFyRejza4qG4QE/DAtrmoW4uH9YRIJ0qtFM=; b=JQeNRXOneEBsLSt1P0Omwk6/oPPhyEBHH35/6Rqg92wgu+qJsC4NLNmmowdOI1L/qV Waiz6Zl5Mm6KD5e+EyjPixEsQJvejW8EpBGrZjMxhG7iz+NFaH07dBN1squogJOLArcN v2DbpaNLbuvxz4J4pImFJxQghdS3jID08nNbWEl39XlJDBBhUa1Npqz7S7l7efqUfO9S wwxpZ+dow1bt4AxLA2SL8ocVD+OjGtfEZYt0AkS/guUYtOuapSeXupKb5Mi9tD1cXRQX 6fEMmw4QjdSHkQyX/E1l6SYwDsLk1/iNuHGLqktHPqUeVRLIDl5kt75G+NnjdAoxvR6b 3jCg== X-Gm-Message-State: AOJu0YywNvAVFFF4wObSFx9+8xTUkp/np2Kh1sedhEpTzdvFNS+G0IAr BFntFsfZkySlaG1hIM8lTZ7CW6buIgRVeQjPc0Ovf3IWqBEFJIIWFT5DSc0w0HmzU84nfcSqkCy 3BR5wjLUKnamJHrgNW1x7A2lKkGc3mk2IhtmhdQeopGFL X-Gm-Gg: ASbGncs0K4r2OXY/eUZcCWw+HfHjXZ5Fqkqujiyo00wW5dIeb9gkGKnDszkeqW3JqW7 gc4jbCzs+yn5K/3pJTIZowVolnBR3RfQZ8dsOM2jTAXAjae98vHgw29A0WT2gkc77jgJi/8nY+E hbo+25AesxvohnkOtt28BwAq+b+NVcmxMG/+60VMLYI5lwD1NfyPhUhPkUnyzdcRD4/BW6GK2+v K4lKT703WfHPKqWrGB2oE8ZJTT1SMexHcx021469sVYpDj3faDeYxG74xdwrxF6uqWScoxW/jjh C95pB+mF8ZVJhMLtgzwYOW4mS4s2nPoQCzPI3d65WUImLNf+/QdfcaEgqhHfFkLaN7pHRA== X-Google-Smtp-Source: AGHT+IHiay3+c0Pfyor11SKWe4Uan2ZfKGIZyEhM5KldmsaKi+MUN80rsTZMod2gXKWWFqUjbkGDtlIrEIT+ X-Received: by 2002:a05:6e02:3804:b0:3df:3464:ab86 with SMTP id e9e14a558f8ab-3e2532a69f2mr6289395ab.9.1752172905774; Thu, 10 Jul 2025 11:41:45 -0700 (PDT) Received: from postal.iol.unh.edu (postal.iol.unh.edu. [132.177.123.84]) by smtp-relay.gmail.com with ESMTPS id 8926c6da1cb9f-50556754a0asm85225173.40.2025.07.10.11.41.45 (version=TLS1_2 cipher=ECDHE-ECDSA-AES128-GCM-SHA256 bits=128/128); Thu, 10 Jul 2025 11:41:45 -0700 (PDT) X-Relaying-Domain: iol.unh.edu Date: Thu, 10 Jul 2025 11:41:45 -0700 (PDT) Message-ID: <68700969.050a0220.369ad3.4b73SMTPIN_ADDED_MISSING@mx.google.com> Received: from [172.21.0.6] (unknown [172.18.0.240]) by postal.iol.unh.edu (Postfix) with ESMTP id 668E0604D420; Thu, 10 Jul 2025 14:41:45 -0400 (EDT) Subject: |WARNING| pw155144-155141 [PATCH] [v2,6/6] net/zxdh: add support I51 From: dpdklab@iol.unh.edu To: Test Report Cc: dpdk-test-reports@iol.unh.edu In-Reply-To: <20250710105643.516329-7-wang.junlong1@zte.com.cn> References: <20250710105643.516329-7-wang.junlong1@zte.com.cn> Content-Type: text/plain X-BeenThere: test-report@dpdk.org X-Mailman-Version: 2.1.29 Precedence: list List-Id: automatic DPDK test reports List-Unsubscribe: , List-Archive: List-Post: List-Help: List-Subscribe: , Errors-To: test-report-bounces@dpdk.org Test-Label: iol-compile-amd64-testing Test-Status: WARNING http://dpdk.org/patch/155141 _Testing issues_ Submitter: Junlong Wang Date: Thursday, July 10 2025 10:56:43 DPDK git baseline: Repo:dpdk Branch: master CommitID:ba982f9a1ca9b96ed0394b764f1523d482e963a2 155144-155141 --> testing issues Upstream job id: Generic-DPDK-Compile-Meson#407741 Test environment and result as below: +-------------------------------+--------------------+-------------------+------------------+-------------------+-------------------------+----------------------+ | Environment | dpdk_meson_compile | dpdk_compile_spdk | dpdk_compile_ovs | dpdk_msvc_compile | dpdk_llvm_clang_compile | dpdk_mingw64_compile | +===============================+====================+===================+==================+===================+=========================+======================+ | CentOS Stream 9 | PASS | PASS | SKIPPED | SKIPPED | SKIPPED | SKIPPED | +-------------------------------+--------------------+-------------------+------------------+-------------------+-------------------------+----------------------+ | CentOS Stream 10 | PASS | SKIPPED | SKIPPED | SKIPPED | SKIPPED | SKIPPED | +-------------------------------+--------------------+-------------------+------------------+-------------------+-------------------------+----------------------+ | Fedora Linux 40 | PASS | PASS | SKIPPED | SKIPPED | SKIPPED | SKIPPED | +-------------------------------+--------------------+-------------------+------------------+-------------------+-------------------------+----------------------+ | Debian GNU/Linux 12 | PASS | PASS | SKIPPED | SKIPPED | SKIPPED | SKIPPED | +-------------------------------+--------------------+-------------------+------------------+-------------------+-------------------------+----------------------+ | Fedora Linux 41 | PASS | PASS | PASS | SKIPPED | SKIPPED | SKIPPED | +-------------------------------+--------------------+-------------------+------------------+-------------------+-------------------------+----------------------+ | openSUSE Leap 15.6 | PASS | SKIPPED | SKIPPED | SKIPPED | SKIPPED | SKIPPED | +-------------------------------+--------------------+-------------------+------------------+-------------------+-------------------------+----------------------+ | Red Hat Enterprise Linux 9.5 | PASS | SKIPPED | SKIPPED | SKIPPED | SKIPPED | SKIPPED | +-------------------------------+--------------------+-------------------+------------------+-------------------+-------------------------+----------------------+ | Ubuntu 20.04 | PASS | SKIPPED | SKIPPED | SKIPPED | SKIPPED | SKIPPED | +-------------------------------+--------------------+-------------------+------------------+-------------------+-------------------------+----------------------+ | Red Hat Enterprise Linux 8.10 | PASS | SKIPPED | SKIPPED | SKIPPED | SKIPPED | SKIPPED | +-------------------------------+--------------------+-------------------+------------------+-------------------+-------------------------+----------------------+ | Ubuntu 24.04 | PASS | PASS | PASS | SKIPPED | SKIPPED | SKIPPED | +-------------------------------+--------------------+-------------------+------------------+-------------------+-------------------------+----------------------+ | Alpine Linux 3.22.0 | PASS | SKIPPED | SKIPPED | SKIPPED | SKIPPED | SKIPPED | +-------------------------------+--------------------+-------------------+------------------+-------------------+-------------------------+----------------------+ | Ubuntu 22.04 | PASS | PASS | SKIPPED | SKIPPED | SKIPPED | SKIPPED | +-------------------------------+--------------------+-------------------+------------------+-------------------+-------------------------+----------------------+ | FreeBSD 14.2 | PASS | SKIPPED | SKIPPED | SKIPPED | SKIPPED | SKIPPED | +-------------------------------+--------------------+-------------------+------------------+-------------------+-------------------------+----------------------+ | Windows Server 2022 | SKIPPED | SKIPPED | SKIPPED | PASS | PASS | PASS | +-------------------------------+--------------------+-------------------+------------------+-------------------+-------------------------+----------------------+ CentOS Stream 9 Kernel: 5.15 Compiler: gcc gcc (GCC) 11.5.0 20240719 (Red Hat 11.5.0-7) CentOS Stream 10 Kernel: 5.15 Compiler: gcc gcc (GCC) 14.2.1 20250110 (Red Hat 14.2.1-8) Fedora Linux 40 Kernel: 5.15 Compiler: clang gcc (GCC) 14.2.1 20240912 (Red Hat 14.2.1-3) Debian GNU/Linux 12 Kernel: 5.15 Compiler: gcc gcc (Debian 12.2.0-14+deb12u1) 12.2.0 Fedora Linux 41 Kernel: 5.15 Compiler: clang gcc (GCC) 14.3.1 20250523 (Red Hat 14.3.1-1) openSUSE Leap 15.6 Kernel: 5.15 Compiler: gcc gcc (SUSE Linux) 7.5.0 Red Hat Enterprise Linux 9.5 Kernel: 5.15 Compiler: gcc gcc (GCC) 11.5.0 20240719 (Red Hat 11.5.0-2) Ubuntu 20.04 Kernel: 5.15 Compiler: gcc gcc (Ubuntu 9.4.0-1ubuntu1~20.04.2) 9.4.0 Red Hat Enterprise Linux 8.10 Kernel: 5.15 Compiler: gcc gcc (GCC) 8.5.0 20210514 (Red Hat 8.5.0-22) Ubuntu 24.04 Kernel: 5.15 Compiler: gcc gcc (Ubuntu 13.3.0-6ubuntu2~24.04) 13.3.0 Alpine Linux 3.22.0 Kernel: 5.15 Compiler: gcc gcc (Alpine 14.2.0) 14.2.0 Ubuntu 22.04 Kernel: 5.15 Compiler: gcc gcc (Ubuntu 11.4.0-1ubuntu1~22.04) 11.4.0 FreeBSD 14.2 Kernel: 14.2-RELEASE Compiler: clang 18.1.6 Windows Server 2022 Kernel: 10.0.20348.2031 Compiler: clang 15.0.7, gcc 14.1.0 (MinGW), and MSVC VS 19.39.33521 To view detailed results, visit: https://lab.dpdk.org/results/dashboard/patchsets/33633/ UNH-IOL DPDK Community Lab To manage your email subscriptions, visit: https://lab.dpdk.org/results/dashboard/preferences/subscriptions/