From mboxrd@z Thu Jan 1 00:00:00 1970 Return-Path: Received: from mails.dpdk.org (mails.dpdk.org [217.70.189.124]) by inbox.dpdk.org (Postfix) with ESMTP id 71C8346B3C for ; Thu, 10 Jul 2025 21:53:38 +0200 (CEST) Received: from mails.dpdk.org (localhost [127.0.0.1]) by mails.dpdk.org (Postfix) with ESMTP id 6C5AA4028B; Thu, 10 Jul 2025 21:53:38 +0200 (CEST) Received: from mail-io1-f100.google.com (mail-io1-f100.google.com [209.85.166.100]) by mails.dpdk.org (Postfix) with ESMTP id 58EAE4028B for ; Thu, 10 Jul 2025 21:53:37 +0200 (CEST) Received: by mail-io1-f100.google.com with SMTP id ca18e2360f4ac-86d0168616aso111573339f.1 for ; Thu, 10 Jul 2025 12:53:37 -0700 (PDT) DKIM-Signature: v=1; a=rsa-sha256; c=relaxed/relaxed; d=iol.unh.edu; s=unh-iol; t=1752177216; x=1752782016; darn=dpdk.org; h=references:in-reply-to:cc:to:from:subject:message-id:date:from:to :cc:subject:date:message-id:reply-to; bh=/K/2Ws/RoU7BBvmsOCNrUCNyLHKpAwLP1Swe4TkdTCY=; b=fZmY2zGwMw6AsRQYDL82O/dsLAtdCUcyRgvC9zZ0hIIVTDALgMIYyHpK1bc63Ifvvw bFmbn4aCbBC+Fb5xmJ23YqppCM8RroUHh/LnQyBOwNbcBviBbwouSDc34FG7l3ihODey rvK6ocOKZp/JJa9qIBp2K1XVCy+qs5+LwBGGs= X-Google-DKIM-Signature: v=1; a=rsa-sha256; c=relaxed/relaxed; d=1e100.net; s=20230601; t=1752177216; x=1752782016; h=references:in-reply-to:cc:to:from:subject:message-id:date :x-gm-message-state:from:to:cc:subject:date:message-id:reply-to; bh=/K/2Ws/RoU7BBvmsOCNrUCNyLHKpAwLP1Swe4TkdTCY=; b=O+pyDUxzhXz7r8iFKxqYQpVAIJBVJQA1Gdv+OzgDPkZWdp2TrwLgm9BWO72lhs7Qo7 RuRb0OO8uVKP7M4uZI9hiLlD4aiK5+vQ+5nvcovYx5XJPhtoYtLO2LSR6W47DSBx+HD4 6AFzAI/AGIWVeXu0J0tdWksywCI5PyBPVwJE1RHNvOivhE7ILTr4MJAoEBCojwh5j+e5 I1I4R+7PlH+QAQEYrSLzGS47VH7knmnIARHJb8KvK0cDVks88z2fPwIU3GneByqRY2wI lb+ppRQERMU9HPk4DutoNcZiJLrRmQWexMEDSvHHnVbdUxy+neD0xvXqKdQ+oTVPu/kl pgxg== X-Gm-Message-State: AOJu0Yy31jiDFW6eMWQQ0OFoV0HM9v4QiLShMBrfJ6U3Cd5xQKkcLKa5 75BOYVWyYXnDHiBUIldITyNRylx4x7XbTxLFtI1IZKczvNDpBMf6XlZCl+ZINCNxHYlwVlLi3Ap Y4Snwjvq9dp82aPCIkvC8KqCzS+NhKLB+jVzpKTWDlEHx X-Gm-Gg: ASbGnct1asqcmzZcBgEWXDdvYy+ugHqfwUP4BhBEOS108k/0hXsRma4Oj0/67U1AjWb LDMg8PmlcVm9Sp85Qoz5qlW4S/W7D2aKbyCK0QIolSet6r5Tt1sK59UfdtZQK7F00yXD8+AVIZI QzaWUziWhpWjCUtw+DpUCSITStx7cUMo/ABUZtulcN8l0hhyzATC1xx2Kd7u2z7hER/qtC1pSHz fyxIT0ngkbv6tDogmo7JxSbETETgEaCuyQ5i6rNGlc+qqifyfvU5M123NBJzFJQaZ51mfsmAgEP ORAiekfrNIlQUyzrhwRXoqf1x8kivtUxrK009v3GIyhpt2DbbAdJ4Dil+LfFppnWQUnjyg== X-Google-Smtp-Source: AGHT+IEryeUlwqcxecTHooxMqXO6+LxU3BIJBe2FWI37zvTCCWY3G0vDrE9odXQAG86mQCCjtp2eyFPDydpI X-Received: by 2002:a05:6e02:1a29:b0:3dd:b808:be74 with SMTP id e9e14a558f8ab-3e2543a6a37mr1516245ab.13.1752177216686; Thu, 10 Jul 2025 12:53:36 -0700 (PDT) Received: from postal.iol.unh.edu (postal.iol.unh.edu. [132.177.123.84]) by smtp-relay.gmail.com with ESMTPS id 8926c6da1cb9f-505565d9bb2sm87226173.33.2025.07.10.12.53.36 (version=TLS1_2 cipher=ECDHE-ECDSA-AES128-GCM-SHA256 bits=128/128); Thu, 10 Jul 2025 12:53:36 -0700 (PDT) X-Relaying-Domain: iol.unh.edu Date: Thu, 10 Jul 2025 12:53:36 -0700 (PDT) Message-ID: <68701a40.050a0220.270991.4b3bSMTPIN_ADDED_MISSING@mx.google.com> Received: from [172.21.0.5] (unknown [172.18.0.240]) by postal.iol.unh.edu (Postfix) with ESMTP id 36EA96050A61; Thu, 10 Jul 2025 15:53:36 -0400 (EDT) Subject: |SUCCESS| pw155109 [PATCH] [v2] test_bbdev: enable to be compiled on From: dpdklab@iol.unh.edu To: Test Report Cc: dpdk-test-reports@iol.unh.edu In-Reply-To: <1752074012-14869-1-git-send-email-andremue@linux.microsoft.com> References: <1752074012-14869-1-git-send-email-andremue@linux.microsoft.com> Content-Type: text/plain X-BeenThere: test-report@dpdk.org X-Mailman-Version: 2.1.29 Precedence: list List-Id: automatic DPDK test reports List-Unsubscribe: , List-Archive: List-Post: List-Help: List-Subscribe: , Errors-To: test-report-bounces@dpdk.org Test-Label: iol-unit-amd64-testing Test-Status: SUCCESS http://dpdk.org/patch/155109 _Testing PASS_ Submitter: Andre Muezerie Date: Wednesday, July 09 2025 15:13:32 DPDK git baseline: Repo:dpdk Branch: master CommitID:9fe9c0b231c8da5435bfccb1963121b4277f961c 155109 --> testing pass Upstream job id: Generic-Unit-Test-DPDK#354645 Test environment and result as below: +-------------------------------+----------------+ | Environment | dpdk_unit_test | +===============================+================+ | Fedora Linux 40 | PASS | +-------------------------------+----------------+ | CentOS Stream 9 | PASS | +-------------------------------+----------------+ | Fedora Linux 41 | PASS | +-------------------------------+----------------+ | CentOS Stream 10 | PASS | +-------------------------------+----------------+ | Debian GNU/Linux 12 | PASS | +-------------------------------+----------------+ | Red Hat Enterprise Linux 8.10 | PASS | +-------------------------------+----------------+ | Ubuntu 20.04 | PASS | +-------------------------------+----------------+ | Red Hat Enterprise Linux 9.5 | PASS | +-------------------------------+----------------+ | Ubuntu 22.04 | PASS | +-------------------------------+----------------+ | Ubuntu 24.04 | PASS | +-------------------------------+----------------+ | Windows Server 2022 | PASS | +-------------------------------+----------------+ Fedora Linux 40 Kernel: 5.15 Compiler: clang gcc (GCC) 14.2.1 20240912 (Red Hat 14.2.1-3) CentOS Stream 9 Kernel: 5.15 Compiler: gcc gcc (GCC) 11.5.0 20240719 (Red Hat 11.5.0-7) Fedora Linux 41 Kernel: 5.15 Compiler: gcc gcc (GCC) 14.3.1 20250523 (Red Hat 14.3.1-1) CentOS Stream 10 Kernel: 5.15 Compiler: gcc gcc (GCC) 14.2.1 20250110 (Red Hat 14.2.1-8) Debian GNU/Linux 12 Kernel: 5.15 Compiler: gcc gcc (Debian 12.2.0-14+deb12u1) 12.2.0 Red Hat Enterprise Linux 8.10 Kernel: 5.15 Compiler: gcc gcc (GCC) 8.5.0 20210514 (Red Hat 8.5.0-22) Ubuntu 20.04 Kernel: 5.15 Compiler: gcc gcc (Ubuntu 9.4.0-1ubuntu1~20.04.2) 9.4.0 Red Hat Enterprise Linux 9.5 Kernel: 5.15 Compiler: gcc gcc (GCC) 11.5.0 20240719 (Red Hat 11.5.0-2) Ubuntu 22.04 Kernel: 5.15 Compiler: gcc gcc (Ubuntu 11.4.0-1ubuntu1~22.04) 11.4.0 Ubuntu 24.04 Kernel: 5.15 Compiler: gcc gcc (Ubuntu 13.3.0-6ubuntu2~24.04) 13.3.0 Windows Server 2022 Kernel: 10.0.20348.2031 Compiler: clang 15.0.7, gcc 14.1.0 (MinGW), and MSVC VS 19.39.33521 To view detailed results, visit: https://lab.dpdk.org/results/dashboard/patchsets/33628/ UNH-IOL DPDK Community Lab To manage your email subscriptions, visit: https://lab.dpdk.org/results/dashboard/preferences/subscriptions/