From mboxrd@z Thu Jan 1 00:00:00 1970 Return-Path: Received: from mails.dpdk.org (mails.dpdk.org [217.70.189.124]) by inbox.dpdk.org (Postfix) with ESMTP id 7EC5D46B3C for ; Thu, 10 Jul 2025 21:53:53 +0200 (CEST) Received: from mails.dpdk.org (localhost [127.0.0.1]) by mails.dpdk.org (Postfix) with ESMTP id 7A1A54028B; Thu, 10 Jul 2025 21:53:53 +0200 (CEST) Received: from mail-pl1-f227.google.com (mail-pl1-f227.google.com [209.85.214.227]) by mails.dpdk.org (Postfix) with ESMTP id D46734028B for ; Thu, 10 Jul 2025 21:53:51 +0200 (CEST) Received: by mail-pl1-f227.google.com with SMTP id d9443c01a7336-235e1d710d8so18844685ad.1 for ; Thu, 10 Jul 2025 12:53:51 -0700 (PDT) DKIM-Signature: v=1; a=rsa-sha256; c=relaxed/relaxed; d=iol.unh.edu; s=unh-iol; t=1752177231; x=1752782031; darn=dpdk.org; h=references:in-reply-to:cc:to:from:subject:message-id:date:from:to :cc:subject:date:message-id:reply-to; bh=riZdYzD/4jUYfFjY2pu+7NBjjZurxUdpB/YhsjR7yQk=; b=B83VL1M4vgJMzAUGufkxc6o8aC7ryl+tbYZqfCU8FeONjgzcbJEQRi+IGinSADlecJ R4ZIx7NrsO91Dgk8Kd7FMrufA310c2xTL4pq6kXCYDlIqorC4Hgfcx2Aj/ENW1gXKzet H00onCjraCjwQvblnHW29E2gda6sG8btCrpSo= X-Google-DKIM-Signature: v=1; a=rsa-sha256; c=relaxed/relaxed; d=1e100.net; s=20230601; t=1752177231; x=1752782031; h=references:in-reply-to:cc:to:from:subject:message-id:date :x-gm-message-state:from:to:cc:subject:date:message-id:reply-to; bh=riZdYzD/4jUYfFjY2pu+7NBjjZurxUdpB/YhsjR7yQk=; b=e++P8NiNxhrloGQIWnlxauoIZ8LTAptqbVEsyzaCqrVj4l1dVt09HZ7JFAZGeX88KG 9kkT12YygKO+lASZsi6WCAKf3eVh1zkiXSx9A2hur//LWm37ZE7C0n4edfj0mzF8gygS ZEL84aSvOOlcIRFN5ci82/tM4dvr47h0lk4z9JtQR+7wOtrbDodfpgvGfKUoOgleSXa4 R++WQq8aRdWEYyuzyoagQch7jbPvvM5g4yxb7KYCu9E2VkEeVGhdtqJhu5vf1KGO/M4H h2OOGr3y+SzbDdTK3p6krrDjf1hza/MKi7jnCffZpBkEg8nUCtKvxXzlkVvwSIxYFmJB 5FzQ== X-Gm-Message-State: AOJu0Yxr8o1NnnWdcL9PTOHuXb/SBssXeD8nHrCkVau6DeI7LFywnURc m3zIihkovlgL5YBO5+1pZQeooCfF4XrJ9XDjVO3SURvIh2vd+F5ZCMlLc/aq2Vyy3J0d5CcGe5A crOEvTXxpIgcRzw0mpz4b5Zt8KA6nXK37W14HHytUp69H X-Gm-Gg: ASbGncs2CEiJUJhtkn0nYD+xKHCT3iATpK0IN6twhziTjL3eI8SUq53188L2A2PdkLL dTIMrK91d/SUUkC+2Hug31foslQu/loWFsIyQDoxAQLh5FBgp3fKid4at0+Db+QxBytnZ9Y+Etd JbiGRzTY3F5vuQk8IpT8V2Agh6v/OgD61+32ayd6aVlyCljRuUyGgUoNRNw9mBn1tpa7G3VjTyp kLaljFxruElLGXmnhi7BGgQrodLI2evzgovHPH3V+808msa5qSCKfN7pgcC+fOkc0LmE5WAOJ8j MPOG9bccWiLzPuuXP9V2eonNKD7NKjibQIq3Fgte9lbevNLHQHuueeLofbTYoNSQEFKjXtHs X-Google-Smtp-Source: AGHT+IFnx8WEDzlCPhcIedun2Vb2RnmjyI4bmb4vfe3/dFltiFG3KJBV3PMo3+hf/z1p9gv7QXxNywQXD/BE X-Received: by 2002:a17:902:8b8b:b0:238:f2a:8893 with SMTP id d9443c01a7336-23dede984b9mr4320605ad.42.1752177230966; Thu, 10 Jul 2025 12:53:50 -0700 (PDT) Received: from postal.iol.unh.edu (postal.iol.unh.edu. [132.177.123.84]) by smtp-relay.gmail.com with ESMTPS id d9443c01a7336-23de4263963sm1169305ad.5.2025.07.10.12.53.50 (version=TLS1_2 cipher=ECDHE-ECDSA-AES128-GCM-SHA256 bits=128/128); Thu, 10 Jul 2025 12:53:50 -0700 (PDT) X-Relaying-Domain: iol.unh.edu Date: Thu, 10 Jul 2025 12:53:50 -0700 (PDT) Message-ID: <68701a4e.170a0220.1ccb3a.6233SMTPIN_ADDED_MISSING@mx.google.com> Received: from [172.21.0.7] (unknown [172.18.0.240]) by postal.iol.unh.edu (Postfix) with ESMTP id 722C16050A61; Thu, 10 Jul 2025 15:53:50 -0400 (EDT) Subject: |SUCCESS| pw155109 [PATCH] [v2] test_bbdev: enable to be compiled on From: dpdklab@iol.unh.edu To: Test Report Cc: dpdk-test-reports@iol.unh.edu In-Reply-To: <1752074012-14869-1-git-send-email-andremue@linux.microsoft.com> References: <1752074012-14869-1-git-send-email-andremue@linux.microsoft.com> Content-Type: text/plain X-BeenThere: test-report@dpdk.org X-Mailman-Version: 2.1.29 Precedence: list List-Id: automatic DPDK test reports List-Unsubscribe: , List-Archive: List-Post: List-Help: List-Subscribe: , Errors-To: test-report-bounces@dpdk.org Test-Label: iol-unit-amd64-testing Test-Status: SUCCESS http://dpdk.org/patch/155109 _Testing PASS_ Submitter: Andre Muezerie Date: Wednesday, July 09 2025 15:13:32 DPDK git baseline: Repo:dpdk Branch: master CommitID:9fe9c0b231c8da5435bfccb1963121b4277f961c 155109 --> testing pass Upstream job id: Generic-VM-Unit-Test-DPDK#29883 Test environment and result as below: +-------------------------------+----------------+ | Environment | dpdk_unit_test | +===============================+================+ | Fedora Linux 40 | PASS | +-------------------------------+----------------+ | CentOS Stream 9 | PASS | +-------------------------------+----------------+ | Fedora Linux 41 | PASS | +-------------------------------+----------------+ | CentOS Stream 10 | PASS | +-------------------------------+----------------+ | Debian GNU/Linux 12 | PASS | +-------------------------------+----------------+ | Red Hat Enterprise Linux 8.10 | PASS | +-------------------------------+----------------+ | Ubuntu 20.04 | PASS | +-------------------------------+----------------+ | Red Hat Enterprise Linux 9.5 | PASS | +-------------------------------+----------------+ | Ubuntu 22.04 | PASS | +-------------------------------+----------------+ | Ubuntu 24.04 | PASS | +-------------------------------+----------------+ | Windows Server 2022 | PASS | +-------------------------------+----------------+ Fedora Linux 40 Kernel: 5.15 Compiler: clang gcc (GCC) 14.2.1 20240912 (Red Hat 14.2.1-3) CentOS Stream 9 Kernel: 5.15 Compiler: gcc gcc (GCC) 11.5.0 20240719 (Red Hat 11.5.0-7) Fedora Linux 41 Kernel: 5.15 Compiler: gcc gcc (GCC) 14.3.1 20250523 (Red Hat 14.3.1-1) CentOS Stream 10 Kernel: 5.15 Compiler: gcc gcc (GCC) 14.2.1 20250110 (Red Hat 14.2.1-8) Debian GNU/Linux 12 Kernel: 5.15 Compiler: gcc gcc (Debian 12.2.0-14+deb12u1) 12.2.0 Red Hat Enterprise Linux 8.10 Kernel: 5.15 Compiler: gcc gcc (GCC) 8.5.0 20210514 (Red Hat 8.5.0-22) Ubuntu 20.04 Kernel: 5.15 Compiler: gcc gcc (Ubuntu 9.4.0-1ubuntu1~20.04.2) 9.4.0 Red Hat Enterprise Linux 9.5 Kernel: 5.15 Compiler: gcc gcc (GCC) 11.5.0 20240719 (Red Hat 11.5.0-2) Ubuntu 22.04 Kernel: 5.15 Compiler: gcc gcc (Ubuntu 11.4.0-1ubuntu1~22.04) 11.4.0 Ubuntu 24.04 Kernel: 5.15 Compiler: gcc gcc (Ubuntu 13.3.0-6ubuntu2~24.04) 13.3.0 Windows Server 2022 Kernel: 10.0.20348.2031 Compiler: clang 15.0.7, gcc 14.1.0 (MinGW), and MSVC VS 19.39.33521 To view detailed results, visit: https://lab.dpdk.org/results/dashboard/patchsets/33628/ UNH-IOL DPDK Community Lab To manage your email subscriptions, visit: https://lab.dpdk.org/results/dashboard/preferences/subscriptions/