From mboxrd@z Thu Jan 1 00:00:00 1970 Return-Path: Received: from mails.dpdk.org (mails.dpdk.org [217.70.189.124]) by inbox.dpdk.org (Postfix) with ESMTP id AD4C946B3C for ; Thu, 10 Jul 2025 21:54:33 +0200 (CEST) Received: from mails.dpdk.org (localhost [127.0.0.1]) by mails.dpdk.org (Postfix) with ESMTP id A6F3B4028B; Thu, 10 Jul 2025 21:54:33 +0200 (CEST) Received: from mail-yb1-f226.google.com (mail-yb1-f226.google.com [209.85.219.226]) by mails.dpdk.org (Postfix) with ESMTP id 1FC414028B for ; Thu, 10 Jul 2025 21:54:32 +0200 (CEST) Received: by mail-yb1-f226.google.com with SMTP id 3f1490d57ef6-e73e9e18556so1512799276.0 for ; Thu, 10 Jul 2025 12:54:32 -0700 (PDT) DKIM-Signature: v=1; a=rsa-sha256; c=relaxed/relaxed; d=iol.unh.edu; s=unh-iol; t=1752177271; x=1752782071; darn=dpdk.org; h=references:in-reply-to:cc:to:from:subject:message-id:date:from:to :cc:subject:date:message-id:reply-to; bh=5Ft8q2SnVI7QzW1LQdj3e3VJ5Ai1Nl0iCzBxNfbFXec=; b=ZEjxc6KubGY/wExOjIGP103a0esBbzsiKLQUKDBwOreCUdbw2/mEESLAvRyO0QYc4v c3jb1KxYx28iBL8GhPhsw6PxQGbXt5Ppags+iRpirYpZbCr34rrOj5lKxW3wGc0/yGvg pjBfddCFOvcbt92lbx4wL3c6GoDhOLdoEVjZY= X-Google-DKIM-Signature: v=1; a=rsa-sha256; c=relaxed/relaxed; d=1e100.net; s=20230601; t=1752177271; x=1752782071; h=references:in-reply-to:cc:to:from:subject:message-id:date :x-gm-message-state:from:to:cc:subject:date:message-id:reply-to; bh=5Ft8q2SnVI7QzW1LQdj3e3VJ5Ai1Nl0iCzBxNfbFXec=; b=pPAR2Co3QJ9HB7kcDnhtsqZKwJ+Hrt7br4rADWhTI5q8nx/TdWpzFhMXpg4pyNOiwj V6C79lb0AQ5AH1z5L5zoZnoA+jDBMCV2rJVOj+5YeM24kzKR3xh8KoMHt4IwVyQ9BfrD sontOHmbkPbGdiVP57zeVSC+F8RiuHXKU74iOe3uEmi6sfa0figC9TqSJRdPK7zzPxZW kYBKxW09UAZ2SJuVdIn9t1tO0c7zLAhqqodT1e5ri7awg+ljYmLXWrQK3fdy5gAnOnh+ h82E4p4WfcXIobwkXxVtP4dZnmkGSgXbhite9Q0LIGVJKFkaX7wbt6j0Q5PVW62fQL3e 5qOQ== X-Gm-Message-State: AOJu0YzVplKrneyjuuKynlZBNbIAk8s5gshNfDBrKzcEA8ZeR8lZQoKp JAVFMp9HnM3zf5beZc2zJYLjklOmWaiT85B7KbMYVsB+Xj95kHIr0LGz/fJlilbjXQSV0Cu4AYp ZzT+EuFWPiyoh3sgq8m2+hOXOCMO/ZLkY3Q4q/KqAuQOB X-Gm-Gg: ASbGncvwwOmm8wC7Rg0MhA7niqV/7ysoPJywTWB4ilqSK7ACeY6JVVeTIM0agUbGFVG g+RgJLRMZMcyPjG5p56tybDu4TW9pXzhbrD6R6QCpdQ2JoE3alJ7TBkmt1acrFWcFyaDnRuQcd2 HMEf3I7bjEnoCm+1ZdZA+dk99RnIbWdecB6oLN5gIde6c7uo+Ekpq+stTJtbSMCFuBESIfQjSZk 4zFiWiGOuj+GICOKb2qa8q3OuEWzflRa6DITpdcYnqN5H9EuD1x6dKiftY9j7ViprX4vTII4/lp WTr2cp8VlAvwV7ki/Uw8l4YuB9ohfYXyeJVUTdenwrPNe61/vkDfo5dM6z+iU5NXv8RE9Q== X-Google-Smtp-Source: AGHT+IEHuIVG4WkDCOp8mMGC27LjoQ65AhFsouAu94269jVKLQLQtWDq+xDICsR40Xlyqq8b580iyYu4Xh0b X-Received: by 2002:a05:690c:ec9:b0:70d:fd6f:b151 with SMTP id 00721157ae682-717d6979150mr11506057b3.11.1752177271307; Thu, 10 Jul 2025 12:54:31 -0700 (PDT) Received: from postal.iol.unh.edu (postal.iol.unh.edu. [132.177.123.84]) by smtp-relay.gmail.com with ESMTPS id 00721157ae682-717c6201cb2sm654127b3.36.2025.07.10.12.54.31 (version=TLS1_2 cipher=ECDHE-ECDSA-AES128-GCM-SHA256 bits=128/128); Thu, 10 Jul 2025 12:54:31 -0700 (PDT) X-Relaying-Domain: iol.unh.edu Date: Thu, 10 Jul 2025 12:54:31 -0700 (PDT) Message-ID: <68701a77.050a0220.4669d.3930SMTPIN_ADDED_MISSING@mx.google.com> Received: from [172.21.0.6] (unknown [172.18.0.240]) by postal.iol.unh.edu (Postfix) with ESMTP id EBD9A6050A61; Thu, 10 Jul 2025 15:54:30 -0400 (EDT) Subject: |SUCCESS| pw155109 [PATCH] [v2] test_bbdev: enable to be compiled on From: dpdklab@iol.unh.edu To: Test Report Cc: dpdk-test-reports@iol.unh.edu In-Reply-To: <1752074012-14869-1-git-send-email-andremue@linux.microsoft.com> References: <1752074012-14869-1-git-send-email-andremue@linux.microsoft.com> Content-Type: text/plain X-BeenThere: test-report@dpdk.org X-Mailman-Version: 2.1.29 Precedence: list List-Id: automatic DPDK test reports List-Unsubscribe: , List-Archive: List-Post: List-Help: List-Subscribe: , Errors-To: test-report-bounces@dpdk.org Test-Label: iol-compile-arm64-testing Test-Status: SUCCESS http://dpdk.org/patch/155109 _Testing PASS_ Submitter: Andre Muezerie Date: Wednesday, July 09 2025 15:13:32 DPDK git baseline: Repo:dpdk Branch: master CommitID:9fe9c0b231c8da5435bfccb1963121b4277f961c 155109 --> testing pass Upstream job id: Generic-DPDK-Compile-Meson#407706 Test environment and result as below: +------------------------------+--------------------+ | Environment | dpdk_meson_compile | +==============================+====================+ | Fedora Linux 40 | PASS | +------------------------------+--------------------+ | Ubuntu 20.04 | PASS | +------------------------------+--------------------+ | Fedora Linux 41 | PASS | +------------------------------+--------------------+ | Red Hat Enterprise Linux 9.5 | PASS | +------------------------------+--------------------+ | CentOS Stream 9 | PASS | +------------------------------+--------------------+ | Ubuntu 24.04 | PASS | +------------------------------+--------------------+ | CentOS Stream 10 | PASS | +------------------------------+--------------------+ | Debian GNU/Linux 12 | PASS | +------------------------------+--------------------+ | Ubuntu 22.04 | PASS | +------------------------------+--------------------+ Fedora Linux 40 Kernel: 5.4 Compiler: gcc gcc (GCC) 14.2.1 20240912 (Red Hat 14.2.1-3) Ubuntu 20.04 Kernel: 5.4 Compiler: gcc gcc (Ubuntu 9.4.0-1ubuntu1~20.04.2) 9.4.0 Fedora Linux 41 Kernel: 5.4 Compiler: gcc gcc (GCC) 14.3.1 20250523 (Red Hat 14.3.1-1) Red Hat Enterprise Linux 9.5 Kernel: 5.4 Compiler: gcc gcc (GCC) 11.5.0 20240719 (Red Hat 11.5.0-2) CentOS Stream 9 Kernel: 5.4 Compiler: gcc gcc (GCC) 11.5.0 20240719 (Red Hat 11.5.0-7) Ubuntu 24.04 Kernel: 5.4 Compiler: gcc gcc (Ubuntu 13.3.0-6ubuntu2~24.04) 13.3.0 CentOS Stream 10 Kernel: 5.4 Compiler: gcc gcc (GCC) 14.2.1 20250110 (Red Hat 14.2.1-8) Debian GNU/Linux 12 Kernel: 5.4 Compiler: gcc gcc (Debian 12.2.0-14+deb12u1) 12.2.0 Ubuntu 22.04 Kernel: 5.4 Compiler: gcc gcc (Ubuntu 11.4.0-1ubuntu1~22.04) 11.4.0 To view detailed results, visit: https://lab.dpdk.org/results/dashboard/patchsets/33628/ UNH-IOL DPDK Community Lab To manage your email subscriptions, visit: https://lab.dpdk.org/results/dashboard/preferences/subscriptions/