From mboxrd@z Thu Jan 1 00:00:00 1970 Return-Path: Received: from mails.dpdk.org (mails.dpdk.org [217.70.189.124]) by inbox.dpdk.org (Postfix) with ESMTP id 0DFA546B3D for ; Thu, 10 Jul 2025 22:08:26 +0200 (CEST) Received: from mails.dpdk.org (localhost [127.0.0.1]) by mails.dpdk.org (Postfix) with ESMTP id DDB724028B; Thu, 10 Jul 2025 22:08:25 +0200 (CEST) Received: from mail-pg1-f227.google.com (mail-pg1-f227.google.com [209.85.215.227]) by mails.dpdk.org (Postfix) with ESMTP id D294A4028B for ; Thu, 10 Jul 2025 22:08:23 +0200 (CEST) Received: by mail-pg1-f227.google.com with SMTP id 41be03b00d2f7-b3bad2f99f5so1290711a12.1 for ; Thu, 10 Jul 2025 13:08:23 -0700 (PDT) DKIM-Signature: v=1; a=rsa-sha256; c=relaxed/relaxed; d=iol.unh.edu; s=unh-iol; t=1752178103; x=1752782903; darn=dpdk.org; h=references:in-reply-to:cc:to:from:subject:message-id:date:from:to :cc:subject:date:message-id:reply-to; bh=OndfifAPmdacvqwm1uD8UX7x/QoVRkfQB6s5QBLDu30=; b=YKFXKnC/eUvJc6HejVHDMlqdUuM0tkyC0iqik6mxnJwairk/Xi7yDNUysiuBsUeiwF 9wSTMavBPth+PRq+K1UGHBq02xIrpwuV9I1p/w8+gFqmIzn3EYXseMuG6oZaPzclUNhi U8gRxYDp6/hJoM0loBY7T94ZKMV+0qgmiZCXI= X-Google-DKIM-Signature: v=1; a=rsa-sha256; c=relaxed/relaxed; d=1e100.net; s=20230601; t=1752178103; x=1752782903; h=references:in-reply-to:cc:to:from:subject:message-id:date :x-gm-message-state:from:to:cc:subject:date:message-id:reply-to; bh=OndfifAPmdacvqwm1uD8UX7x/QoVRkfQB6s5QBLDu30=; b=paQnixRK2U/nOG2w4jT7EcKWzRxc+eS+BJWXeVwYtlj09iCUhEO7uQ99KVe3G5tPJQ Jo6gOYUeuKYmtx0JsPDZnHES8oHR+sFgrKgFRbjJZzLLdL0cLuuGuy1eX25ty9hmeg4A bFIi5AJ2WQpoGK9KWv9ars7+57vkrZQ7jFORs/xC9k5UTQJZ5Cbp0uYnjS60f6QnELSd Fe1ybLsErmmxNSXk/Vrzl8OgVF30ogLtUcNSL9K5Sku6M0w61F/vsNUTqYUnKMifY24z TlyAhQxGnXpB6suyBV77jQiMtJ5wWKfaI/cN1ilMPqUn95aqKqrcOxVxilflpwl084yj b2iw== X-Gm-Message-State: AOJu0Yxqe9n8OZGGnc6HuhT0306K3055J1ERHsKvtpuBNzk3O0r54535 lLazF6mLWekG/z1OKwtQyV8OpF8+5JJPATaI9zV+fpC5UfjP0y2R1S+OIGo9VQv4hbHRRIeSg1W Zb79mMKiSjQ0V1pQx0uED9kCCFfMbVDyhuWFVBn9Unt3PZb5zrjWXv7NN3zAg X-Gm-Gg: ASbGnctR18r5F413sOY9q9hg1dScRlID6pQYRXjUp5+KM9PTn2pflzvsFldmP7jcJJl 4g/URl2In1s3Yexx1dDvjPnX0SLbQPwXFiuaIl2pSFPxr9eDkVsa9xPXCu7WwYmxQFZvrFDsUc+ RVKGSJGyalManSpIXMLXs+mihhU9Xn5J6XdhejF9czgQ4Rt2oMOcbwDVB/JPSV3ws1I6pqqLeG0 DfToIX3UeBzcTdUdN+lMKVCkRCxH/yi+SNxvj1OiiigLgG/iA+2m7hN/KruMTEarf4XydBP1NKL 9h8sXPAkGsWkI+ZU6a/llLgRYZaB3YEn/EPTz2L6Pg8v9Cq9XA== X-Google-Smtp-Source: AGHT+IES4JQEGJ7WQkV3++xqVWwAfKrPK1QeASGw2PB3dEslp9lNe6Jrw1Ewzx71jrZD0RiMbgS8vH18iPtt X-Received: by 2002:a17:903:189:b0:234:986c:66cf with SMTP id d9443c01a7336-23dede46e28mr8702475ad.16.1752178102802; Thu, 10 Jul 2025 13:08:22 -0700 (PDT) Received: from postal.iol.unh.edu (postal.iol.unh.edu. [2606:4100:3880:1234::84]) by smtp-relay.gmail.com with ESMTPS id d9443c01a7336-23de4320a5esm1179195ad.71.2025.07.10.13.08.22 (version=TLS1_2 cipher=ECDHE-ECDSA-AES128-GCM-SHA256 bits=128/128); Thu, 10 Jul 2025 13:08:22 -0700 (PDT) X-Relaying-Domain: iol.unh.edu Date: Thu, 10 Jul 2025 13:08:22 -0700 (PDT) Message-ID: <68701db6.170a0220.9e7ca.64e2SMTPIN_ADDED_MISSING@mx.google.com> Received: from [172.21.0.6] (unknown [172.18.0.240]) by postal.iol.unh.edu (Postfix) with ESMTP id 0B986604D420; Thu, 10 Jul 2025 16:08:22 -0400 (EDT) Subject: |SUCCESS| pw155109 [PATCH] [v2] test_bbdev: enable to be compiled on From: dpdklab@iol.unh.edu To: Test Report Cc: dpdk-test-reports@iol.unh.edu In-Reply-To: <1752074012-14869-1-git-send-email-andremue@linux.microsoft.com> References: <1752074012-14869-1-git-send-email-andremue@linux.microsoft.com> Content-Type: text/plain X-BeenThere: test-report@dpdk.org X-Mailman-Version: 2.1.29 Precedence: list List-Id: automatic DPDK test reports List-Unsubscribe: , List-Archive: List-Post: List-Help: List-Subscribe: , Errors-To: test-report-bounces@dpdk.org Test-Label: iol-unit-amd64-testing Test-Status: SUCCESS http://dpdk.org/patch/155109 _Testing PASS_ Submitter: Andre Muezerie Date: Wednesday, July 09 2025 15:13:32 DPDK git baseline: Repo:dpdk Branch: master CommitID:9fe9c0b231c8da5435bfccb1963121b4277f961c 155109 --> testing pass Upstream job id: Generic-VM-Unit-Test-DPDK#29884 Test environment and result as below: +-------------------------------+----------------+ | Environment | dpdk_unit_test | +===============================+================+ | Fedora Linux 40 | PASS | +-------------------------------+----------------+ | CentOS Stream 9 | PASS | +-------------------------------+----------------+ | Fedora Linux 41 | PASS | +-------------------------------+----------------+ | CentOS Stream 10 | PASS | +-------------------------------+----------------+ | Debian GNU/Linux 12 | PASS | +-------------------------------+----------------+ | Red Hat Enterprise Linux 8.10 | PASS | +-------------------------------+----------------+ | Ubuntu 20.04 | PASS | +-------------------------------+----------------+ | Red Hat Enterprise Linux 9.5 | PASS | +-------------------------------+----------------+ | Ubuntu 22.04 | PASS | +-------------------------------+----------------+ | Ubuntu 24.04 | PASS | +-------------------------------+----------------+ | Windows Server 2022 | PASS | +-------------------------------+----------------+ Fedora Linux 40 Kernel: 5.15 Compiler: clang gcc (GCC) 14.2.1 20240912 (Red Hat 14.2.1-3) CentOS Stream 9 Kernel: 5.15 Compiler: gcc gcc (GCC) 11.5.0 20240719 (Red Hat 11.5.0-7) Fedora Linux 41 Kernel: 5.15 Compiler: gcc gcc (GCC) 14.3.1 20250523 (Red Hat 14.3.1-1) CentOS Stream 10 Kernel: 5.15 Compiler: gcc gcc (GCC) 14.2.1 20250110 (Red Hat 14.2.1-8) Debian GNU/Linux 12 Kernel: 5.15 Compiler: gcc gcc (Debian 12.2.0-14+deb12u1) 12.2.0 Red Hat Enterprise Linux 8.10 Kernel: 5.15 Compiler: gcc gcc (GCC) 8.5.0 20210514 (Red Hat 8.5.0-22) Ubuntu 20.04 Kernel: 5.15 Compiler: gcc gcc (Ubuntu 9.4.0-1ubuntu1~20.04.2) 9.4.0 Red Hat Enterprise Linux 9.5 Kernel: 5.15 Compiler: gcc gcc (GCC) 11.5.0 20240719 (Red Hat 11.5.0-2) Ubuntu 22.04 Kernel: 5.15 Compiler: gcc gcc (Ubuntu 11.4.0-1ubuntu1~22.04) 11.4.0 Ubuntu 24.04 Kernel: 5.15 Compiler: gcc gcc (Ubuntu 13.3.0-6ubuntu2~24.04) 13.3.0 Windows Server 2022 Kernel: 10.0.20348.2031 Compiler: clang 15.0.7, gcc 14.1.0 (MinGW), and MSVC VS 19.39.33521 To view detailed results, visit: https://lab.dpdk.org/results/dashboard/patchsets/33628/ UNH-IOL DPDK Community Lab To manage your email subscriptions, visit: https://lab.dpdk.org/results/dashboard/preferences/subscriptions/