From mboxrd@z Thu Jan 1 00:00:00 1970 Return-Path: Received: from mails.dpdk.org (mails.dpdk.org [217.70.189.124]) by inbox.dpdk.org (Postfix) with ESMTP id 4DC0A46B3D for ; Thu, 10 Jul 2025 22:11:15 +0200 (CEST) Received: from mails.dpdk.org (localhost [127.0.0.1]) by mails.dpdk.org (Postfix) with ESMTP id 2AF8D4028B; Thu, 10 Jul 2025 22:11:15 +0200 (CEST) Received: from mail-io1-f100.google.com (mail-io1-f100.google.com [209.85.166.100]) by mails.dpdk.org (Postfix) with ESMTP id AEECC4028C for ; Thu, 10 Jul 2025 22:11:13 +0200 (CEST) Received: by mail-io1-f100.google.com with SMTP id ca18e2360f4ac-86d1131551eso52034539f.3 for ; Thu, 10 Jul 2025 13:11:13 -0700 (PDT) DKIM-Signature: v=1; a=rsa-sha256; c=relaxed/relaxed; d=iol.unh.edu; s=unh-iol; t=1752178273; x=1752783073; darn=dpdk.org; h=references:in-reply-to:cc:to:from:subject:message-id:date:from:to :cc:subject:date:message-id:reply-to; bh=Rb2FQIEa1h29xF7AR773LGRzd/FxDM4sK6vVMkrBxAY=; b=Fj5/I3V/wCdbowv1jEgWGZSHD7NYT+pWvb2W5yLBgs+YIGF6hu6dKmaY30ZmHtiGGC O4X8FQxcqC0/g4BL0VUgHLf2Bs3gq6d/vFtx7bJ7PwGJlhf7OtEZloyOltwS3fxIHkzq nbBRZnJvs37g/4/iNTmvf2fJ9SuAnlBfoNq1Q= X-Google-DKIM-Signature: v=1; a=rsa-sha256; c=relaxed/relaxed; d=1e100.net; s=20230601; t=1752178273; x=1752783073; h=references:in-reply-to:cc:to:from:subject:message-id:date :x-gm-message-state:from:to:cc:subject:date:message-id:reply-to; bh=Rb2FQIEa1h29xF7AR773LGRzd/FxDM4sK6vVMkrBxAY=; b=FJYgJJ93aPkaNDWkHJvjGLJXHcQAOnERq9fo2qTskAh7eVYlpC2vl9hsmE8yOxZSf3 qlYJzKQVj1wGVBSanR6856VvjArSbN9+6xbGQECho49TK487o+Px7AuWA/iZflx8ccP9 rVS/2J7G+CTe0fWGEJKKcQuVRYuY+RIUrlVBIuPWLYSbIAkeXkrJoe3q2YxjzQO2sqSE DsQfCDisRgqt9E++94VirxT174tiP+qQ4Mhf2IccvD8fByECXV+a87zXzpUodP/CuhpH 1nS+G+FkxBHFh5TRhs4/hju5kuxhpgwkW3ZcwtJv7i+MFgJBvGjYK1dfMLX/tjn7e3OU hLpA== X-Gm-Message-State: AOJu0YzwhAaUeb1G87Spqsq9EepI3t+2gZ4lDUp0Cu9z+cztmDLcIota lZ/zweMFdP8iqOEYO8x99buGpxvJllKQcSftcepaZ+AncYBLpXJ5mcFgDI0moW6XooDW3a+lC9d xKjMK7m3czrhFOVxcPFhKXYBa22GYLSaLzJApd8Yy7Cp0ERoh7oKaW0LascTm X-Gm-Gg: ASbGnctVRLwYnThbu33LhI6iTwr0EkG9fHR1oJO5yqrqoep2M/Vr3yXImAf/2+ubDax mUZO+1LGZ/O40LssePCXE+WSt1m+D8TNViwg4A4z3Lr/Yf/g5MxVzpF5gaSsVrbgHBNTlM2Stll fZD5/ASeGFZT0e9tX607lZI4KKfPp0CCrISz7Ht1tKVdZsyv7s4CEFxC5/O2CP0Qx7VtHHRVMOt l0L6Md0di+5l2oTVe9iEGnBAWvM6W6zX/Mjrnxq2afdN6Qa/Kmd84T+YAM7JSS6nUXBYM7/uTLj /1DiohUgx8wOckmaYwASBmPCnsizM62WGIoYAonzeH/YR5s= X-Google-Smtp-Source: AGHT+IEfSfbHtMhfLSj13N7rRf6Syq2RVKuBMo3Ip+43/YJX9lD7NYSJ9tNgPYkAPl8Nh5UdPM65xNHBH2/I X-Received: by 2002:a05:6e02:18c5:b0:3dd:c4ed:39c0 with SMTP id e9e14a558f8ab-3e2532556d3mr8995845ab.1.1752178272955; Thu, 10 Jul 2025 13:11:12 -0700 (PDT) Received: from postal.iol.unh.edu (postal.iol.unh.edu. [2606:4100:3880:1234::84]) by smtp-relay.gmail.com with ESMTPS id e9e14a558f8ab-3e24612e396sm1321055ab.31.2025.07.10.13.11.12 (version=TLS1_2 cipher=ECDHE-ECDSA-AES128-GCM-SHA256 bits=128/128); Thu, 10 Jul 2025 13:11:12 -0700 (PDT) X-Relaying-Domain: iol.unh.edu Date: Thu, 10 Jul 2025 13:11:12 -0700 (PDT) Message-ID: <68701e60.050a0220.121162.6f9aSMTPIN_ADDED_MISSING@mx.google.com> Received: from [172.21.0.5] (unknown [172.18.0.240]) by postal.iol.unh.edu (Postfix) with ESMTP id 9D782604D420; Thu, 10 Jul 2025 16:11:12 -0400 (EDT) Subject: |SUCCESS| pw155109 [PATCH] [v2] test_bbdev: enable to be compiled on From: dpdklab@iol.unh.edu To: Test Report Cc: dpdk-test-reports@iol.unh.edu In-Reply-To: <1752074012-14869-1-git-send-email-andremue@linux.microsoft.com> References: <1752074012-14869-1-git-send-email-andremue@linux.microsoft.com> Content-Type: text/plain X-BeenThere: test-report@dpdk.org X-Mailman-Version: 2.1.29 Precedence: list List-Id: automatic DPDK test reports List-Unsubscribe: , List-Archive: List-Post: List-Help: List-Subscribe: , Errors-To: test-report-bounces@dpdk.org Test-Label: iol-abi-testing Test-Status: SUCCESS http://dpdk.org/patch/155109 _Testing PASS_ Submitter: Andre Muezerie Date: Wednesday, July 09 2025 15:13:32 DPDK git baseline: Repo:dpdk Branch: master CommitID:9fe9c0b231c8da5435bfccb1963121b4277f961c 155109 --> testing pass Upstream job id: Generic-DPDK-Compile-ABI#133998 Test environment and result as below: +-------------------------------+----------+ | Environment | abi_test | +===============================+==========+ | CentOS Stream 9 | PASS | +-------------------------------+----------+ | Debian GNU/Linux 12 | PASS | +-------------------------------+----------+ | CentOS Stream 10 | PASS | +-------------------------------+----------+ | Fedora Linux 40 | PASS | +-------------------------------+----------+ | Red Hat Enterprise Linux 8.10 | PASS | +-------------------------------+----------+ | Fedora Linux 41 | PASS | +-------------------------------+----------+ | Red Hat Enterprise Linux 9.5 | PASS | +-------------------------------+----------+ | openSUSE Leap 15.6 | PASS | +-------------------------------+----------+ | Ubuntu 22.04 | PASS | +-------------------------------+----------+ | Ubuntu 24.04 | PASS | +-------------------------------+----------+ CentOS Stream 9 Kernel: 5.15 Compiler: gcc gcc (GCC) 11.5.0 20240719 (Red Hat 11.5.0-7) Debian GNU/Linux 12 Kernel: 5.15 Compiler: gcc gcc (Debian 12.2.0-14+deb12u1) 12.2.0 CentOS Stream 10 Kernel: 5.15 Compiler: gcc gcc (GCC) 14.2.1 20250110 (Red Hat 14.2.1-8) Fedora Linux 40 Kernel: 5.15 Compiler: gcc gcc (GCC) 14.2.1 20240912 (Red Hat 14.2.1-3) Red Hat Enterprise Linux 8.10 Kernel: 5.15 Compiler: gcc gcc (GCC) 8.5.0 20210514 (Red Hat 8.5.0-22) Fedora Linux 41 Kernel: 5.15 Compiler: clang gcc (GCC) 14.3.1 20250523 (Red Hat 14.3.1-1) Red Hat Enterprise Linux 9.5 Kernel: 5.15 Compiler: gcc gcc (GCC) 11.5.0 20240719 (Red Hat 11.5.0-2) openSUSE Leap 15.6 Kernel: 5.15 Compiler: gcc gcc (SUSE Linux) 7.5.0 Ubuntu 22.04 Kernel: 5.15 Compiler: gcc gcc (Ubuntu 11.4.0-1ubuntu1~22.04) 11.4.0 Ubuntu 24.04 Kernel: 5.15 Compiler: gcc gcc (Ubuntu 13.3.0-6ubuntu2~24.04) 13.3.0 To view detailed results, visit: https://lab.dpdk.org/results/dashboard/patchsets/33628/ UNH-IOL DPDK Community Lab To manage your email subscriptions, visit: https://lab.dpdk.org/results/dashboard/preferences/subscriptions/