From mboxrd@z Thu Jan 1 00:00:00 1970 Return-Path: Received: from mails.dpdk.org (mails.dpdk.org [217.70.189.124]) by inbox.dpdk.org (Postfix) with ESMTP id 7AAC046A6D for ; Thu, 10 Jul 2025 22:48:50 +0200 (CEST) Received: from mails.dpdk.org (localhost [127.0.0.1]) by mails.dpdk.org (Postfix) with ESMTP id 598F44028C; Thu, 10 Jul 2025 22:48:50 +0200 (CEST) Received: from mail-il1-f228.google.com (mail-il1-f228.google.com [209.85.166.228]) by mails.dpdk.org (Postfix) with ESMTP id C0EDC4028C for ; Thu, 10 Jul 2025 22:48:49 +0200 (CEST) Received: by mail-il1-f228.google.com with SMTP id e9e14a558f8ab-3de252f75d7so13823645ab.3 for ; Thu, 10 Jul 2025 13:48:49 -0700 (PDT) DKIM-Signature: v=1; a=rsa-sha256; c=relaxed/relaxed; d=iol.unh.edu; s=unh-iol; t=1752180529; x=1752785329; darn=dpdk.org; h=references:in-reply-to:cc:to:from:subject:message-id:date:from:to :cc:subject:date:message-id:reply-to; bh=ngeib0zoaiy7MlsKAIfHT9A4+bVMVzeiw0dt/MGE39w=; b=MCGRlCHIUBNfOu+wRE4F+37C3nP4L3lsMtogJF+khPwMASO9IjCVrB21d/u2yMs/L0 5ZWf/rQ1+uT4+ZYiRUsQSt0J/RtpD6yCOVO40YmkaX1d2Np/lYSQT0pScPxPYtRKxZFa jEammUKNtYYqSBCuKdLXCZY29tV+w3naaPj4w= X-Google-DKIM-Signature: v=1; a=rsa-sha256; c=relaxed/relaxed; d=1e100.net; s=20230601; t=1752180529; x=1752785329; h=references:in-reply-to:cc:to:from:subject:message-id:date :x-gm-message-state:from:to:cc:subject:date:message-id:reply-to; bh=ngeib0zoaiy7MlsKAIfHT9A4+bVMVzeiw0dt/MGE39w=; b=Xlz5tg+cIEHxHisZ2G2VquQrfq/GJo/0b2ZrNCV8kOxpUFaNnQ6t4bbTkrKztjg5C6 xmUFZM1R/zizsTorM/BdDzOSEfx15zZbkncvZJTWADJWUAUWXd2LQ5wQJA8wstYU00g4 L7B+js4ri+sA3xIvjr5GxMDvnVrEPetSXfyZ6QDcVywYw93gQoDRsR/+v8FAWl26o8m0 j3qHIfOyp1l0JobfH1eE+06h4zj/lKBkIbWuC2DZbYkOAkisLdxDknHtRlBM8Qt7IMqY OPtqg8VTr1I3lsyh5a14jJidTRY3Er0PZdwieneXlmVlmzJBvvOpWkt3eWBpudgUTKId r60g== X-Gm-Message-State: AOJu0YzAN5UeAGTipLjQw3yfZ4gD2878GFgPpCyGlI/UGHL4BEAddpZi vgPkRxM/6bPpN1uSetsUzF8SANCd8mGPQxZEHqtLjSqZSQK4ay1xwU4p3bFQe9BITKfopMqhHWe AI6jXGs1Sp88f1euf5Kcolxdmo6oDCo7rs0lK9VAJu+556jgL7GPSKdobMePv X-Gm-Gg: ASbGncsrD8ViGPF8KJeWRxoE4rbNh6kOdQ1HahiiJ8MNHqABcKtehhmCxC0PrPl3dQU 2F47FGkn4mMHsHslVH/77saNNgdm9aC+aWho/kallSjkeVasbAYtEaemDpIQzArAz0/0LqPtlM4 PnftOX25YHwHKYQz1b923fe4jSzFTc3YPcHgJfxjMNfjTjDk2DKozYC8seh3aGTPupeOvWUA6P9 Bu3EWYYRTgThcGCnTyMHQ16z2iflJ8m8544/2ucpfcC00mKFi824kgzwyltjnJEgnYp/e4zEhR5 q5gLUcla5vf92pWLAahWoN15TVincOK9gzeM/RLtYfNjUZs= X-Google-Smtp-Source: AGHT+IHdRbBRc8HiOKu+JLZmLHeCT9AkvqCEADEFzhEipjWrD8LHWFxdYYwZ2YbafLdgdp88oDDlr7fR9PRv X-Received: by 2002:a05:6e02:1c05:b0:3e0:ec1e:18fe with SMTP id e9e14a558f8ab-3e25332ed05mr10952995ab.15.1752180529065; Thu, 10 Jul 2025 13:48:49 -0700 (PDT) Received: from postal.iol.unh.edu (postal.iol.unh.edu. [2606:4100:3880:1234::84]) by smtp-relay.gmail.com with ESMTPS id e9e14a558f8ab-3e246234361sm1293305ab.62.2025.07.10.13.48.48 (version=TLS1_2 cipher=ECDHE-ECDSA-AES128-GCM-SHA256 bits=128/128); Thu, 10 Jul 2025 13:48:49 -0700 (PDT) X-Relaying-Domain: iol.unh.edu Date: Thu, 10 Jul 2025 13:48:49 -0700 (PDT) Message-ID: <68702731.050a0220.1d5601.6ecbSMTPIN_ADDED_MISSING@mx.google.com> Received: from [172.21.0.6] (unknown [172.18.0.240]) by postal.iol.unh.edu (Postfix) with ESMTP id 93266604D420; Thu, 10 Jul 2025 16:48:48 -0400 (EDT) Subject: |WARNING| pw155109 [PATCH] [v2] test_bbdev: enable to be compiled on From: dpdklab@iol.unh.edu To: Test Report Cc: dpdk-test-reports@iol.unh.edu In-Reply-To: <1752074012-14869-1-git-send-email-andremue@linux.microsoft.com> References: <1752074012-14869-1-git-send-email-andremue@linux.microsoft.com> Content-Type: text/plain X-BeenThere: test-report@dpdk.org X-Mailman-Version: 2.1.29 Precedence: list List-Id: automatic DPDK test reports List-Unsubscribe: , List-Archive: List-Post: List-Help: List-Subscribe: , Errors-To: test-report-bounces@dpdk.org Test-Label: iol-compile-amd64-testing Test-Status: WARNING http://dpdk.org/patch/155109 _Testing issues_ Submitter: Andre Muezerie Date: Wednesday, July 09 2025 15:13:32 DPDK git baseline: Repo:dpdk Branch: master CommitID:9fe9c0b231c8da5435bfccb1963121b4277f961c 155109 --> testing issues Upstream job id: Generic-DPDK-Compile-Meson#407803 Test environment and result as below: +-------------------------------+--------------------+-------------------+------------------+-------------------------+-------------------+----------------------+ | Environment | dpdk_meson_compile | dpdk_compile_spdk | dpdk_compile_ovs | dpdk_llvm_clang_compile | dpdk_msvc_compile | dpdk_mingw64_compile | +===============================+====================+===================+==================+=========================+===================+======================+ | CentOS Stream 9 | PASS | PASS | SKIPPED | SKIPPED | SKIPPED | SKIPPED | +-------------------------------+--------------------+-------------------+------------------+-------------------------+-------------------+----------------------+ | Debian GNU/Linux 12 | PASS | PASS | SKIPPED | SKIPPED | SKIPPED | SKIPPED | +-------------------------------+--------------------+-------------------+------------------+-------------------------+-------------------+----------------------+ | CentOS Stream 10 | PASS | SKIPPED | SKIPPED | SKIPPED | SKIPPED | SKIPPED | +-------------------------------+--------------------+-------------------+------------------+-------------------------+-------------------+----------------------+ | Fedora Linux 40 | PASS | PASS | SKIPPED | SKIPPED | SKIPPED | SKIPPED | +-------------------------------+--------------------+-------------------+------------------+-------------------------+-------------------+----------------------+ | Fedora Linux 41 | PASS | PASS | PASS | SKIPPED | SKIPPED | SKIPPED | +-------------------------------+--------------------+-------------------+------------------+-------------------------+-------------------+----------------------+ | openSUSE Leap 15.6 | PASS | SKIPPED | SKIPPED | SKIPPED | SKIPPED | SKIPPED | +-------------------------------+--------------------+-------------------+------------------+-------------------------+-------------------+----------------------+ | Red Hat Enterprise Linux 8.10 | PASS | SKIPPED | SKIPPED | SKIPPED | SKIPPED | SKIPPED | +-------------------------------+--------------------+-------------------+------------------+-------------------------+-------------------+----------------------+ | Ubuntu 20.04 | PASS | SKIPPED | SKIPPED | SKIPPED | SKIPPED | SKIPPED | +-------------------------------+--------------------+-------------------+------------------+-------------------------+-------------------+----------------------+ | Red Hat Enterprise Linux 9.5 | PASS | SKIPPED | SKIPPED | SKIPPED | SKIPPED | SKIPPED | +-------------------------------+--------------------+-------------------+------------------+-------------------------+-------------------+----------------------+ | Ubuntu 22.04 | PASS | PASS | SKIPPED | SKIPPED | SKIPPED | SKIPPED | +-------------------------------+--------------------+-------------------+------------------+-------------------------+-------------------+----------------------+ | Ubuntu 24.04 | PASS | PASS | PASS | SKIPPED | SKIPPED | SKIPPED | +-------------------------------+--------------------+-------------------+------------------+-------------------------+-------------------+----------------------+ | Alpine Linux 3.22.0 | PASS | SKIPPED | SKIPPED | SKIPPED | SKIPPED | SKIPPED | +-------------------------------+--------------------+-------------------+------------------+-------------------------+-------------------+----------------------+ | FreeBSD 14.2 | PASS | SKIPPED | SKIPPED | SKIPPED | SKIPPED | SKIPPED | +-------------------------------+--------------------+-------------------+------------------+-------------------------+-------------------+----------------------+ | Windows Server 2022 | SKIPPED | SKIPPED | SKIPPED | PASS | PASS | PASS | +-------------------------------+--------------------+-------------------+------------------+-------------------------+-------------------+----------------------+ CentOS Stream 9 Kernel: 5.15 Compiler: gcc gcc (GCC) 11.5.0 20240719 (Red Hat 11.5.0-7) Debian GNU/Linux 12 Kernel: 5.15 Compiler: gcc gcc (Debian 12.2.0-14+deb12u1) 12.2.0 CentOS Stream 10 Kernel: 5.15 Compiler: gcc gcc (GCC) 14.2.1 20250110 (Red Hat 14.2.1-8) Fedora Linux 40 Kernel: 5.15 Compiler: clang gcc (GCC) 14.2.1 20240912 (Red Hat 14.2.1-3) Fedora Linux 41 Kernel: 5.15 Compiler: clang gcc (GCC) 14.3.1 20250523 (Red Hat 14.3.1-1) openSUSE Leap 15.6 Kernel: 5.15 Compiler: gcc gcc (SUSE Linux) 7.5.0 Red Hat Enterprise Linux 8.10 Kernel: 5.15 Compiler: gcc gcc (GCC) 8.5.0 20210514 (Red Hat 8.5.0-22) Ubuntu 20.04 Kernel: 5.15 Compiler: gcc gcc (Ubuntu 9.4.0-1ubuntu1~20.04.2) 9.4.0 Red Hat Enterprise Linux 9.5 Kernel: 5.15 Compiler: gcc gcc (GCC) 11.5.0 20240719 (Red Hat 11.5.0-2) Ubuntu 22.04 Kernel: 5.15 Compiler: gcc gcc (Ubuntu 11.4.0-1ubuntu1~22.04) 11.4.0 Ubuntu 24.04 Kernel: 5.15 Compiler: gcc gcc (Ubuntu 13.3.0-6ubuntu2~24.04) 13.3.0 Alpine Linux 3.22.0 Kernel: 5.15 Compiler: gcc gcc (Alpine 14.2.0) 14.2.0 FreeBSD 14.2 Kernel: 14.2-RELEASE Compiler: clang 18.1.6 Windows Server 2022 Kernel: 10.0.20348.2031 Compiler: clang 15.0.7, gcc 14.1.0 (MinGW), and MSVC VS 19.39.33521 To view detailed results, visit: https://lab.dpdk.org/results/dashboard/patchsets/33628/ UNH-IOL DPDK Community Lab To manage your email subscriptions, visit: https://lab.dpdk.org/results/dashboard/preferences/subscriptions/