From mboxrd@z Thu Jan 1 00:00:00 1970 Return-Path: Received: from mails.dpdk.org (mails.dpdk.org [217.70.189.124]) by inbox.dpdk.org (Postfix) with ESMTP id 407B346A6D for ; Thu, 10 Jul 2025 23:41:47 +0200 (CEST) Received: from mails.dpdk.org (localhost [127.0.0.1]) by mails.dpdk.org (Postfix) with ESMTP id 17D254028C; Thu, 10 Jul 2025 23:41:47 +0200 (CEST) Received: from mail-yb1-f228.google.com (mail-yb1-f228.google.com [209.85.219.228]) by mails.dpdk.org (Postfix) with ESMTP id C7E714028C for ; Thu, 10 Jul 2025 23:41:45 +0200 (CEST) Received: by mail-yb1-f228.google.com with SMTP id 3f1490d57ef6-e8b67d2acfbso1306000276.2 for ; Thu, 10 Jul 2025 14:41:45 -0700 (PDT) DKIM-Signature: v=1; a=rsa-sha256; c=relaxed/relaxed; d=iol.unh.edu; s=unh-iol; t=1752183705; x=1752788505; darn=dpdk.org; h=references:in-reply-to:cc:to:from:subject:message-id:date:from:to :cc:subject:date:message-id:reply-to; bh=vzAZfZSZAp8Ins8VopuTurUbpr/X1p4mJAl1e9WaOIE=; b=hqoqDM0SRj/4QphxXanun/HJ1nIgcy4vyGjjsfr7eyKONsdBtsB10wFCfxpw5DFT/c PuMLD5kBrrzDaBDlK9zBoXcCkZDGEB+juS2Jeq3WYnCengntiM3dYNO4HIjI8tb7GQhd nMlSEU67OAQQCZZobhFRcxoApfyR8Gm+UQGUg= X-Google-DKIM-Signature: v=1; a=rsa-sha256; c=relaxed/relaxed; d=1e100.net; s=20230601; t=1752183705; x=1752788505; h=references:in-reply-to:cc:to:from:subject:message-id:date :x-gm-message-state:from:to:cc:subject:date:message-id:reply-to; bh=vzAZfZSZAp8Ins8VopuTurUbpr/X1p4mJAl1e9WaOIE=; b=wi+b1WwDNi68er8ZZEYNmvkdpc/HZLkrmJDyBCuGt/Csr2JqiGA/VPvVg7maG1Jw+C kkaessnYdTH1kSJqBTzgcGAsa/shCDFEuU2jWyGN42/vQhfs+4CSjSK8dY5zOE2C1f1U lUEhefKmXOG2Myz6EUvJDGEpx6HvWbM105rduRxJzC8Ce7jpj5sHoq0DS4cvnKapGbzT xEHFSEGMECBpY4LSB+MjgqlZXoXfmpeyCpBG4dROsuNoCxw/8JZb2YaOeWz+ZrKDPX4x SF6oESFYVAC7YuL5pUdnSo6Hz5p9wRwNw/3fbXGtEULFMwbwV2VEfHW3aYLYhag9lLZ7 G7aA== X-Gm-Message-State: AOJu0YzGdRoH4EwRMKxgXQDfVC4rN9aMwzz0pFKPLbei1eG2Kxoa+E32 MjA/Geb0Woe3xNiTdD2gBMGdKdap+nQyegJxanvzuHkAgN9H5VnP5v9tj0QUwgk98my7EeHnDl/ tk1HKt5UishdqYPXgeaUaexChvtfYKQ36evnuejPqcTJJ X-Gm-Gg: ASbGncsNzh4uUqGE5aUgKwCLgez0Not3YYsEN4FxyepmYVHYdeJZgM2TslV6p89Jk6u zTag4tDlregUMKzLo2LP9O6e1eMSIbpK/ss4azAk+CXvOWLpyn+pD/9CiJ0aoRMnh0rV6IbF9n1 acqZEkzx0UhfnV9EZ/RwTiUsIMXrKZ1stXqt3qrBP+h80IVfnehGAD9gIFVMbXQ9/rXmwPswt8z UlP17aO6wgDvz5oSg60wuK0aMg3XI5vZbU+YulVrTmJqWIq+IytwvPvHSfrbJgeVHdUtmaCS09b TiL+PDf+BvMQxTrTWv1dOQFhKpxPqzQpSB8sLEIMzZ/fq7mS63X1LTHosA2fkEdnuX/2Tf+v X-Google-Smtp-Source: AGHT+IHPUiEYKEC3+hQNiN3AnY0T1frgcdkzqBS6ONKOdCc2erzUJ3nEasPIRs8bW/bVpGbkMHIes9lcmECj X-Received: by 2002:a05:690c:887:b0:70e:128c:3005 with SMTP id 00721157ae682-717d5dc6e76mr21398487b3.21.1752183705097; Thu, 10 Jul 2025 14:41:45 -0700 (PDT) Received: from postal.iol.unh.edu (postal.iol.unh.edu. [132.177.123.84]) by smtp-relay.gmail.com with ESMTPS id 00721157ae682-717c6201f1asm749147b3.45.2025.07.10.14.41.45 (version=TLS1_2 cipher=ECDHE-ECDSA-AES128-GCM-SHA256 bits=128/128); Thu, 10 Jul 2025 14:41:45 -0700 (PDT) X-Relaying-Domain: iol.unh.edu Date: Thu, 10 Jul 2025 14:41:45 -0700 (PDT) Message-ID: <68703399.050a0220.7676e.4142SMTPIN_ADDED_MISSING@mx.google.com> Received: from [172.21.0.5] (unknown [172.18.0.240]) by postal.iol.unh.edu (Postfix) with ESMTP id BDF09604D420; Thu, 10 Jul 2025 17:41:44 -0400 (EDT) Subject: |SUCCESS| pw155144-155141 [PATCH] [v2,6/6] net/zxdh: add support I51 From: dpdklab@iol.unh.edu To: Test Report Cc: dpdk-test-reports@iol.unh.edu In-Reply-To: <20250710105643.516329-7-wang.junlong1@zte.com.cn> References: <20250710105643.516329-7-wang.junlong1@zte.com.cn> Content-Type: text/plain X-BeenThere: test-report@dpdk.org X-Mailman-Version: 2.1.29 Precedence: list List-Id: automatic DPDK test reports List-Unsubscribe: , List-Archive: List-Post: List-Help: List-Subscribe: , Errors-To: test-report-bounces@dpdk.org Test-Label: iol-compile-arm64-testing Test-Status: SUCCESS http://dpdk.org/patch/155141 _Testing PASS_ Submitter: Junlong Wang Date: Thursday, July 10 2025 10:56:43 DPDK git baseline: Repo:dpdk Branch: master CommitID:ba982f9a1ca9b96ed0394b764f1523d482e963a2 155144-155141 --> testing pass Upstream job id: Generic-DPDK-Compile-Meson#407752 Test environment and result as below: +------------------------------+--------------------+ | Environment | dpdk_meson_compile | +==============================+====================+ | Red Hat Enterprise Linux 9.5 | PASS | +------------------------------+--------------------+ | Debian GNU/Linux 12 | PASS | +------------------------------+--------------------+ | Ubuntu 20.04 | PASS | +------------------------------+--------------------+ | Fedora Linux 40 | PASS | +------------------------------+--------------------+ | Fedora Linux 41 | PASS | +------------------------------+--------------------+ | CentOS Stream 10 | PASS | +------------------------------+--------------------+ | Ubuntu 24.04 | PASS | +------------------------------+--------------------+ | CentOS Stream 9 | PASS | +------------------------------+--------------------+ | Ubuntu 22.04 | PASS | +------------------------------+--------------------+ Red Hat Enterprise Linux 9.5 Kernel: 5.4 Compiler: gcc gcc (GCC) 11.5.0 20240719 (Red Hat 11.5.0-2) Debian GNU/Linux 12 Kernel: 5.4 Compiler: gcc gcc (Debian 12.2.0-14+deb12u1) 12.2.0 Ubuntu 20.04 Kernel: 5.4 Compiler: gcc gcc (Ubuntu 9.4.0-1ubuntu1~20.04.2) 9.4.0 Fedora Linux 40 Kernel: 5.4 Compiler: gcc gcc (GCC) 14.2.1 20240912 (Red Hat 14.2.1-3) Fedora Linux 41 Kernel: 5.4 Compiler: clang gcc (GCC) 14.3.1 20250523 (Red Hat 14.3.1-1) CentOS Stream 10 Kernel: 5.4 Compiler: gcc gcc (GCC) 14.2.1 20250110 (Red Hat 14.2.1-8) Ubuntu 24.04 Kernel: 5.4 Compiler: gcc gcc (Ubuntu 13.3.0-6ubuntu2~24.04) 13.3.0 CentOS Stream 9 Kernel: 5.4 Compiler: gcc gcc (GCC) 11.5.0 20240719 (Red Hat 11.5.0-7) Ubuntu 22.04 Kernel: 5.4 Compiler: gcc gcc (Ubuntu 11.4.0-1ubuntu1~22.04) 11.4.0 To view detailed results, visit: https://lab.dpdk.org/results/dashboard/patchsets/33633/ UNH-IOL DPDK Community Lab To manage your email subscriptions, visit: https://lab.dpdk.org/results/dashboard/preferences/subscriptions/