From mboxrd@z Thu Jan 1 00:00:00 1970 Return-Path: Received: from mails.dpdk.org (mails.dpdk.org [217.70.189.124]) by inbox.dpdk.org (Postfix) with ESMTP id 34A6C46A6D for ; Thu, 10 Jul 2025 23:42:08 +0200 (CEST) Received: from mails.dpdk.org (localhost [127.0.0.1]) by mails.dpdk.org (Postfix) with ESMTP id 2A2B34028C; Thu, 10 Jul 2025 23:42:08 +0200 (CEST) Received: from mail-io1-f97.google.com (mail-io1-f97.google.com [209.85.166.97]) by mails.dpdk.org (Postfix) with ESMTP id 1E3B04028C for ; Thu, 10 Jul 2025 23:42:07 +0200 (CEST) Received: by mail-io1-f97.google.com with SMTP id ca18e2360f4ac-86cf3dd8c97so140690739f.2 for ; Thu, 10 Jul 2025 14:42:07 -0700 (PDT) DKIM-Signature: v=1; a=rsa-sha256; c=relaxed/relaxed; d=iol.unh.edu; s=unh-iol; t=1752183726; x=1752788526; darn=dpdk.org; h=references:in-reply-to:cc:to:from:subject:message-id:date:from:to :cc:subject:date:message-id:reply-to; bh=lLmsDp7M4G0IYcE1rLA+FnCUt8vtWTodxpbiEYh+BYw=; b=aj7kWWZ9utFORVr1hg+wRhDQS8WR8GEyYsE5vMJNu6YKrVQqzYru+88YUJe7WyFM5G J6LpiN3fqhcvkQ0y9Sf5ASgoZ2TmEkYJ0DWaHRrQBPOjyBsY9JMhHnv5ipFqRxfPm6IA Lm3I5qalTRmRqew/EIHZ+jg/z+N6SIbpk/uTU= X-Google-DKIM-Signature: v=1; a=rsa-sha256; c=relaxed/relaxed; d=1e100.net; s=20230601; t=1752183726; x=1752788526; h=references:in-reply-to:cc:to:from:subject:message-id:date :x-gm-message-state:from:to:cc:subject:date:message-id:reply-to; bh=lLmsDp7M4G0IYcE1rLA+FnCUt8vtWTodxpbiEYh+BYw=; b=LhjszzNrOsXPD7H4XkRdS2eV8OhNh44AnwyZBW0Lo4sgZ5Kv4uR1BNKmUlxlFEpGtY 2ck+wubRjgEnldH/pm7HeCCTmOviXzrjo4rLAfjIP3+yj2GOKFKuC1NBzHu2hE9cAB8U 33H5jWtaEllyWmooXfO50rtkJn+E7l7Wu3+UKnHF3AfogHabzA/24lXNACGb/MamTRpk dGcwjhVe0lRof+XmBHFfjNi5FiXLHqRqUHBr4g/THcw6KFgjrK6pw513wJRyWSJpdg6+ mrFgTolFYcG3Xjk11hjboy27FgM/6p6VdaelTZfOJRmcH0tyf+2Nn7txSfuasm0KOOuF HiMA== X-Gm-Message-State: AOJu0YwnOSMjS4ynZwxaW2CGTLcgZ0dXclDSq6QIK5XOJwa+aQLNI07Q Nbvckj561W+6QyNJLkcW8DkF71iT2oJESa5xJCIUJ/tw8Bm5ICN5iL1TVeb/XV05FPQk6IlPgu+ mV6s8IFaqlPypAg81RpOn/GfZ8S7vhhSRiObxzUeRuLf/xRAb/RNSg3kUkNS2 X-Gm-Gg: ASbGnctwsHWFgrA2tZbVkqeWCQsDLQZ0OqmJeZUbWQrHdyTHx9FX1QiViJKhda1ibVK UfXYYeVWre0/m2BeQfiS6VgJmUtvggF8b5SXAnUXmTPYYQwdphC0uhRyrcPUgeLGwGDV4E3a2Bm ciDKwlNcTObqmtTz0BqHCJMBqE/VE2x8SK4HM6AU3t2fYMCqaHIY5s3ovejkfSObtI4yjg2tIlm 9zHKxsZhg+No5uS2Qa5gV0M4bovkltEL7hniSNwEpB8N299Y73fL0/3B/M7Jtl1kfPB9J2NOfhZ oskfyzmK1X98gYTVmOUHZRO9tc5pn7IwHoiG/Mys8iLwY90= X-Google-Smtp-Source: AGHT+IHdxpn2U2BbiWqjnu10cDSxPz5fnOcjSrowU2ZhxMJyu3uGbeZGuuYxNr38gQh4Rw3DrBS2m3HjsyMd X-Received: by 2002:a05:6602:e4b:b0:86c:f603:8907 with SMTP id ca18e2360f4ac-879787c3674mr93033239f.5.1752183726356; Thu, 10 Jul 2025 14:42:06 -0700 (PDT) Received: from postal.iol.unh.edu (postal.iol.unh.edu. [2606:4100:3880:1234::84]) by smtp-relay.gmail.com with ESMTPS id 8926c6da1cb9f-505565d9bb2sm95408173.33.2025.07.10.14.42.06 (version=TLS1_2 cipher=ECDHE-ECDSA-AES128-GCM-SHA256 bits=128/128); Thu, 10 Jul 2025 14:42:06 -0700 (PDT) X-Relaying-Domain: iol.unh.edu Date: Thu, 10 Jul 2025 14:42:06 -0700 (PDT) Message-ID: <687033ae.050a0220.270991.52f2SMTPIN_ADDED_MISSING@mx.google.com> Received: from [172.21.0.5] (unknown [172.18.0.240]) by postal.iol.unh.edu (Postfix) with ESMTP id DCF33604D420; Thu, 10 Jul 2025 17:42:05 -0400 (EDT) Subject: |SUCCESS| pw155144-155141 [PATCH] [v2,6/6] net/zxdh: add support I51 From: dpdklab@iol.unh.edu To: Test Report Cc: dpdk-test-reports@iol.unh.edu In-Reply-To: <20250710105643.516329-7-wang.junlong1@zte.com.cn> References: <20250710105643.516329-7-wang.junlong1@zte.com.cn> Content-Type: text/plain X-BeenThere: test-report@dpdk.org X-Mailman-Version: 2.1.29 Precedence: list List-Id: automatic DPDK test reports List-Unsubscribe: , List-Archive: List-Post: List-Help: List-Subscribe: , Errors-To: test-report-bounces@dpdk.org Test-Label: iol-compile-arm64-testing Test-Status: SUCCESS http://dpdk.org/patch/155141 _Testing PASS_ Submitter: Junlong Wang Date: Thursday, July 10 2025 10:56:43 DPDK git baseline: Repo:dpdk Branch: master CommitID:ba982f9a1ca9b96ed0394b764f1523d482e963a2 155144-155141 --> testing pass Upstream job id: Generic-DPDK-Compile-Meson#407750 Test environment and result as below: +------------------------------+--------------------+ | Environment | dpdk_meson_compile | +==============================+====================+ | Red Hat Enterprise Linux 9.5 | PASS | +------------------------------+--------------------+ | Debian GNU/Linux 12 | PASS | +------------------------------+--------------------+ | Ubuntu 20.04 | PASS | +------------------------------+--------------------+ | Fedora Linux 40 | PASS | +------------------------------+--------------------+ | Fedora Linux 41 | PASS | +------------------------------+--------------------+ | CentOS Stream 10 | PASS | +------------------------------+--------------------+ | Ubuntu 24.04 | PASS | +------------------------------+--------------------+ | CentOS Stream 9 | PASS | +------------------------------+--------------------+ | Ubuntu 22.04 | PASS | +------------------------------+--------------------+ Red Hat Enterprise Linux 9.5 Kernel: 5.4 Compiler: gcc gcc (GCC) 11.5.0 20240719 (Red Hat 11.5.0-2) Debian GNU/Linux 12 Kernel: 5.4 Compiler: gcc gcc (Debian 12.2.0-14+deb12u1) 12.2.0 Ubuntu 20.04 Kernel: 5.4 Compiler: gcc gcc (Ubuntu 9.4.0-1ubuntu1~20.04.2) 9.4.0 Fedora Linux 40 Kernel: 5.4 Compiler: gcc gcc (GCC) 14.2.1 20240912 (Red Hat 14.2.1-3) Fedora Linux 41 Kernel: 5.4 Compiler: clang gcc (GCC) 14.3.1 20250523 (Red Hat 14.3.1-1) CentOS Stream 10 Kernel: 5.4 Compiler: gcc gcc (GCC) 14.2.1 20250110 (Red Hat 14.2.1-8) Ubuntu 24.04 Kernel: 5.4 Compiler: gcc gcc (Ubuntu 13.3.0-6ubuntu2~24.04) 13.3.0 CentOS Stream 9 Kernel: 5.4 Compiler: gcc gcc (GCC) 11.5.0 20240719 (Red Hat 11.5.0-7) Ubuntu 22.04 Kernel: 5.4 Compiler: gcc gcc (Ubuntu 11.4.0-1ubuntu1~22.04) 11.4.0 To view detailed results, visit: https://lab.dpdk.org/results/dashboard/patchsets/33633/ UNH-IOL DPDK Community Lab To manage your email subscriptions, visit: https://lab.dpdk.org/results/dashboard/preferences/subscriptions/