From mboxrd@z Thu Jan 1 00:00:00 1970 Return-Path: Received: from mails.dpdk.org (mails.dpdk.org [217.70.189.124]) by inbox.dpdk.org (Postfix) with ESMTP id B8FD946A6D for ; Thu, 10 Jul 2025 23:55:51 +0200 (CEST) Received: from mails.dpdk.org (localhost [127.0.0.1]) by mails.dpdk.org (Postfix) with ESMTP id 9053A4028C; Thu, 10 Jul 2025 23:55:51 +0200 (CEST) Received: from mail-pj1-f97.google.com (mail-pj1-f97.google.com [209.85.216.97]) by mails.dpdk.org (Postfix) with ESMTP id 366094028C for ; Thu, 10 Jul 2025 23:55:50 +0200 (CEST) Received: by mail-pj1-f97.google.com with SMTP id 98e67ed59e1d1-313cde344d4so1656392a91.0 for ; Thu, 10 Jul 2025 14:55:50 -0700 (PDT) DKIM-Signature: v=1; a=rsa-sha256; c=relaxed/relaxed; d=iol.unh.edu; s=unh-iol; t=1752184549; x=1752789349; darn=dpdk.org; h=references:in-reply-to:cc:to:from:subject:message-id:date:from:to :cc:subject:date:message-id:reply-to; bh=2ujuAhe8Pqgd8+YMZR7G0CesTO3HpqQD0h0TdJw4YbA=; b=GZ6qUtiwer+sDn8YGzRK9S0C3gssrlLe/w6JeS+5rcqSq1WycxtLeoyItGHtns3/pD F01Ix1H3LmeDAh2OdrGqaSKz4tKUvVZJE3fK75cIsrz4vniePVQtXdpWSZ9EZNleTH/L CiIesr48JZKYiFbCERacp/rtyYMUmOAV3HhPw= X-Google-DKIM-Signature: v=1; a=rsa-sha256; c=relaxed/relaxed; d=1e100.net; s=20230601; t=1752184549; x=1752789349; h=references:in-reply-to:cc:to:from:subject:message-id:date :x-gm-message-state:from:to:cc:subject:date:message-id:reply-to; bh=2ujuAhe8Pqgd8+YMZR7G0CesTO3HpqQD0h0TdJw4YbA=; b=Zq8XftntcZHecy9DZA9Z30kGyH1pJxS6h9HtoRSnSB2r9xAXkv/THsCvlxUYYRbyVo op+fqy85Ti76KjvmdfMN+cHrOEp6sIXsmudP9opbuQDcoUfaqZWq3GSgXnITn84TpZrL dXiqtdlfjxl3Drs6xmDU5yRC7uK34idvabvi7k2vLCLLGIJ9uJPZCsm1WXJSJ1ooU7YD XZfgpO1Y57erNsGy70b6U84GB8jfWf3NRjn6N0XqPhb/SfEJznknudkjAtDAOHhX+BMz TEQELEJzhFia/ex8KIqY9UXRXpdNj8TpJntbsPE6lDZOSJlNkFsHYtVgaRjsPPjpYWSn Ig+Q== X-Gm-Message-State: AOJu0Yz4xKxladxgTTLIubQ/UHHy119OQOv5XOYhl4LBBmwq7Y14t8xE Q0vsd1QLihAhzfTagOZdG1tnCTeMTKDvIMHtAZlOo2wZhtQtWmxT5xOy6ZzRoSUujv+lvkTCYfG nQcrPW2/jAQuZeMy2LYUxbGXz71aNHHYY/Ndlc/RoIJmE X-Gm-Gg: ASbGncvp+AvB6B0FtGCPLku9wGSTONxCFgbl+C8hHtpfQxv4XCRbXOlQonDrZJucIjo ibUZ4byxltR6Olb+46N443WBQDdDkCC1idQ5Ph+E7YnIX0dLpfgq87drshuJuYJVsIc5FvyV32h 1qKcjbakRZwLY41OWJkYEfGe7VMgSMLzFmvTFbBIa1gmrkDj84X0YMmpe6cSVN9kWfX0qwn4M99 8ATRXBiNCGcx5HxY2GhwKOjey18JA38uQb4w3FtLcybSFy/pG2Pxo2+YRnm2t+WclMGlADmmKM9 qNUYnkZ/L16Sa10aVAjvFtbd/gGN1dgmXB3peHXn3jEchd5qP1owcoWmOf3odQk1VzMhdw== X-Google-Smtp-Source: AGHT+IG3zsa0ICLg8uA69hfn9n8JELWFwwkaB28nJDzbpC1H0khUujZceawitWWRHJe4wI7Y+OOxVv1dixhb X-Received: by 2002:a17:90b:4a0a:b0:311:ea13:2e70 with SMTP id 98e67ed59e1d1-31c4f4ccca2mr332712a91.14.1752184549258; Thu, 10 Jul 2025 14:55:49 -0700 (PDT) Received: from postal.iol.unh.edu (postal.iol.unh.edu. [132.177.123.84]) by smtp-relay.gmail.com with ESMTPS id 98e67ed59e1d1-31c3eb4c365sm177572a91.11.2025.07.10.14.55.49 (version=TLS1_2 cipher=ECDHE-ECDSA-AES128-GCM-SHA256 bits=128/128); Thu, 10 Jul 2025 14:55:49 -0700 (PDT) X-Relaying-Domain: iol.unh.edu Date: Thu, 10 Jul 2025 14:55:49 -0700 (PDT) Message-ID: <687036e5.170a0220.30352c.9931SMTPIN_ADDED_MISSING@mx.google.com> Received: from [172.21.0.5] (unknown [172.18.0.240]) by postal.iol.unh.edu (Postfix) with ESMTP id 77BA86051830; Thu, 10 Jul 2025 17:55:48 -0400 (EDT) Subject: |WARNING| pw155109 [PATCH] [v2] test_bbdev: enable to be compiled on From: dpdklab@iol.unh.edu To: Test Report Cc: dpdk-test-reports@iol.unh.edu In-Reply-To: <1752074012-14869-1-git-send-email-andremue@linux.microsoft.com> References: <1752074012-14869-1-git-send-email-andremue@linux.microsoft.com> Content-Type: text/plain X-BeenThere: test-report@dpdk.org X-Mailman-Version: 2.1.29 Precedence: list List-Id: automatic DPDK test reports List-Unsubscribe: , List-Archive: List-Post: List-Help: List-Subscribe: , Errors-To: test-report-bounces@dpdk.org Test-Label: iol-compile-amd64-testing Test-Status: WARNING http://dpdk.org/patch/155109 _Testing issues_ Submitter: Andre Muezerie Date: Wednesday, July 09 2025 15:13:32 DPDK git baseline: Repo:dpdk Branch: master CommitID:9fe9c0b231c8da5435bfccb1963121b4277f961c 155109 --> testing issues Upstream job id: Generic-DPDK-Compile-Meson#407826 Test environment and result as below: +-------------------------------+--------------------+-------------------+------------------+-------------------------+----------------------+ | Environment | dpdk_meson_compile | dpdk_compile_spdk | dpdk_compile_ovs | dpdk_llvm_clang_compile | dpdk_mingw64_compile | +===============================+====================+===================+==================+=========================+======================+ | CentOS Stream 9 | PEND | PASS | SKIPPED | SKIPPED | SKIPPED | +-------------------------------+--------------------+-------------------+------------------+-------------------------+----------------------+ | Fedora Linux 40 | PASS | PASS | SKIPPED | SKIPPED | SKIPPED | +-------------------------------+--------------------+-------------------+------------------+-------------------------+----------------------+ | CentOS Stream 10 | PASS | SKIPPED | SKIPPED | SKIPPED | SKIPPED | +-------------------------------+--------------------+-------------------+------------------+-------------------------+----------------------+ | Debian GNU/Linux 12 | PASS | PASS | SKIPPED | SKIPPED | SKIPPED | +-------------------------------+--------------------+-------------------+------------------+-------------------------+----------------------+ | Red Hat Enterprise Linux 8.10 | PASS | SKIPPED | SKIPPED | SKIPPED | SKIPPED | +-------------------------------+--------------------+-------------------+------------------+-------------------------+----------------------+ | Fedora Linux 41 | PASS | PASS | PASS | SKIPPED | SKIPPED | +-------------------------------+--------------------+-------------------+------------------+-------------------------+----------------------+ | Red Hat Enterprise Linux 9.5 | PASS | SKIPPED | SKIPPED | SKIPPED | SKIPPED | +-------------------------------+--------------------+-------------------+------------------+-------------------------+----------------------+ | Ubuntu 20.04 | PASS | SKIPPED | SKIPPED | SKIPPED | SKIPPED | +-------------------------------+--------------------+-------------------+------------------+-------------------------+----------------------+ | Ubuntu 22.04 | PASS | PASS | SKIPPED | SKIPPED | SKIPPED | +-------------------------------+--------------------+-------------------+------------------+-------------------------+----------------------+ | Ubuntu 24.04 | PEND | SKIPPED | PEND | SKIPPED | SKIPPED | +-------------------------------+--------------------+-------------------+------------------+-------------------------+----------------------+ | FreeBSD 14.2 | PEND | SKIPPED | SKIPPED | SKIPPED | SKIPPED | +-------------------------------+--------------------+-------------------+------------------+-------------------------+----------------------+ | Alpine Linux 3.22.0 | PASS | SKIPPED | SKIPPED | SKIPPED | SKIPPED | +-------------------------------+--------------------+-------------------+------------------+-------------------------+----------------------+ | openSUSE Leap 15.6 | PASS | SKIPPED | SKIPPED | SKIPPED | SKIPPED | +-------------------------------+--------------------+-------------------+------------------+-------------------------+----------------------+ | Windows Server 2022 | SKIPPED | SKIPPED | SKIPPED | PASS | PASS | +-------------------------------+--------------------+-------------------+------------------+-------------------------+----------------------+ CentOS Stream 9 Kernel: 5.15 Compiler: gcc gcc (GCC) 11.5.0 20240719 (Red Hat 11.5.0-7) Fedora Linux 40 Kernel: 5.15 Compiler: clang gcc (GCC) 14.2.1 20240912 (Red Hat 14.2.1-3) CentOS Stream 10 Kernel: 5.15 Compiler: gcc gcc (GCC) 14.2.1 20250110 (Red Hat 14.2.1-8) Debian GNU/Linux 12 Kernel: 5.15 Compiler: gcc gcc (Debian 12.2.0-14+deb12u1) 12.2.0 Red Hat Enterprise Linux 8.10 Kernel: 5.15 Compiler: gcc gcc (GCC) 8.5.0 20210514 (Red Hat 8.5.0-22) Fedora Linux 41 Kernel: 5.15 Compiler: clang gcc (GCC) 14.3.1 20250523 (Red Hat 14.3.1-1) Red Hat Enterprise Linux 9.5 Kernel: 5.15 Compiler: gcc gcc (GCC) 11.5.0 20240719 (Red Hat 11.5.0-2) Ubuntu 20.04 Kernel: 4.19 Compiler: gcc gcc (Ubuntu 9.4.0-1ubuntu1~20.04.2) 9.4.0 Ubuntu 22.04 Kernel: 5.15 Compiler: gcc gcc (Ubuntu 11.4.0-1ubuntu1~22.04) 11.4.0 Ubuntu 24.04 Kernel: 5.15 Compiler: gcc gcc (Ubuntu 13.3.0-6ubuntu2~24.04) 13.3.0 FreeBSD 14.2 Kernel: 14.2-RELEASE Compiler: clang 18.1.6 Alpine Linux 3.22.0 Kernel: 5.15 Compiler: gcc gcc (Alpine 14.2.0) 14.2.0 openSUSE Leap 15.6 Kernel: 5.15 Compiler: gcc gcc (SUSE Linux) 7.5.0 Windows Server 2022 Kernel: 10.0.20348.2031 Compiler: clang 15.0.7, gcc 14.1.0 (MinGW), and MSVC VS 19.39.33521 To view detailed results, visit: https://lab.dpdk.org/results/dashboard/patchsets/33628/ UNH-IOL DPDK Community Lab To manage your email subscriptions, visit: https://lab.dpdk.org/results/dashboard/preferences/subscriptions/