From mboxrd@z Thu Jan 1 00:00:00 1970 Return-Path: Received: from mails.dpdk.org (mails.dpdk.org [217.70.189.124]) by inbox.dpdk.org (Postfix) with ESMTP id 2D6EB46A6D for ; Thu, 10 Jul 2025 23:59:50 +0200 (CEST) Received: from mails.dpdk.org (localhost [127.0.0.1]) by mails.dpdk.org (Postfix) with ESMTP id 0181D4028C; Thu, 10 Jul 2025 23:59:50 +0200 (CEST) Received: from mail-il1-f227.google.com (mail-il1-f227.google.com [209.85.166.227]) by mails.dpdk.org (Postfix) with ESMTP id 7EABE4028C for ; Thu, 10 Jul 2025 23:59:48 +0200 (CEST) Received: by mail-il1-f227.google.com with SMTP id e9e14a558f8ab-3ddd2710d14so11240575ab.2 for ; Thu, 10 Jul 2025 14:59:48 -0700 (PDT) DKIM-Signature: v=1; a=rsa-sha256; c=relaxed/relaxed; d=iol.unh.edu; s=unh-iol; t=1752184788; x=1752789588; darn=dpdk.org; h=references:in-reply-to:cc:to:from:subject:message-id:date:from:to :cc:subject:date:message-id:reply-to; bh=vbyvmJpjwXtJ2+S1T28ZACR+3Jl5u0zZu1StbXpHOdo=; b=hrH4IjbH9lP5g7jMGZsYrO7cj1W6xjiDdwk6ouBkYVsg1yuHznKVERPNtz4675xLxw +4FvvbQvE88wn2mkAQGjMFE6nywocYy3RZpgFPWufkDjER5bqOQtnWpoPHmYilkBeA2O Q7+QhSuiQopyqQyFGYMeANR1wYGHYTrPnxSBU= X-Google-DKIM-Signature: v=1; a=rsa-sha256; c=relaxed/relaxed; d=1e100.net; s=20230601; t=1752184788; x=1752789588; h=references:in-reply-to:cc:to:from:subject:message-id:date :x-gm-message-state:from:to:cc:subject:date:message-id:reply-to; bh=vbyvmJpjwXtJ2+S1T28ZACR+3Jl5u0zZu1StbXpHOdo=; b=ASKDQGIDLrc7AZlX4pfu9+lINUZfvyWjIfqmNy/h0NbG95bO8+8NHG4FYboOP8g3KK SBXSlr4fZwucf3+akyCCRJbccJ92/I5t39p42bXfI3DvSyN03lx4JUf2NKmpdGyDRIwy 0rpHaY6t9pyumqf4iYJBeJ4lON77OKBqlPRRUdVpCIciXGXHOjrbasSnvkl5PZE6w1uT ir7HagkaMy8tRhCJqm7tSpODWb2icfYtt9+wB5wbGVlK2ZRwx6tmA8M5+e1/4sLD2ciT a626PYL+NSfkx+O220Rmag47OtLSuUg1Ian9RHl/0og8Ip1EMO7ltFBdfmk7FnlIpJ+o M8tA== X-Gm-Message-State: AOJu0YwmkipXaN6nlMwGLSdzfwt4SWQyrA90qxzvUzza2CsboARuA4+c ZVo5pE1mZajPfqfpV4BoWqwiZxcd0pgRIe/jjrUOttsCSc6GxL2bNCeJdSHhviA/Ns603hbdqCw b3sKtFJK2oyPZcdvdoWOIJTf8XUB774yVkDUZtiKl8fts X-Gm-Gg: ASbGncuVE+dY2pbJrhD696TIRuBEhI7nxYIGZZKvfuhsDM6qJTi7knSqXXp1dOsRonc fq1k+BPeHybUC0ot3lrAAGWcsJ6NVn0XwPZ8DVCT4fmQ7PbPGHQotjRzS9DFGzf/9iNzsH9SZ+k yZu2dJ4qqqu7sh93/pHAnie8vH36IgrskNQyC7d3rzlJh9s0LN3+dtxy492iD/XBGfl1g1ZfAeL IkJzZLPrqoDQCFmYNr7raG9p+tpPnqnvE5lhgsyLkLeiHGkG51+3E+56fAoAb4Nqs4c7WIFcZTr KVE0dyLcRD+DFwRZryIei9JXf6YKC3RrlINfmPXcj+i/2PYC7aFklFTUgV0mxrCE0wtmOw== X-Google-Smtp-Source: AGHT+IHPYINVF7s5sy60brvexN0fnZqygmJR8U/g8u60eS9oKJZkJISN/3fggg4XFe8pT3iZTbSqwI+pAVtq X-Received: by 2002:a05:6e02:1b07:b0:3df:3110:cc01 with SMTP id e9e14a558f8ab-3e2543dfc52mr5982655ab.19.1752184787733; Thu, 10 Jul 2025 14:59:47 -0700 (PDT) Received: from postal.iol.unh.edu (postal.iol.unh.edu. [132.177.123.84]) by smtp-relay.gmail.com with ESMTPS id 8926c6da1cb9f-505569ee0b5sm85185173.68.2025.07.10.14.59.47 (version=TLS1_2 cipher=ECDHE-ECDSA-AES128-GCM-SHA256 bits=128/128); Thu, 10 Jul 2025 14:59:47 -0700 (PDT) X-Relaying-Domain: iol.unh.edu Date: Thu, 10 Jul 2025 14:59:47 -0700 (PDT) Message-ID: <687037d3.050a0220.18514f.46ebSMTPIN_ADDED_MISSING@mx.google.com> Received: from [172.21.0.6] (unknown [172.18.0.240]) by postal.iol.unh.edu (Postfix) with ESMTP id 388036051830; Thu, 10 Jul 2025 17:59:47 -0400 (EDT) Subject: |SUCCESS| pw155109 [PATCH] [v2] test_bbdev: enable to be compiled on From: dpdklab@iol.unh.edu To: Test Report Cc: dpdk-test-reports@iol.unh.edu In-Reply-To: <1752074012-14869-1-git-send-email-andremue@linux.microsoft.com> References: <1752074012-14869-1-git-send-email-andremue@linux.microsoft.com> Content-Type: text/plain X-BeenThere: test-report@dpdk.org X-Mailman-Version: 2.1.29 Precedence: list List-Id: automatic DPDK test reports List-Unsubscribe: , List-Archive: List-Post: List-Help: List-Subscribe: , Errors-To: test-report-bounces@dpdk.org Test-Label: iol-unit-amd64-testing Test-Status: SUCCESS http://dpdk.org/patch/155109 _Testing PASS_ Submitter: Andre Muezerie Date: Wednesday, July 09 2025 15:13:32 DPDK git baseline: Repo:dpdk Branch: master CommitID:9fe9c0b231c8da5435bfccb1963121b4277f961c 155109 --> testing pass Upstream job id: Generic-Unit-Test-DPDK#354669 Test environment and result as below: +-------------------------------+----------------+ | Environment | dpdk_unit_test | +===============================+================+ | CentOS Stream 9 | PASS | +-------------------------------+----------------+ | Red Hat Enterprise Linux 8.10 | PASS | +-------------------------------+----------------+ | Fedora Linux 40 | PASS | +-------------------------------+----------------+ | Debian GNU/Linux 12 | PASS | +-------------------------------+----------------+ | CentOS Stream 10 | PASS | +-------------------------------+----------------+ | Fedora Linux 41 | PASS | +-------------------------------+----------------+ | Red Hat Enterprise Linux 9.5 | PASS | +-------------------------------+----------------+ | Ubuntu 20.04 | PASS | +-------------------------------+----------------+ | Ubuntu 22.04 | PASS | +-------------------------------+----------------+ | Ubuntu 24.04 | PASS | +-------------------------------+----------------+ CentOS Stream 9 Kernel: 5.15 Compiler: gcc gcc (GCC) 11.5.0 20240719 (Red Hat 11.5.0-7) Red Hat Enterprise Linux 8.10 Kernel: 5.15 Compiler: gcc gcc (GCC) 8.5.0 20210514 (Red Hat 8.5.0-22) Fedora Linux 40 Kernel: 5.15 Compiler: clang gcc (GCC) 14.2.1 20240912 (Red Hat 14.2.1-3) Debian GNU/Linux 12 Kernel: 5.15 Compiler: gcc gcc (Debian 12.2.0-14+deb12u1) 12.2.0 CentOS Stream 10 Kernel: 5.15 Compiler: gcc gcc (GCC) 14.2.1 20250110 (Red Hat 14.2.1-8) Fedora Linux 41 Kernel: 5.15 Compiler: clang gcc (GCC) 14.3.1 20250523 (Red Hat 14.3.1-1) Red Hat Enterprise Linux 9.5 Kernel: 5.15 Compiler: gcc gcc (GCC) 11.5.0 20240719 (Red Hat 11.5.0-2) Ubuntu 20.04 Kernel: 5.15 Compiler: gcc gcc (Ubuntu 9.4.0-1ubuntu1~20.04.2) 9.4.0 Ubuntu 22.04 Kernel: 5.15 Compiler: gcc gcc (Ubuntu 11.4.0-1ubuntu1~22.04) 11.4.0 Ubuntu 24.04 Kernel: 5.15 Compiler: gcc gcc (Ubuntu 13.3.0-6ubuntu2~24.04) 13.3.0 To view detailed results, visit: https://lab.dpdk.org/results/dashboard/patchsets/33628/ UNH-IOL DPDK Community Lab To manage your email subscriptions, visit: https://lab.dpdk.org/results/dashboard/preferences/subscriptions/