From mboxrd@z Thu Jan 1 00:00:00 1970 Return-Path: Received: from mails.dpdk.org (mails.dpdk.org [217.70.189.124]) by inbox.dpdk.org (Postfix) with ESMTP id 8790D46A6D for ; Fri, 11 Jul 2025 00:11:52 +0200 (CEST) Received: from mails.dpdk.org (localhost [127.0.0.1]) by mails.dpdk.org (Postfix) with ESMTP id 688084026A; Fri, 11 Jul 2025 00:11:52 +0200 (CEST) Received: from mail-qk1-f228.google.com (mail-qk1-f228.google.com [209.85.222.228]) by mails.dpdk.org (Postfix) with ESMTP id ED17E4026A for ; Fri, 11 Jul 2025 00:11:50 +0200 (CEST) Received: by mail-qk1-f228.google.com with SMTP id af79cd13be357-7d5e18860aeso89439485a.0 for ; Thu, 10 Jul 2025 15:11:50 -0700 (PDT) DKIM-Signature: v=1; a=rsa-sha256; c=relaxed/relaxed; d=iol.unh.edu; s=unh-iol; t=1752185510; x=1752790310; darn=dpdk.org; h=references:in-reply-to:cc:to:from:subject:message-id:date:from:to :cc:subject:date:message-id:reply-to; bh=vuo4oLNpM9mRZ2nOkbciVff0aWFiF+ZVpRBeDcj3o5o=; b=By2FFNGVyv1o+7IsDQHOKKFLiU9rVdKcTQCDiuBHXoZ2XbK4pF4+cXi166gE85fxuQ +6+122lUvIrpGGCP6XxP2jPidW+6cwtcgOcdMgsGLGpHDceMACTybUrbZ6RZnlSASDVs Tg7P1tMvjippqjvErs9HovW2LBsK6H/Z0mUYk= X-Google-DKIM-Signature: v=1; a=rsa-sha256; c=relaxed/relaxed; d=1e100.net; s=20230601; t=1752185510; x=1752790310; h=references:in-reply-to:cc:to:from:subject:message-id:date :x-gm-message-state:from:to:cc:subject:date:message-id:reply-to; bh=vuo4oLNpM9mRZ2nOkbciVff0aWFiF+ZVpRBeDcj3o5o=; b=iqfwwuKVoCrwJcLbI6LhTOYHOAIe3Tfu+AdfupgOqfmW/+QukqCslH2oJTJMwZYY/0 phS0aWPpabfiaXjrNpeOhr5EwdwPHmpB9IwlLCXJ9p+Ee38lod/7Mv6RRAawsb6Ert8M 6brCZbWzJxoVqRNwE3Ca5wt4U40WbJ4+KaZM0Y8sfWA3qAQ83BAiXOPLM036pEcG08f5 FfbPFs/u7E/3GfPQCSDhY5T5fR366C8fSK8ZRE+tQ5ynrrT5EKIav+OkCWRkZ+15FeSc 0XQpFSlyO1taa530Cy+MozNB8v3a3HQp1TfGZ8tuVRuE/V+TpdOogVVlUT//vm3BSZ7P asEQ== X-Gm-Message-State: AOJu0YxQXOmChqWvoj5jUYOHuPQwIsdJLPwCVwDogt6UOJQ8K8cN7oot 2sC5BAu5QY4ZtTW9AIU9XFgahYWyW2hcyQgtmtMILGj518oyC0sfW4CBY3Xc+osJV4aH4rC8xeX SnABVTG5eCCfwhhoR5Z1pr8YJ+ccm3Cysf7N/bKy0O+OeX+fG8vvnaVVe9Z3w X-Gm-Gg: ASbGncs356BJlK79Oonz0C4ORfJy3J2AhtsbkJ1s2dELwbd24yqENx3zNeyOUg7+djh /9/ssA7y+p97Zjl5KcHFx6Z62/A7DXu6WPokDpcQe2NQImbZzsnDJjnT/w1PW2SbhDp7KnUTnad d0XI4Sqvkav/hCmKa0HlbLGjtkFzE9s+el8mNaMwa99wuXg6bg0wkSl+pxAzCXCuQ3EK104NveP t1/26tpW9DwchIHvMeZVOmkwNGe8tuUBoPKYxMyoB0gWMaLtAMNbdjPMY/eqouj+mw1c9ZCR1HN GYi0A1WWeGMRnnhb+myfJpFw8K1npuCvXa3AvxZoF8xt/CAsRA== X-Google-Smtp-Source: AGHT+IGCGScb/37SxpnfD2oIPB+SPZcCRpGYdj36le1WmQcABrwQh7UNjJi9VUqfVfsGcGX4UFWT0i7+bzCX X-Received: by 2002:a05:6214:29eb:b0:6fa:c66b:8928 with SMTP id 6a1803df08f44-704a403d5c9mr13539356d6.2.1752185510205; Thu, 10 Jul 2025 15:11:50 -0700 (PDT) Received: from postal.iol.unh.edu (postal.iol.unh.edu. [2606:4100:3880:1234::84]) by smtp-relay.gmail.com with ESMTPS id 6a1803df08f44-70497d59b09sm1044956d6.51.2025.07.10.15.11.50 (version=TLS1_2 cipher=ECDHE-ECDSA-AES128-GCM-SHA256 bits=128/128); Thu, 10 Jul 2025 15:11:50 -0700 (PDT) X-Relaying-Domain: iol.unh.edu Date: Thu, 10 Jul 2025 15:11:50 -0700 (PDT) Message-ID: <68703aa6.050a0220.ccf57.58ddSMTPIN_ADDED_MISSING@mx.google.com> Received: from [172.21.0.7] (unknown [172.18.0.240]) by postal.iol.unh.edu (Postfix) with ESMTP id D95856051830; Thu, 10 Jul 2025 18:11:49 -0400 (EDT) Subject: |SUCCESS| pw155109 [PATCH] [v2] test_bbdev: enable to be compiled on From: dpdklab@iol.unh.edu To: Test Report Cc: dpdk-test-reports@iol.unh.edu In-Reply-To: <1752074012-14869-1-git-send-email-andremue@linux.microsoft.com> References: <1752074012-14869-1-git-send-email-andremue@linux.microsoft.com> Content-Type: text/plain X-BeenThere: test-report@dpdk.org X-Mailman-Version: 2.1.29 Precedence: list List-Id: automatic DPDK test reports List-Unsubscribe: , List-Archive: List-Post: List-Help: List-Subscribe: , Errors-To: test-report-bounces@dpdk.org Test-Label: iol-unit-arm64-testing Test-Status: SUCCESS http://dpdk.org/patch/155109 _Testing PASS_ Submitter: Andre Muezerie Date: Wednesday, July 09 2025 15:13:32 DPDK git baseline: Repo:dpdk Branch: master CommitID:9fe9c0b231c8da5435bfccb1963121b4277f961c 155109 --> testing pass Upstream job id: Generic-Unit-Test-DPDK#354641 Test environment and result as below: +------------------------------+----------------+--------------+---------------------------+------------------------------+ | Environment | dpdk_unit_test | lpm_autotest | cryptodev_sw_zuc_autotest | cryptodev_sw_snow3g_autotest | +==============================+================+==============+===========================+==============================+ | Fedora Linux 40 | PASS | SKIPPED | SKIPPED | SKIPPED | +------------------------------+----------------+--------------+---------------------------+------------------------------+ | CentOS Stream 9 | PASS | SKIPPED | SKIPPED | SKIPPED | +------------------------------+----------------+--------------+---------------------------+------------------------------+ | CentOS Stream 10 | PASS | SKIPPED | SKIPPED | SKIPPED | +------------------------------+----------------+--------------+---------------------------+------------------------------+ | Debian GNU/Linux 12 | PASS | SKIPPED | SKIPPED | SKIPPED | +------------------------------+----------------+--------------+---------------------------+------------------------------+ | Fedora Linux 41 | PASS | SKIPPED | SKIPPED | SKIPPED | +------------------------------+----------------+--------------+---------------------------+------------------------------+ | Red Hat Enterprise Linux 9.5 | PASS | SKIPPED | SKIPPED | SKIPPED | +------------------------------+----------------+--------------+---------------------------+------------------------------+ | Ubuntu 22.04 | PASS | SKIPPED | SKIPPED | SKIPPED | +------------------------------+----------------+--------------+---------------------------+------------------------------+ | Ubuntu 20.04 | PASS | PASS | SKIPPED | SKIPPED | +------------------------------+----------------+--------------+---------------------------+------------------------------+ | Ubuntu 24.04 | PASS | SKIPPED | SKIPPED | SKIPPED | +------------------------------+----------------+--------------+---------------------------+------------------------------+ | Debian 12 (arm) | SKIPPED | SKIPPED | PASS | PASS | +------------------------------+----------------+--------------+---------------------------+------------------------------+ Fedora Linux 40 Kernel: 5.4 Compiler: clang gcc (GCC) 14.2.1 20240912 (Red Hat 14.2.1-3) CentOS Stream 9 Kernel: 5.4 Compiler: gcc gcc (GCC) 11.5.0 20240719 (Red Hat 11.5.0-7) CentOS Stream 10 Kernel: 5.4 Compiler: gcc gcc (GCC) 14.2.1 20250110 (Red Hat 14.2.1-8) Debian GNU/Linux 12 Kernel: 5.4 Compiler: gcc gcc (Debian 12.2.0-14+deb12u1) 12.2.0 Fedora Linux 41 Kernel: 5.4 Compiler: gcc gcc (GCC) 14.3.1 20250523 (Red Hat 14.3.1-1) Red Hat Enterprise Linux 9.5 Kernel: 5.4 Compiler: gcc gcc (GCC) 11.5.0 20240719 (Red Hat 11.5.0-2) Ubuntu 22.04 Kernel: 5.4 Compiler: gcc gcc (Ubuntu 11.4.0-1ubuntu1~22.04) 11.4.0 Ubuntu 20.04 Kernel: 5.4 Compiler: gcc gcc (Ubuntu 9.4.0-1ubuntu1~20.04.2) 9.4.0 Ubuntu 24.04 Kernel: 5.4 Compiler: gcc gcc (Ubuntu 13.3.0-6ubuntu2~24.04) 13.3.0 Debian 12 (arm) Kernel: Depends on container host Compiler: gcc (Debian 12.2.0-14) 12.2.0 To view detailed results, visit: https://lab.dpdk.org/results/dashboard/patchsets/33628/ UNH-IOL DPDK Community Lab To manage your email subscriptions, visit: https://lab.dpdk.org/results/dashboard/preferences/subscriptions/