From mboxrd@z Thu Jan 1 00:00:00 1970 Return-Path: Received: from mails.dpdk.org (mails.dpdk.org [217.70.189.124]) by inbox.dpdk.org (Postfix) with ESMTP id B8DB146A6D for ; Fri, 11 Jul 2025 00:36:43 +0200 (CEST) Received: from mails.dpdk.org (localhost [127.0.0.1]) by mails.dpdk.org (Postfix) with ESMTP id 80E454026A; Fri, 11 Jul 2025 00:36:43 +0200 (CEST) Received: from mail-yb1-f225.google.com (mail-yb1-f225.google.com [209.85.219.225]) by mails.dpdk.org (Postfix) with ESMTP id 354FA4026A for ; Fri, 11 Jul 2025 00:36:42 +0200 (CEST) Received: by mail-yb1-f225.google.com with SMTP id 3f1490d57ef6-e7dc89108bfso1340738276.3 for ; Thu, 10 Jul 2025 15:36:42 -0700 (PDT) DKIM-Signature: v=1; a=rsa-sha256; c=relaxed/relaxed; d=iol.unh.edu; s=unh-iol; t=1752187001; x=1752791801; darn=dpdk.org; h=references:in-reply-to:cc:to:from:subject:message-id:date:from:to :cc:subject:date:message-id:reply-to; bh=HKjgL/XGWgF+U+Qs/6verGXJD2qAp1XVg9UnMrNyhXs=; b=LOigrtFsxeolSGgQXfZ/uMBz4fa2WdfPPxsAZZ2k3yvc33+361ipU4xliHXDdQP5Wa qev3DOEEyWoj6lL68+gtEVrbansdxfMqiWdZ+6rQ1zGOR8xryg1gtA6qX2SDsdsK318q xmezUZ31Mhzr5kjZDeYWnI8PS3LJTysaDNCBE= X-Google-DKIM-Signature: v=1; a=rsa-sha256; c=relaxed/relaxed; d=1e100.net; s=20230601; t=1752187001; x=1752791801; h=references:in-reply-to:cc:to:from:subject:message-id:date :x-gm-message-state:from:to:cc:subject:date:message-id:reply-to; bh=HKjgL/XGWgF+U+Qs/6verGXJD2qAp1XVg9UnMrNyhXs=; b=bkEcIjitpSZ6+JEJSgzAIA5iabohGyM7uUiJ5eViQW+K9b7JOTcreDQyQgh11cXI5E 9c4pSJQ6AUqJCf2OPXEOlQZotKy4a6Ao192+ptNNG47ewL6M4VEYe/Mxn7hGKNRYjN2F WQ4cWVVbuqD8lgkGbZ3ohJuB86HUxLdaJ2VCW34odUlj2eWJIsEoNxOqjE5BRLzfoZvh kTz1tNMmxDxzPMbdzR1y8yxAtLSlU5HH9cKqicpX5pqP+aepwBwuonUOoa6ieYNvcsjz Nr8MX51UqZnKekgcYahNqMLIMVBMshZFMGmVNvu+pVIqudny5j9dnL7PE3vL6uIFFZHs YOgw== X-Gm-Message-State: AOJu0YwNH+u+CJ7xy8mIjOoS/uFwMnmAkDtrur2peAd2/2AXtNv8LSSj 7nNyVSkjjMKhd8DODM3pSQaK8SjuhH690886bak6F9fPLZSKIZh2dvwqyMTViL5r2cR1knEDq7g ju8I5jGBPNkHEw6sWhTOYwLQs2oA/DiwM5kczPTpFXXjSSoSw/ife5hEiKaLP X-Gm-Gg: ASbGncvvSd8jO8uqH+C4FNzV7QZ+3g4//mmlRN1omQESTf34pR8JvEdmi80tHpcpfU7 luuidWia8zwbB1xWJ6smBmbryVW9Z0RP9mTzrpBsuzFhymvaoYwEJyLHa6nKBkgy76kg0EtzLkN vTF+Zu2CWoeD38JgT3XWMjPe5gs1sHUXz0Zh5VygXAq1WycLP4XD2hbwMguPsp9NBtLoWj8vWmy AMSbOuzW3mlHDRWc/xi+m9FKUrywUqvOkJj8pFfWzLG24YU+5HgRqsmBZmWJhpZIL9GLA+IwSuB +a2xLmb0sV0Zyi87/hLvDGuJdYMbrVq5s8FZmM1zTHovIrT1GQ== X-Google-Smtp-Source: AGHT+IFVQsHD5pReP5oHSTIaE8OTNvitxrkdcPJ/Kg2c2f4gH9qmToDP4l1Sbr3SpUNTI5irP0bnjES1Cw/5 X-Received: by 2002:a05:690c:6ac2:b0:70e:73ce:80de with SMTP id 00721157ae682-717daeb302dmr2788267b3.25.1752187001467; Thu, 10 Jul 2025 15:36:41 -0700 (PDT) Received: from postal.iol.unh.edu (postal.iol.unh.edu. [2606:4100:3880:1234::84]) by smtp-relay.gmail.com with ESMTPS id 00721157ae682-717c6201f1asm771717b3.45.2025.07.10.15.36.41 (version=TLS1_2 cipher=ECDHE-ECDSA-AES128-GCM-SHA256 bits=128/128); Thu, 10 Jul 2025 15:36:41 -0700 (PDT) X-Relaying-Domain: iol.unh.edu Date: Thu, 10 Jul 2025 15:36:41 -0700 (PDT) Message-ID: <68704079.050a0220.7676e.4373SMTPIN_ADDED_MISSING@mx.google.com> Received: from [172.21.0.5] (unknown [172.18.0.240]) by postal.iol.unh.edu (Postfix) with ESMTP id 2893C6051830; Thu, 10 Jul 2025 18:36:41 -0400 (EDT) Subject: |SUCCESS| pw155109 [PATCH] [v2] test_bbdev: enable to be compiled on From: dpdklab@iol.unh.edu To: Test Report Cc: dpdk-test-reports@iol.unh.edu In-Reply-To: <1752074012-14869-1-git-send-email-andremue@linux.microsoft.com> References: <1752074012-14869-1-git-send-email-andremue@linux.microsoft.com> Content-Type: text/plain X-BeenThere: test-report@dpdk.org X-Mailman-Version: 2.1.29 Precedence: list List-Id: automatic DPDK test reports List-Unsubscribe: , List-Archive: List-Post: List-Help: List-Subscribe: , Errors-To: test-report-bounces@dpdk.org Test-Label: iol-abi-testing Test-Status: SUCCESS http://dpdk.org/patch/155109 _Testing PASS_ Submitter: Andre Muezerie Date: Wednesday, July 09 2025 15:13:32 DPDK git baseline: Repo:dpdk Branch: master CommitID:9fe9c0b231c8da5435bfccb1963121b4277f961c 155109 --> testing pass Upstream job id: Generic-DPDK-Compile-ABI#134008 Test environment and result as below: +-------------------------------+----------+ | Environment | abi_test | +===============================+==========+ | CentOS Stream 9 | PASS | +-------------------------------+----------+ | Fedora Linux 40 | PASS | +-------------------------------+----------+ | Fedora Linux 41 | PASS | +-------------------------------+----------+ | Debian GNU/Linux 12 | PASS | +-------------------------------+----------+ | Red Hat Enterprise Linux 9.5 | PASS | +-------------------------------+----------+ | CentOS Stream 10 | PASS | +-------------------------------+----------+ | Red Hat Enterprise Linux 8.10 | PASS | +-------------------------------+----------+ | openSUSE Leap 15.6 | PASS | +-------------------------------+----------+ | Ubuntu 22.04 | PASS | +-------------------------------+----------+ | Ubuntu 24.04 | PASS | +-------------------------------+----------+ CentOS Stream 9 Kernel: 5.15 Compiler: gcc gcc (GCC) 11.5.0 20240719 (Red Hat 11.5.0-7) Fedora Linux 40 Kernel: 5.15 Compiler: clang gcc (GCC) 14.2.1 20240912 (Red Hat 14.2.1-3) Fedora Linux 41 Kernel: 5.15 Compiler: clang gcc (GCC) 14.3.1 20250523 (Red Hat 14.3.1-1) Debian GNU/Linux 12 Kernel: 5.15 Compiler: gcc gcc (Debian 12.2.0-14+deb12u1) 12.2.0 Red Hat Enterprise Linux 9.5 Kernel: 5.15 Compiler: gcc gcc (GCC) 11.5.0 20240719 (Red Hat 11.5.0-2) CentOS Stream 10 Kernel: 5.15 Compiler: gcc gcc (GCC) 14.2.1 20250110 (Red Hat 14.2.1-8) Red Hat Enterprise Linux 8.10 Kernel: 5.15 Compiler: gcc gcc (GCC) 8.5.0 20210514 (Red Hat 8.5.0-22) openSUSE Leap 15.6 Kernel: 5.15 Compiler: gcc gcc (SUSE Linux) 7.5.0 Ubuntu 22.04 Kernel: 5.15 Compiler: gcc gcc (Ubuntu 11.4.0-1ubuntu1~22.04) 11.4.0 Ubuntu 24.04 Kernel: 5.15 Compiler: gcc gcc (Ubuntu 13.3.0-6ubuntu2~24.04) 13.3.0 To view detailed results, visit: https://lab.dpdk.org/results/dashboard/patchsets/33628/ UNH-IOL DPDK Community Lab To manage your email subscriptions, visit: https://lab.dpdk.org/results/dashboard/preferences/subscriptions/