From mboxrd@z Thu Jan 1 00:00:00 1970 Return-Path: Received: from mails.dpdk.org (mails.dpdk.org [217.70.189.124]) by inbox.dpdk.org (Postfix) with ESMTP id 5071046A6D for ; Fri, 11 Jul 2025 01:23:49 +0200 (CEST) Received: from mails.dpdk.org (localhost [127.0.0.1]) by mails.dpdk.org (Postfix) with ESMTP id 314D04026A; Fri, 11 Jul 2025 01:23:49 +0200 (CEST) Received: from mail-il1-f225.google.com (mail-il1-f225.google.com [209.85.166.225]) by mails.dpdk.org (Postfix) with ESMTP id 3F0FD4026A for ; Fri, 11 Jul 2025 01:23:47 +0200 (CEST) Received: by mail-il1-f225.google.com with SMTP id e9e14a558f8ab-3df2d8cb8d2so5078395ab.2 for ; Thu, 10 Jul 2025 16:23:47 -0700 (PDT) DKIM-Signature: v=1; a=rsa-sha256; c=relaxed/relaxed; d=iol.unh.edu; s=unh-iol; t=1752189826; x=1752794626; darn=dpdk.org; h=references:in-reply-to:cc:to:from:subject:message-id:date:from:to :cc:subject:date:message-id:reply-to; bh=Kwy8NFx8C2YMdBrmdVzhVdAh36wletzA9LqpvT7RrRI=; b=G3s15lH1bKqOz9+ZaOfYlPXPEF1URV1ZKSrflRUyPd1QPt9rkOafVWdGv7sgv8XvMA MG3D13bRhVPDvqLKHPiCs1BA+QKv/BuaabG5BVMtdvtjQ97ijUYjQQcFi6f+RJ2PepY3 T4aF1enE+QD/bBWo6/BZ9ucjGxkmkzo0JBdTo= X-Google-DKIM-Signature: v=1; a=rsa-sha256; c=relaxed/relaxed; d=1e100.net; s=20230601; t=1752189826; x=1752794626; h=references:in-reply-to:cc:to:from:subject:message-id:date :x-gm-message-state:from:to:cc:subject:date:message-id:reply-to; bh=Kwy8NFx8C2YMdBrmdVzhVdAh36wletzA9LqpvT7RrRI=; b=BGgBOrnd5E8B9x7xaLTWEHqauPgkknwBBJ+GG7jJCq0Nuwo1ARUp86R+WrrBurHH/f cdFV5X0pRRWd9WG5hGhXeXMs7/d3XCI4swbzNxvJsImxRpXNG54TLpK7aFL7DxPBIMgn PN6ZeMF/9lYK8I9Vp+OgtfLetVoJRSrWjxdfbDQNbNNojFKesvz1P9Wm16KUhid7mAM1 qga1AEJgRIsMTZEoMGfYbWzFvAqo1OOEFeUDCFHkQR/uldAghN2ySE9G5WAU04vBApKH briau5WLNTHztRQqmqfSqcMnWADfknvY66q6NocjFCoIfm2QEisSAGn+otGhqmS/RWab r7Wg== X-Gm-Message-State: AOJu0YznWrKeRo+coJJy2XUMnIeHilK48M0SZE9fLqiscfHK+kZclqF3 Z/TCRp2hV52cWZDEF0yyhcAZLDvkiXdJYnkAfVEODwbqxCfAKEfnwydXFD9Pt2lRSbRkUQyiEIC AOZryeEOdSF3OoDAcBKR9iyv3Faw9pfzVrKBtmFNkJdyv0m9i3XquvyUKU/9q X-Gm-Gg: ASbGncstZmwtHYD2mxnHrOnzxNahqzv9is1w9A9+YYyVB4AY2oLCmOvq/aBeYgr8YNP xulfpd5JyDz3hgO/uCNlNt3nuc20/LPGOASm87Svq/T/cuxrYDwV4vPIAHFfPkwSeI4UPs/hvme u3B3asl+fD7GyWoKCp7A4QdlIIIGAF9CcJUacG8EMQP9zsSty+NjO4kLUKbYf7NMT9feFfsobuW himiuJRJmOlcB1BvCI1lvAJV5ZNcq66O59L8TGcqxmlD7B5Gg/7mNi1RVNKFXQxLDNK2/s5v9l3 HXv3qsOuR3it2HNN7tB4orYLOD6kneN9d/jPKIBZumFAaHM= X-Google-Smtp-Source: AGHT+IEtCQIE05m9SGZRalJFgn8CamYzmF318KZEePIdopRU5LW/uSyA2dmG1P1EUAcYq5wjSBL/RVWCM7Yy X-Received: by 2002:a05:6e02:3b8a:b0:3d9:6cb6:fa52 with SMTP id e9e14a558f8ab-3e2532fc01amr20239405ab.12.1752189826185; Thu, 10 Jul 2025 16:23:46 -0700 (PDT) Received: from postal.iol.unh.edu (postal.iol.unh.edu. [2606:4100:3880:1234::84]) by smtp-relay.gmail.com with ESMTPS id e9e14a558f8ab-3e24623ea18sm1534085ab.67.2025.07.10.16.23.46 (version=TLS1_2 cipher=ECDHE-ECDSA-AES128-GCM-SHA256 bits=128/128); Thu, 10 Jul 2025 16:23:46 -0700 (PDT) X-Relaying-Domain: iol.unh.edu Date: Thu, 10 Jul 2025 16:23:46 -0700 (PDT) Message-ID: <68704b82.050a0220.2a80f4.9a0bSMTPIN_ADDED_MISSING@mx.google.com> Received: from [172.21.0.6] (unknown [172.18.0.240]) by postal.iol.unh.edu (Postfix) with ESMTP id AE5A76050A61; Thu, 10 Jul 2025 19:23:45 -0400 (EDT) Subject: |SUCCESS| pw155146-155158 [PATCH] [v3,13/13] pdump: mark API and app From: dpdklab@iol.unh.edu To: Test Report Cc: dpdk-test-reports@iol.unh.edu In-Reply-To: <20250710164237.8630-14-stephen@networkplumber.org> References: <20250710164237.8630-14-stephen@networkplumber.org> Content-Type: text/plain X-BeenThere: test-report@dpdk.org X-Mailman-Version: 2.1.29 Precedence: list List-Id: automatic DPDK test reports List-Unsubscribe: , List-Archive: List-Post: List-Help: List-Subscribe: , Errors-To: test-report-bounces@dpdk.org Test-Label: iol-compile-arm64-testing Test-Status: SUCCESS http://dpdk.org/patch/155158 _Testing PASS_ Submitter: Stephen Hemminger Date: Thursday, July 10 2025 16:16:54 DPDK git baseline: Repo:dpdk Branch: master CommitID:9fe9c0b231c8da5435bfccb1963121b4277f961c 155146-155158 --> testing pass Upstream job id: Generic-DPDK-Compile-Meson#407772 Test environment and result as below: +------------------------------+--------------------+ | Environment | dpdk_meson_compile | +==============================+====================+ | Ubuntu 20.04 | PASS | +------------------------------+--------------------+ | Red Hat Enterprise Linux 9.5 | PASS | +------------------------------+--------------------+ | Debian GNU/Linux 12 | PASS | +------------------------------+--------------------+ | Fedora Linux 40 | PASS | +------------------------------+--------------------+ | Fedora Linux 41 | PASS | +------------------------------+--------------------+ | Ubuntu 24.04 | PASS | +------------------------------+--------------------+ | Ubuntu 22.04 | PASS | +------------------------------+--------------------+ | CentOS Stream 10 | PASS | +------------------------------+--------------------+ | CentOS Stream 9 | PASS | +------------------------------+--------------------+ Ubuntu 20.04 Kernel: 5.15 Compiler: aarch64-linux-gnu-gcc gcc (Ubuntu 9.4.0-1ubuntu1~20.04.2) 9.4.0 Red Hat Enterprise Linux 9.5 Kernel: 5.4 Compiler: gcc gcc (GCC) 11.5.0 20240719 (Red Hat 11.5.0-2) Debian GNU/Linux 12 Kernel: 5.4 Compiler: gcc gcc (Debian 12.2.0-14+deb12u1) 12.2.0 Fedora Linux 40 Kernel: 5.4 Compiler: gcc gcc (GCC) 14.2.1 20240912 (Red Hat 14.2.1-3) Fedora Linux 41 Kernel: 5.4 Compiler: gcc gcc (GCC) 14.3.1 20250523 (Red Hat 14.3.1-1) Ubuntu 24.04 Kernel: 5.4 Compiler: gcc gcc (Ubuntu 13.3.0-6ubuntu2~24.04) 13.3.0 Ubuntu 22.04 Kernel: 5.4 Compiler: gcc gcc (Ubuntu 11.4.0-1ubuntu1~22.04) 11.4.0 CentOS Stream 10 Kernel: 5.4 Compiler: gcc gcc (GCC) 14.2.1 20250110 (Red Hat 14.2.1-8) CentOS Stream 9 Kernel: 5.4 Compiler: gcc gcc (GCC) 11.5.0 20240719 (Red Hat 11.5.0-7) To view detailed results, visit: https://lab.dpdk.org/results/dashboard/patchsets/33635/ UNH-IOL DPDK Community Lab To manage your email subscriptions, visit: https://lab.dpdk.org/results/dashboard/preferences/subscriptions/