From mboxrd@z Thu Jan 1 00:00:00 1970 Return-Path: Received: from mails.dpdk.org (mails.dpdk.org [217.70.189.124]) by inbox.dpdk.org (Postfix) with ESMTP id 28F1546B0B for ; Fri, 11 Jul 2025 02:44:15 +0200 (CEST) Received: from mails.dpdk.org (localhost [127.0.0.1]) by mails.dpdk.org (Postfix) with ESMTP id EE34C40156; Fri, 11 Jul 2025 02:44:14 +0200 (CEST) Received: from mail-ot1-f100.google.com (mail-ot1-f100.google.com [209.85.210.100]) by mails.dpdk.org (Postfix) with ESMTP id 1759F40156 for ; Fri, 11 Jul 2025 02:44:14 +0200 (CEST) Received: by mail-ot1-f100.google.com with SMTP id 46e09a7af769-73cddf31cb2so444074a34.1 for ; Thu, 10 Jul 2025 17:44:14 -0700 (PDT) DKIM-Signature: v=1; a=rsa-sha256; c=relaxed/relaxed; d=iol.unh.edu; s=unh-iol; t=1752194653; x=1752799453; darn=dpdk.org; h=references:in-reply-to:cc:to:from:subject:message-id:date:from:to :cc:subject:date:message-id:reply-to; bh=AAt1oj8qQAXq10nSgfChJvCrGO+kFv55YDnuL7w7b6k=; b=N4x18qFQj+nVNwr/UYTgHL3otSj8pakqLkxS/rVSMiSjE3mQsm7tOo7R7pYsf3k0cy aSrarCULtVoi5OUCQxKYBiPkA9wcseQUnMzGkg3o+8LZ7W0BK55rUrt77a5Vz5C6G6fH T88R9zxZq+Qp4d+O5EYHMMK+FuCi5kAwBZEeY= X-Google-DKIM-Signature: v=1; a=rsa-sha256; c=relaxed/relaxed; d=1e100.net; s=20230601; t=1752194653; x=1752799453; h=references:in-reply-to:cc:to:from:subject:message-id:date :x-gm-message-state:from:to:cc:subject:date:message-id:reply-to; bh=AAt1oj8qQAXq10nSgfChJvCrGO+kFv55YDnuL7w7b6k=; b=uELtCe37cW9uo3l0QE1AGGIurQe0mjMKrojDJngFcSuJpRmwOxy5JOgeJ3o8cX1F5r MNk8caRPOPo9kcZx2vJ9vOet+mNDHsNWgSjls8qCfGObp99+4y71zJDPPLp1ltMEpLep 3AomX2d8gFaM+fnsjEJOTHxprZRoiTRaTK02zCWbeO3WlbxvGUXTsPDl5CEyJHzXoLgS +IIEt+k3otuPoSzSgmiT5PR80B70IviqBquZG1aW5wcl20pT1xqtrJdk0iNUbbNk4oCU OxxG1Brqam2VfdMKLJmP5ke2Ygq2pEaUefqVFB+AJ/oGskEogHTnGWopK/cJGsoGfWQx kZWw== X-Gm-Message-State: AOJu0YxMbDslOJedeRp7q0q56bNmDBaVgl2fugWekvxypfg9DigWaYv4 gmPDMCFgAf8FB0OmJ/nvMqmYApqdwQogVgCPNVrxECQJ6oKPYrmzreGZPznVHHDtHiJaEAfkiIb LiOj/jV+C09viShDS/JarYiTJXwed5VilLYSiLZpJl7w+ X-Gm-Gg: ASbGnctHHYtkXnQKxcPyBnjHoHh56XADgEr3gaw1zongmaWRtlH8JpQ9sWPmUzrZg+t Q2LEzjSbHTVgUv4fy70kMenhfHZJQ1GS5wwzcR+6o+DxvLeU+0mDMc/st41o1Gl3I3qgvmwC1TD ml8Rj2fX/8Ly9HBTVd/NZRmZALua7C6Z5jDAN+HLXCABNZdmLHtdQzIvyLVRBB5DxG8kEGZpHgD PXZRNGsnGOMr/apvmYs4mlEiPg6xqPUocNCsqFCTtqkFgz4WcR87cE2nQ4x0zYgM+KX0GY/fZ22 nDLh7vMUIAf2325ohOsCP2rlBoDTc9kRXfZzENFzWWUSIpAE6FaUuNKohoTusNZwfJt0JBk1 X-Google-Smtp-Source: AGHT+IE5TYq4HZSLUuYnIUhKD//po6DA+NffL8pYUITTyg8che3lQdl7oApY1vpSdP9/UFympPH6CEck2ICH X-Received: by 2002:a05:6871:e414:b0:2c2:542b:bce4 with SMTP id 586e51a60fabf-2ff26713d0emr921209fac.8.1752194653203; Thu, 10 Jul 2025 17:44:13 -0700 (PDT) Received: from postal.iol.unh.edu (postal.iol.unh.edu. [132.177.123.84]) by smtp-relay.gmail.com with ESMTPS id 586e51a60fabf-2ff111c3705sm177433fac.1.2025.07.10.17.44.13 (version=TLS1_2 cipher=ECDHE-ECDSA-AES128-GCM-SHA256 bits=128/128); Thu, 10 Jul 2025 17:44:13 -0700 (PDT) X-Relaying-Domain: iol.unh.edu Date: Thu, 10 Jul 2025 17:44:13 -0700 (PDT) Message-ID: <68705e5d.050a0220.113c26.a025SMTPIN_ADDED_MISSING@mx.google.com> Received: from [172.21.0.5] (unknown [172.18.0.240]) by postal.iol.unh.edu (Postfix) with ESMTP id B0C7260003E8; Thu, 10 Jul 2025 20:44:12 -0400 (EDT) Subject: |SUCCESS| pw155109 [PATCH] [v2] test_bbdev: enable to be compiled on From: dpdklab@iol.unh.edu To: Test Report Cc: dpdk-test-reports@iol.unh.edu In-Reply-To: <1752074012-14869-1-git-send-email-andremue@linux.microsoft.com> References: <1752074012-14869-1-git-send-email-andremue@linux.microsoft.com> Content-Type: text/plain X-BeenThere: test-report@dpdk.org X-Mailman-Version: 2.1.29 Precedence: list List-Id: automatic DPDK test reports List-Unsubscribe: , List-Archive: List-Post: List-Help: List-Subscribe: , Errors-To: test-report-bounces@dpdk.org Test-Label: iol-compile-arm64-testing Test-Status: SUCCESS http://dpdk.org/patch/155109 _Testing PASS_ Submitter: Andre Muezerie Date: Wednesday, July 09 2025 15:13:32 DPDK git baseline: Repo:dpdk Branch: master CommitID:9fe9c0b231c8da5435bfccb1963121b4277f961c 155109 --> testing pass Upstream job id: Generic-DPDK-Compile-Meson#407814 Test environment and result as below: +------------------------------+--------------------+ | Environment | dpdk_meson_compile | +==============================+====================+ | Red Hat Enterprise Linux 9.5 | PASS | +------------------------------+--------------------+ | Ubuntu 20.04 | PASS | +------------------------------+--------------------+ | Debian GNU/Linux 12 | PASS | +------------------------------+--------------------+ | Fedora Linux 40 | PASS | +------------------------------+--------------------+ | Fedora Linux 41 | PASS | +------------------------------+--------------------+ | Ubuntu 24.04 | PASS | +------------------------------+--------------------+ | Ubuntu 22.04 | PASS | +------------------------------+--------------------+ | CentOS Stream 9 | PASS | +------------------------------+--------------------+ | CentOS Stream 10 | PASS | +------------------------------+--------------------+ Red Hat Enterprise Linux 9.5 Kernel: 5.4 Compiler: gcc gcc (GCC) 11.5.0 20240719 (Red Hat 11.5.0-2) Ubuntu 20.04 Kernel: 5.15 Compiler: aarch64-linux-gnu-gcc gcc (Ubuntu 9.4.0-1ubuntu1~20.04.2) 9.4.0 Debian GNU/Linux 12 Kernel: 5.4 Compiler: gcc gcc (Debian 12.2.0-14+deb12u1) 12.2.0 Fedora Linux 40 Kernel: 5.4 Compiler: gcc gcc (GCC) 14.2.1 20240912 (Red Hat 14.2.1-3) Fedora Linux 41 Kernel: 5.4 Compiler: gcc gcc (GCC) 14.3.1 20250523 (Red Hat 14.3.1-1) Ubuntu 24.04 Kernel: 5.4 Compiler: gcc gcc (Ubuntu 13.3.0-6ubuntu2~24.04) 13.3.0 Ubuntu 22.04 Kernel: 5.4 Compiler: gcc gcc (Ubuntu 11.4.0-1ubuntu1~22.04) 11.4.0 CentOS Stream 9 Kernel: 5.4 Compiler: gcc gcc (GCC) 11.5.0 20240719 (Red Hat 11.5.0-7) CentOS Stream 10 Kernel: 5.4 Compiler: gcc gcc (GCC) 14.2.1 20250110 (Red Hat 14.2.1-8) To view detailed results, visit: https://lab.dpdk.org/results/dashboard/patchsets/33628/ UNH-IOL DPDK Community Lab To manage your email subscriptions, visit: https://lab.dpdk.org/results/dashboard/preferences/subscriptions/