From mboxrd@z Thu Jan 1 00:00:00 1970 Return-Path: Received: from mails.dpdk.org (mails.dpdk.org [217.70.189.124]) by inbox.dpdk.org (Postfix) with ESMTP id 8B31546B45 for ; Fri, 11 Jul 2025 13:06:45 +0200 (CEST) Received: from mails.dpdk.org (localhost [127.0.0.1]) by mails.dpdk.org (Postfix) with ESMTP id 79928400D6; Fri, 11 Jul 2025 13:06:45 +0200 (CEST) Received: from mail-il1-f226.google.com (mail-il1-f226.google.com [209.85.166.226]) by mails.dpdk.org (Postfix) with ESMTP id C215C400D6 for ; Fri, 11 Jul 2025 13:06:43 +0200 (CEST) Received: by mail-il1-f226.google.com with SMTP id e9e14a558f8ab-3df3854e622so8180255ab.1 for ; Fri, 11 Jul 2025 04:06:43 -0700 (PDT) DKIM-Signature: v=1; a=rsa-sha256; c=relaxed/relaxed; d=iol.unh.edu; s=unh-iol; t=1752232003; x=1752836803; darn=dpdk.org; h=references:in-reply-to:cc:to:from:subject:message-id:date:from:to :cc:subject:date:message-id:reply-to; bh=vFfN8be9Jm0Nlar0n4+/J/8quMJMlnR3VUbwUQz28m0=; b=fa9Qnws8VBmvn57AS9FCmLzdRqvTx2yVCYTS3t+kWhblZ7j4NHndJOeGktWoH3HZ5l ETFbCVzypyOm1/JOJmAKcuimXXY4W8zJsAz15VZQnb0yC8mn4+vSb2TLggpFy8qN5ZrU zfRm1R60XpXoEKHLcsN4dkkoc5nikRtlb8IIg= X-Google-DKIM-Signature: v=1; a=rsa-sha256; c=relaxed/relaxed; d=1e100.net; s=20230601; t=1752232003; x=1752836803; h=references:in-reply-to:cc:to:from:subject:message-id:date :x-gm-message-state:from:to:cc:subject:date:message-id:reply-to; bh=vFfN8be9Jm0Nlar0n4+/J/8quMJMlnR3VUbwUQz28m0=; b=YgizRH5Qztq2SP0xtnR9sUGsw+qz+6HEfXWh105pjTI/u9jYREsQl3eeAcyI4HKDFM GPioVNXbKWfTqeeynXRPlIUx4Yl/r1M/WFy/IPzyZOLJyDK81hQ8QkOjgoSyMGbGo1fm 9p41mnR+ZtBHA1gvc3I6LMjKsIB5mTVFYWoc88UjG2xjt5q3kZo3n7broE0YSm9cjB9H 9xbECwwhs8dMhzLvSrWjh6eUmQ++JHrDQOgsuByzHQyDgfj3//J0x0RIyvKOM9YZ4vBh CwSLuUFI50HTX2R0V1iiOy/mUuKeQZl1w44StnyIulOeDGdMrGq77p+Sk91nKChc2d09 l3yg== X-Gm-Message-State: AOJu0Yz5sxnyMch9s6dYVXsC4ZxlsUmag+z+PmC6ywgF0l9qL7492Lx7 3DuB2xlnlZb3lu25QNjbHdCepnE3HHstdqo32T+yTkWtU9mLeQZhQunV/GGzqK459tZZt5CqsAX wvpj3nioq6qQSkXPUgb4Qd1UtFNqEOAWndgUx7X8k+a7BnaP6L81Fo6VidPwy X-Gm-Gg: ASbGnctE8B0swkqRjGUgwFv7JqTkl3T0g7JhOYMW49+Uy2LeqSejmR1un2OvGLWFXJ8 ZI0o+0STUYXwS1kmkRO0Xv05gi2+t52iHtGGEsZk0H6luwjJueU7ZLdAu/CmD4E+fwrPe84Knxm QuFTVYTEMcn+85l1VtVLz+k5H+JEFRikCuyLBpWAre+LRKhj1VfaHoXoFEOJi8k/zuSZ96EW5La xUz/7wv9CbiQ8//42a+S0QX8LbkH1Xn344WaUIaOiLVTilUscH8uBksGOPslXAZYgY48i5KSKn6 da99iSEYe64h7B1WvUgXcHGZexvs4HNkjd8Dr3RWs+r1Es7vWA== X-Google-Smtp-Source: AGHT+IErWJa1qAo3umsaMurdnqT7sIyEgRYsItoIs8t4R3w1AMi1oasiBV23aW30p5o3W23TAVU3jRDkuJUy X-Received: by 2002:a05:6e02:2303:b0:3e1:640c:bd1d with SMTP id e9e14a558f8ab-3e25355f384mr24799105ab.5.1752232003022; Fri, 11 Jul 2025 04:06:43 -0700 (PDT) Received: from postal.iol.unh.edu (postal.iol.unh.edu. [2606:4100:3880:1234::84]) by smtp-relay.gmail.com with ESMTPS id e9e14a558f8ab-3e246213f0dsm2268285ab.48.2025.07.11.04.06.42 (version=TLS1_2 cipher=ECDHE-ECDSA-AES128-GCM-SHA256 bits=128/128); Fri, 11 Jul 2025 04:06:42 -0700 (PDT) X-Relaying-Domain: iol.unh.edu Date: Fri, 11 Jul 2025 04:06:42 -0700 (PDT) Message-ID: <6870f042.050a0220.2a23d2.bc40SMTPIN_ADDED_MISSING@mx.google.com> Received: from [172.21.0.5] (unknown [172.18.0.240]) by postal.iol.unh.edu (Postfix) with ESMTP id 7C36B6051830; Fri, 11 Jul 2025 07:06:42 -0400 (EDT) Subject: |SUCCESS| pw155159 [PATCH] net/ixgbe: fix L4 protocol mask condition From: dpdklab@iol.unh.edu To: Test Report Cc: dpdk-test-reports@iol.unh.edu In-Reply-To: <20250711090403.204852-1-yuanx.wang@intel.com> References: <20250711090403.204852-1-yuanx.wang@intel.com> Content-Type: text/plain X-BeenThere: test-report@dpdk.org X-Mailman-Version: 2.1.29 Precedence: list List-Id: automatic DPDK test reports List-Unsubscribe: , List-Archive: List-Post: List-Help: List-Subscribe: , Errors-To: test-report-bounces@dpdk.org Test-Label: iol-unit-arm64-testing Test-Status: SUCCESS http://dpdk.org/patch/155159 _Testing PASS_ Submitter: Yuan Wang Date: Friday, July 11 2025 09:04:03 DPDK git baseline: Repo:dpdk Branch: master CommitID:a6b10031d251fcc7dadede461f7e1d005024b139 155159 --> testing pass Upstream job id: Generic-Unit-Test-DPDK#354789 Test environment and result as below: +------------------------------+--------------+---------------------------+------------------------------+----------------+ | Environment | lpm_autotest | cryptodev_sw_zuc_autotest | cryptodev_sw_snow3g_autotest | dpdk_unit_test | +==============================+==============+===========================+==============================+================+ | Ubuntu 20.04 | PASS | SKIPPED | SKIPPED | PASS | +------------------------------+--------------+---------------------------+------------------------------+----------------+ | Debian 12 (arm) | SKIPPED | PASS | PASS | SKIPPED | +------------------------------+--------------+---------------------------+------------------------------+----------------+ | CentOS Stream 10 | SKIPPED | SKIPPED | SKIPPED | PASS | +------------------------------+--------------+---------------------------+------------------------------+----------------+ | CentOS Stream 9 | SKIPPED | SKIPPED | SKIPPED | PASS | +------------------------------+--------------+---------------------------+------------------------------+----------------+ | Fedora Linux 40 | SKIPPED | SKIPPED | SKIPPED | PASS | +------------------------------+--------------+---------------------------+------------------------------+----------------+ | Debian GNU/Linux 12 | SKIPPED | SKIPPED | SKIPPED | PASS | +------------------------------+--------------+---------------------------+------------------------------+----------------+ | Fedora Linux 41 | SKIPPED | SKIPPED | SKIPPED | PASS | +------------------------------+--------------+---------------------------+------------------------------+----------------+ | Red Hat Enterprise Linux 9.5 | SKIPPED | SKIPPED | SKIPPED | PASS | +------------------------------+--------------+---------------------------+------------------------------+----------------+ | Ubuntu 24.04 | SKIPPED | SKIPPED | SKIPPED | PASS | +------------------------------+--------------+---------------------------+------------------------------+----------------+ | Ubuntu 22.04 | SKIPPED | SKIPPED | SKIPPED | PASS | +------------------------------+--------------+---------------------------+------------------------------+----------------+ Ubuntu 20.04 Kernel: 5.4 Compiler: gcc gcc (Ubuntu 9.4.0-1ubuntu1~20.04.2) 9.4.0 Debian 12 (arm) Kernel: Depends on container host Compiler: gcc (Debian 12.2.0-14) 12.2.0 CentOS Stream 10 Kernel: 5.4 Compiler: gcc gcc (GCC) 14.2.1 20250110 (Red Hat 14.2.1-8) CentOS Stream 9 Kernel: 5.4 Compiler: gcc gcc (GCC) 11.5.0 20240719 (Red Hat 11.5.0-7) Fedora Linux 40 Kernel: 5.4 Compiler: gcc gcc (GCC) 14.2.1 20240912 (Red Hat 14.2.1-3) Debian GNU/Linux 12 Kernel: 5.4 Compiler: gcc gcc (Debian 12.2.0-14+deb12u1) 12.2.0 Fedora Linux 41 Kernel: 5.4 Compiler: clang gcc (GCC) 14.3.1 20250523 (Red Hat 14.3.1-1) Red Hat Enterprise Linux 9.5 Kernel: 5.4 Compiler: gcc gcc (GCC) 11.5.0 20240719 (Red Hat 11.5.0-2) Ubuntu 24.04 Kernel: 5.4 Compiler: gcc gcc (Ubuntu 13.3.0-6ubuntu2~24.04) 13.3.0 Ubuntu 22.04 Kernel: 5.4 Compiler: gcc gcc (Ubuntu 11.4.0-1ubuntu1~22.04) 11.4.0 To view detailed results, visit: https://lab.dpdk.org/results/dashboard/patchsets/33636/ UNH-IOL DPDK Community Lab To manage your email subscriptions, visit: https://lab.dpdk.org/results/dashboard/preferences/subscriptions/