From mboxrd@z Thu Jan 1 00:00:00 1970 Return-Path: Received: from mails.dpdk.org (mails.dpdk.org [217.70.189.124]) by inbox.dpdk.org (Postfix) with ESMTP id A67A246B45 for ; Fri, 11 Jul 2025 13:59:00 +0200 (CEST) Received: from mails.dpdk.org (localhost [127.0.0.1]) by mails.dpdk.org (Postfix) with ESMTP id 7ECCD400D6; Fri, 11 Jul 2025 13:59:00 +0200 (CEST) Received: from mail-oa1-f100.google.com (mail-oa1-f100.google.com [209.85.160.100]) by mails.dpdk.org (Postfix) with ESMTP id 95F9C400D6 for ; Fri, 11 Jul 2025 13:58:59 +0200 (CEST) Received: by mail-oa1-f100.google.com with SMTP id 586e51a60fabf-2ef493de975so1195493fac.1 for ; Fri, 11 Jul 2025 04:58:59 -0700 (PDT) DKIM-Signature: v=1; a=rsa-sha256; c=relaxed/relaxed; d=iol.unh.edu; s=unh-iol; t=1752235139; x=1752839939; darn=dpdk.org; h=references:in-reply-to:cc:to:from:subject:message-id:date:from:to :cc:subject:date:message-id:reply-to; bh=KW+6awv8APFTCUMdwtzSI36dAx4CmAHkk7pjTQrL3jM=; b=AHeW1hsESo+GbCciiYNCL9EGK1vvvwQlHA3JPCmqfsCS5nXWi32o1uCxkMijms15nn 9pwM+S9eKnn7f/Fm1QzXkTAEO4wrVdGI5FrOmsBlcV3dMijAqCabUzCygXnlQKePtqyt WnGr5WTMvs1txqFUYJ68MdSiGNUA2K4IAFOWk= X-Google-DKIM-Signature: v=1; a=rsa-sha256; c=relaxed/relaxed; d=1e100.net; s=20230601; t=1752235139; x=1752839939; h=references:in-reply-to:cc:to:from:subject:message-id:date :x-gm-message-state:from:to:cc:subject:date:message-id:reply-to; bh=KW+6awv8APFTCUMdwtzSI36dAx4CmAHkk7pjTQrL3jM=; b=T9KpNVxW2YM9GDXX2pDBgauPgYHWZ66PpW5wtbkRAeZXsbEsdSv/IGMeDAKzqQ4eqx 3kacU3DCfNobFqYrwq0AzM7+wq6bgOv8SvdJ9wnv+nf5OnGW0Gb1U1k2QAc+XWP5OF+B xrXpxT1r6qLoBatGZU0E5bym5q8eZgmCS30ElsWDvPygfS5MzBdhZq9uUx+ZjNLWgtLq 2FGiKpkUy2NfzIK84GFm0JiLzSDKhgld3kNAroo79dKA1aF/kCW5/mKCJab1ZP2G0qZn hf/Gapdh3ZHtUqH2nsYAZX1qBzh4/k9YpdFw6mdaQMkmIlkylXU74iXoQCARetAY7CGv ogyw== X-Gm-Message-State: AOJu0Ywwi5NNLQoO3AAvWrGmtYB6oy8pW2J3ZiqEm5VIFEIE2SXEmJh6 yRyybSFsO2RU/CUZvHeGnA+pmy8qR+A6TDtwkcdqRTeI74qtd645na39UB4vTubwuwXpdNc6UBo Pwf6PH6KBoPYZBCx1g/bsWmcwbFzh8pXLh1DK92NiLdA5yCaIvvap8zUqkoJ4 X-Gm-Gg: ASbGncujWzhPZfanP7/D0IxAX8/h6SadHQi6K7Dp4zRPSu7jFWzZGTLhyd346RusQC9 8ZNehWlPoHn9cl3LUm8auUb8AX/joIKxbWuUR6wbAdjuqVZ6O73UQKmigzGJlMtls1bog7F3vWE X+4kS8qCs+Bt+BZU2u98hRa77ZbpN7bdzu8OWOGuhCaxeYE2GD7By5vGf0FGRtZxXVbRR9r7kSi CRn7NqqGMGqufKT8Ks4dPJp7Otj5sZH5LxeoprDaWJzMcRAA948NlNG4yhL8KHe/6eUJPQOUed0 oFB2QaMkew4evFVgXrF7UifW0uXUZue/vsqnambjDm42TObA0A== X-Google-Smtp-Source: AGHT+IE1sBL4cvHnE2p16rnqoXiIaU5eoBuZo/1zO5/riR0ffxNeLn+PnIoSSdX7toiHGR2ybXERe2aPCvVi X-Received: by 2002:a05:6871:d084:b0:2cc:37d4:82b2 with SMTP id 586e51a60fabf-2ff26eb4881mr2097797fac.14.1752235138762; Fri, 11 Jul 2025 04:58:58 -0700 (PDT) Received: from postal.iol.unh.edu (postal.iol.unh.edu. [2606:4100:3880:1234::84]) by smtp-relay.gmail.com with ESMTPS id 586e51a60fabf-2ff10efdb49sm238795fac.0.2025.07.11.04.58.58 (version=TLS1_2 cipher=ECDHE-ECDSA-AES128-GCM-SHA256 bits=128/128); Fri, 11 Jul 2025 04:58:58 -0700 (PDT) X-Relaying-Domain: iol.unh.edu Date: Fri, 11 Jul 2025 04:58:58 -0700 (PDT) Message-ID: <6870fc82.050a0220.34a124.c570SMTPIN_ADDED_MISSING@mx.google.com> Received: from [172.21.0.5] (unknown [172.18.0.240]) by postal.iol.unh.edu (Postfix) with ESMTP id 4669F6051830; Fri, 11 Jul 2025 07:58:58 -0400 (EDT) Subject: |SUCCESS| pw155159 [PATCH] net/ixgbe: fix L4 protocol mask condition From: dpdklab@iol.unh.edu To: Test Report Cc: dpdk-test-reports@iol.unh.edu In-Reply-To: <20250711090403.204852-1-yuanx.wang@intel.com> References: <20250711090403.204852-1-yuanx.wang@intel.com> Content-Type: text/plain X-BeenThere: test-report@dpdk.org X-Mailman-Version: 2.1.29 Precedence: list List-Id: automatic DPDK test reports List-Unsubscribe: , List-Archive: List-Post: List-Help: List-Subscribe: , Errors-To: test-report-bounces@dpdk.org Test-Label: iol-unit-amd64-testing Test-Status: SUCCESS http://dpdk.org/patch/155159 _Testing PASS_ Submitter: Yuan Wang Date: Friday, July 11 2025 09:04:03 DPDK git baseline: Repo:dpdk Branch: master CommitID:a6b10031d251fcc7dadede461f7e1d005024b139 155159 --> testing pass Upstream job id: Generic-Unit-Test-DPDK#354786 Test environment and result as below: +-------------------------------+----------------+ | Environment | dpdk_unit_test | +===============================+================+ | CentOS Stream 9 | PASS | +-------------------------------+----------------+ | CentOS Stream 10 | PASS | +-------------------------------+----------------+ | Fedora Linux 40 | PASS | +-------------------------------+----------------+ | Debian GNU/Linux 12 | PASS | +-------------------------------+----------------+ | Fedora Linux 41 | PASS | +-------------------------------+----------------+ | Red Hat Enterprise Linux 8.10 | PASS | +-------------------------------+----------------+ | Ubuntu 22.04 | PASS | +-------------------------------+----------------+ | Ubuntu 20.04 | PASS | +-------------------------------+----------------+ | Red Hat Enterprise Linux 9.5 | PASS | +-------------------------------+----------------+ | Ubuntu 24.04 | PASS | +-------------------------------+----------------+ | Windows Server 2022 | PASS | +-------------------------------+----------------+ CentOS Stream 9 Kernel: 5.15 Compiler: gcc gcc (GCC) 11.5.0 20240719 (Red Hat 11.5.0-7) CentOS Stream 10 Kernel: 5.15 Compiler: gcc gcc (GCC) 14.2.1 20250110 (Red Hat 14.2.1-8) Fedora Linux 40 Kernel: 5.15 Compiler: gcc gcc (GCC) 14.2.1 20240912 (Red Hat 14.2.1-3) Debian GNU/Linux 12 Kernel: 5.15 Compiler: gcc gcc (Debian 12.2.0-14+deb12u1) 12.2.0 Fedora Linux 41 Kernel: 5.15 Compiler: clang gcc (GCC) 14.3.1 20250523 (Red Hat 14.3.1-1) Red Hat Enterprise Linux 8.10 Kernel: 5.15 Compiler: gcc gcc (GCC) 8.5.0 20210514 (Red Hat 8.5.0-22) Ubuntu 22.04 Kernel: 5.15 Compiler: gcc gcc (Ubuntu 11.4.0-1ubuntu1~22.04) 11.4.0 Ubuntu 20.04 Kernel: 5.15 Compiler: gcc gcc (Ubuntu 9.4.0-1ubuntu1~20.04.2) 9.4.0 Red Hat Enterprise Linux 9.5 Kernel: 5.15 Compiler: gcc gcc (GCC) 11.5.0 20240719 (Red Hat 11.5.0-2) Ubuntu 24.04 Kernel: 5.15 Compiler: gcc gcc (Ubuntu 13.3.0-6ubuntu2~24.04) 13.3.0 Windows Server 2022 Kernel: 10.0.20348.2031 Compiler: clang 15.0.7, gcc 14.1.0 (MinGW), and MSVC VS 19.39.33521 To view detailed results, visit: https://lab.dpdk.org/results/dashboard/patchsets/33636/ UNH-IOL DPDK Community Lab To manage your email subscriptions, visit: https://lab.dpdk.org/results/dashboard/preferences/subscriptions/