From mboxrd@z Thu Jan 1 00:00:00 1970 Return-Path: Received: from mails.dpdk.org (mails.dpdk.org [217.70.189.124]) by inbox.dpdk.org (Postfix) with ESMTP id 56EA746B46 for ; Fri, 11 Jul 2025 14:07:17 +0200 (CEST) Received: from mails.dpdk.org (localhost [127.0.0.1]) by mails.dpdk.org (Postfix) with ESMTP id 356B3400D6; Fri, 11 Jul 2025 14:07:17 +0200 (CEST) Received: from mail-pl1-f225.google.com (mail-pl1-f225.google.com [209.85.214.225]) by mails.dpdk.org (Postfix) with ESMTP id 6989A400D6 for ; Fri, 11 Jul 2025 14:07:15 +0200 (CEST) Received: by mail-pl1-f225.google.com with SMTP id d9443c01a7336-23aeac7d77aso17897915ad.3 for ; Fri, 11 Jul 2025 05:07:15 -0700 (PDT) DKIM-Signature: v=1; a=rsa-sha256; c=relaxed/relaxed; d=iol.unh.edu; s=unh-iol; t=1752235634; x=1752840434; darn=dpdk.org; h=references:in-reply-to:cc:to:from:subject:message-id:date:from:to :cc:subject:date:message-id:reply-to; bh=wfLxWYGDi1ZPLQpkW6H0KEA4tGPaONeY0QILrtQTJMQ=; b=XpvvgFQFSiguLB6PQ0+Mrj4tkkhThlPSirxy/KLpJmuYcwMl0QxTwaa8Im4wtRrQOV svsPusFgozoU3wfDsRDCbIuPOzmby28qDxGvcakECE3KrOcW3I7MEYQwqDAzI9jv7YnL hZyuFJbm/5nyz8G78No3CNix2xZoG2Mx4zvvg= X-Google-DKIM-Signature: v=1; a=rsa-sha256; c=relaxed/relaxed; d=1e100.net; s=20230601; t=1752235634; x=1752840434; h=references:in-reply-to:cc:to:from:subject:message-id:date :x-gm-message-state:from:to:cc:subject:date:message-id:reply-to; bh=wfLxWYGDi1ZPLQpkW6H0KEA4tGPaONeY0QILrtQTJMQ=; b=DsdkZhgaYLSmKpwLtfCIcu9+wTKpcExJIHHfdQJdfIcKD9jXFw8b3TPaoUORDHdyfX Bzt2FVf9fbl7VQq0m/hsUA3JBV5mjXXqYD+rsGe6SbKx921N2PcOYz1+Lsmio53rwAiX dF+aEzgCCxzvWyTkDO5IcE7mBV9sYXFvdSyHD/rEMp1XNMNEx/b981dlBtEsWLgt9des tMk7p50yLqAQR7IkgErLQ3OovvZmB1aDTsi/d9PLCj4TJYSRkJ9j54iZcm1/drxQbN39 8tEI4uuOj7J30/EyhbnyfJb49EC6Dm6siW3LKEDatqDhHNWbuleRhIlZNlkPkL7imPIi XEVg== X-Gm-Message-State: AOJu0YwyL7uP4NjNzAxH8X/sd25qKT/q13K/b487P5JyzQ/sMMfVcbae T3BruUXuvtrCTnB7GD9J702OfhoGQQgBT6BJhfwtCNR5NjXONCqKz2sQ8xIwOYfXUJ5dAfNwemR QpGA/6Qzst2/ZJ+haDcCcZJPgOHFuV/JSiTnBf/pdeeEy X-Gm-Gg: ASbGncuuQ9gIwDwEo1Ij9CzB+MnEIALnSNYGcMdu1N9birZqBeAiHXwol9aSZoPQqxG k5iUcFGHplw70PvSMugwMDdgkJ7GYVAeyXMHlci/fPfuNiK/aGVC/EcYWbnJGnMS82OyfBEHI5R EAs79IzWCIPM9mTXwE823R19yAWknwvFHkkQgj9011DWkVeTRxAU/KezdDvGmoB1qfpU18l2VGJ Q1m7UpYlsmtddQVfKDwI/hDFimJMvZTip5uWC98CNcfZ77u4bVqVf23Pvu+Jw9Vmp0lGsBlaINB luM9n+85h7AmlvCIWXFnjNDh5/P9JkmqM1kiVVxRcMGeGRg4y4QflruIB4mnv+s/JEtf9Q5H X-Google-Smtp-Source: AGHT+IHVxedtEqE8dfl+JB+OP2hGh41QcAGqcs1IzN1gNhzEvfjkzT+P9RU3iO0xhJytxOitZjRPO7XuXg7N X-Received: by 2002:a17:902:dace:b0:224:910:23f6 with SMTP id d9443c01a7336-23df0961d6cmr31096885ad.45.1752235634376; Fri, 11 Jul 2025 05:07:14 -0700 (PDT) Received: from postal.iol.unh.edu (postal.iol.unh.edu. [132.177.123.84]) by smtp-relay.gmail.com with ESMTPS id d9443c01a7336-23de426361fsm1881015ad.17.2025.07.11.05.07.14 (version=TLS1_2 cipher=ECDHE-ECDSA-AES128-GCM-SHA256 bits=128/128); Fri, 11 Jul 2025 05:07:14 -0700 (PDT) X-Relaying-Domain: iol.unh.edu Date: Fri, 11 Jul 2025 05:07:14 -0700 (PDT) Message-ID: <6870fe72.170a0220.347dde.bf7bSMTPIN_ADDED_MISSING@mx.google.com> Received: from [172.21.0.5] (unknown [172.18.0.240]) by postal.iol.unh.edu (Postfix) with ESMTP id D64BA6051830; Fri, 11 Jul 2025 08:07:13 -0400 (EDT) Subject: |SUCCESS| pw155159 [PATCH] net/ixgbe: fix L4 protocol mask condition From: dpdklab@iol.unh.edu To: Test Report Cc: dpdk-test-reports@iol.unh.edu In-Reply-To: <20250711090403.204852-1-yuanx.wang@intel.com> References: <20250711090403.204852-1-yuanx.wang@intel.com> Content-Type: text/plain X-BeenThere: test-report@dpdk.org X-Mailman-Version: 2.1.29 Precedence: list List-Id: automatic DPDK test reports List-Unsubscribe: , List-Archive: List-Post: List-Help: List-Subscribe: , Errors-To: test-report-bounces@dpdk.org Test-Label: iol-compile-amd64-testing Test-Status: SUCCESS http://dpdk.org/patch/155159 _Testing PASS_ Submitter: Yuan Wang Date: Friday, July 11 2025 09:04:03 DPDK git baseline: Repo:dpdk Branch: master CommitID:a6b10031d251fcc7dadede461f7e1d005024b139 155159 --> testing pass Upstream job id: Generic-DPDK-Compile-Meson#407969 Test environment and result as below: +-------------------------------+--------------------+-------------------+------------------+-------------------------+-------------------+----------------------+ | Environment | dpdk_meson_compile | dpdk_compile_spdk | dpdk_compile_ovs | dpdk_llvm_clang_compile | dpdk_msvc_compile | dpdk_mingw64_compile | +===============================+====================+===================+==================+=========================+===================+======================+ | CentOS Stream 9 | PASS | PASS | SKIPPED | SKIPPED | SKIPPED | SKIPPED | +-------------------------------+--------------------+-------------------+------------------+-------------------------+-------------------+----------------------+ | CentOS Stream 10 | PASS | SKIPPED | SKIPPED | SKIPPED | SKIPPED | SKIPPED | +-------------------------------+--------------------+-------------------+------------------+-------------------------+-------------------+----------------------+ | Fedora Linux 40 | PASS | PASS | SKIPPED | SKIPPED | SKIPPED | SKIPPED | +-------------------------------+--------------------+-------------------+------------------+-------------------------+-------------------+----------------------+ | Debian GNU/Linux 12 | PASS | PASS | SKIPPED | SKIPPED | SKIPPED | SKIPPED | +-------------------------------+--------------------+-------------------+------------------+-------------------------+-------------------+----------------------+ | Fedora Linux 41 | PASS | PASS | PASS | SKIPPED | SKIPPED | SKIPPED | +-------------------------------+--------------------+-------------------+------------------+-------------------------+-------------------+----------------------+ | Red Hat Enterprise Linux 8.10 | PASS | SKIPPED | SKIPPED | SKIPPED | SKIPPED | SKIPPED | +-------------------------------+--------------------+-------------------+------------------+-------------------------+-------------------+----------------------+ | Red Hat Enterprise Linux 9.5 | PASS | SKIPPED | SKIPPED | SKIPPED | SKIPPED | SKIPPED | +-------------------------------+--------------------+-------------------+------------------+-------------------------+-------------------+----------------------+ | openSUSE Leap 15.6 | PASS | SKIPPED | SKIPPED | SKIPPED | SKIPPED | SKIPPED | +-------------------------------+--------------------+-------------------+------------------+-------------------------+-------------------+----------------------+ | Ubuntu 20.04 | PASS | SKIPPED | SKIPPED | SKIPPED | SKIPPED | SKIPPED | +-------------------------------+--------------------+-------------------+------------------+-------------------------+-------------------+----------------------+ | Ubuntu 22.04 | PASS | PASS | SKIPPED | SKIPPED | SKIPPED | SKIPPED | +-------------------------------+--------------------+-------------------+------------------+-------------------------+-------------------+----------------------+ | Ubuntu 24.04 | PASS | PASS | PASS | SKIPPED | SKIPPED | SKIPPED | +-------------------------------+--------------------+-------------------+------------------+-------------------------+-------------------+----------------------+ | Alpine Linux 3.22.0 | PASS | SKIPPED | SKIPPED | SKIPPED | SKIPPED | SKIPPED | +-------------------------------+--------------------+-------------------+------------------+-------------------------+-------------------+----------------------+ | FreeBSD 14.2 | PASS | SKIPPED | SKIPPED | SKIPPED | SKIPPED | SKIPPED | +-------------------------------+--------------------+-------------------+------------------+-------------------------+-------------------+----------------------+ | Windows Server 2022 | SKIPPED | SKIPPED | SKIPPED | PASS | PASS | PASS | +-------------------------------+--------------------+-------------------+------------------+-------------------------+-------------------+----------------------+ CentOS Stream 9 Kernel: 5.15 Compiler: gcc gcc (GCC) 11.5.0 20240719 (Red Hat 11.5.0-7) CentOS Stream 10 Kernel: 5.15 Compiler: gcc gcc (GCC) 14.2.1 20250110 (Red Hat 14.2.1-8) Fedora Linux 40 Kernel: 5.15 Compiler: clang gcc (GCC) 14.2.1 20240912 (Red Hat 14.2.1-3) Debian GNU/Linux 12 Kernel: 5.15 Compiler: gcc gcc (Debian 12.2.0-14+deb12u1) 12.2.0 Fedora Linux 41 Kernel: 5.15 Compiler: clang gcc (GCC) 14.3.1 20250523 (Red Hat 14.3.1-1) Red Hat Enterprise Linux 8.10 Kernel: 5.15 Compiler: gcc gcc (GCC) 8.5.0 20210514 (Red Hat 8.5.0-22) Red Hat Enterprise Linux 9.5 Kernel: 5.15 Compiler: gcc gcc (GCC) 11.5.0 20240719 (Red Hat 11.5.0-2) openSUSE Leap 15.6 Kernel: 5.15 Compiler: gcc gcc (SUSE Linux) 7.5.0 Ubuntu 20.04 Kernel: 5.15 Compiler: gcc gcc (Ubuntu 9.4.0-1ubuntu1~20.04.2) 9.4.0 Ubuntu 22.04 Kernel: 5.15 Compiler: gcc gcc (Ubuntu 11.4.0-1ubuntu1~22.04) 11.4.0 Ubuntu 24.04 Kernel: 5.15 Compiler: gcc gcc (Ubuntu 13.3.0-6ubuntu2~24.04) 13.3.0 Alpine Linux 3.22.0 Kernel: 5.15 Compiler: gcc gcc (Alpine 14.2.0) 14.2.0 FreeBSD 14.2 Kernel: 14.2-RELEASE Compiler: clang 18.1.6 Windows Server 2022 Kernel: 10.0.20348.2031 Compiler: clang 15.0.7, gcc 14.1.0 (MinGW), and MSVC VS 19.39.33521 To view detailed results, visit: https://lab.dpdk.org/results/dashboard/patchsets/33636/ UNH-IOL DPDK Community Lab To manage your email subscriptions, visit: https://lab.dpdk.org/results/dashboard/preferences/subscriptions/