From mboxrd@z Thu Jan 1 00:00:00 1970 Return-Path: Received: from mails.dpdk.org (mails.dpdk.org [217.70.189.124]) by inbox.dpdk.org (Postfix) with ESMTP id 4539746B46 for ; Fri, 11 Jul 2025 14:28:14 +0200 (CEST) Received: from mails.dpdk.org (localhost [127.0.0.1]) by mails.dpdk.org (Postfix) with ESMTP id 304B1400D6; Fri, 11 Jul 2025 14:28:14 +0200 (CEST) Received: from mail-pl1-f226.google.com (mail-pl1-f226.google.com [209.85.214.226]) by mails.dpdk.org (Postfix) with ESMTP id 21618400D6 for ; Fri, 11 Jul 2025 14:28:13 +0200 (CEST) Received: by mail-pl1-f226.google.com with SMTP id d9443c01a7336-235f9ea8d08so19053245ad.1 for ; Fri, 11 Jul 2025 05:28:13 -0700 (PDT) DKIM-Signature: v=1; a=rsa-sha256; c=relaxed/relaxed; d=iol.unh.edu; s=unh-iol; t=1752236892; x=1752841692; darn=dpdk.org; h=references:in-reply-to:cc:to:from:subject:message-id:date:from:to :cc:subject:date:message-id:reply-to; bh=WHJV+KimV89Hc59fBghH0zo3EzO4DRe8+w5vtF0tres=; b=cU9VsWd1LizyiUkGI1vuVbarB3+r2VSJlJiBh9ecHwUQLOR+cjfFkF6Q2AzYaCzoOH +KdWxIWPymjwdXU/0fvbwKBR49JZFekfss0S0fuFQfg/eNx33LblOf7Qsx0jOh8s1KRR /rYqRFZEKio8o+Crr4wkdSkbDUFmk2ZjQ7iwU= X-Google-DKIM-Signature: v=1; a=rsa-sha256; c=relaxed/relaxed; d=1e100.net; s=20230601; t=1752236892; x=1752841692; h=references:in-reply-to:cc:to:from:subject:message-id:date :x-gm-message-state:from:to:cc:subject:date:message-id:reply-to; bh=WHJV+KimV89Hc59fBghH0zo3EzO4DRe8+w5vtF0tres=; b=OcdIDvikjYYqJZTRdfXWrXo1GxBYKJOE163EaWCmpZFodwIGtoCoaXw+UrtkTQ+RcA afOXC67G8Ueq9vstL+AUlrx7OZ3HXLHRE0onkjpHZoZ1HgYPcCvb75tilP3Tvht9fexr 8h7dbDTyRA6mzawf3chrpqdePYgselrbEJ8qDDNV70dGcYRfM5FwzQ/V3QJbtUsOGXl6 Jkh9g4gcZSMg9d/eXPnRXEqN5S56lQoS0f1cTsTsw/n7oiLwP0u63X0l3QxaOk8B8Dug adbqoJ1O6vIf9KWMvfPdGvcEGev8UvWTJsUXU0AiFaleYPNsaJrgVl3U5NqxE4q6kvKj C8Aw== X-Gm-Message-State: AOJu0YwaEmFFB8z+btNq90DIZ2szb8uhm8dZ5/xdUyx1Kk0V4D/lu9UH 2Ndmd0QNGSuUAzLkLHYtW2wiDdH1tLMEfhU3fwJw/4oCmHp9iU/nWQiIerrePT6wi4b1svT4uaW 2f36UtIPs/8fm4lM+TNh0wIlw2O7AiETmELGkh7TQstuH4yb3tWrlVaSemsc6 X-Gm-Gg: ASbGncto0yD3JPdX4Q6Dfj7sHRte9mZOEZ96omzhmNbRWkbMevBebYCPZTG14v/ygE4 f8lQF+0SaiYJZkiHwA5D0j48iKt51gr5WJu9wOlI1/TTMPFyBya6r8TCOtJsMidxWx6Q32aSJqq ozXwSS/Mlyo9SFFwiIxLiSdv4wKkBMTXSEIoLtb6bBZq+6+nWss/QHOeL4mHm9563s1Lv6kiLZ1 6Zy49/MbE0vwlTC1vKvB1Kh23ANbe7nj/nL+rKRJZeMzizcAg3S1ie4LFD9UMlFL3UJD1hGVGcN oRC7+sZZ7nO5UYBxPixZ3OpRMdEIdPgXvq9VTpJ/TLBxMRo9Cg== X-Google-Smtp-Source: AGHT+IHCtK7EglcuvqEp8Dh2lYDcTEEef3M77cuQF6Q9FDNLz6fkbHlG6H052HN5wK5pTgOjlSo9HFhj5hjO X-Received: by 2002:a17:902:d492:b0:234:ba37:87b0 with SMTP id d9443c01a7336-23dede389afmr33524265ad.13.1752236892271; Fri, 11 Jul 2025 05:28:12 -0700 (PDT) Received: from postal.iol.unh.edu (postal.iol.unh.edu. [2606:4100:3880:1234::84]) by smtp-relay.gmail.com with ESMTPS id d9443c01a7336-23de433d490sm1850355ad.110.2025.07.11.05.28.12 (version=TLS1_2 cipher=ECDHE-ECDSA-AES128-GCM-SHA256 bits=128/128); Fri, 11 Jul 2025 05:28:12 -0700 (PDT) X-Relaying-Domain: iol.unh.edu Date: Fri, 11 Jul 2025 05:28:12 -0700 (PDT) Message-ID: <6871035c.170a0220.3507e.9970SMTPIN_ADDED_MISSING@mx.google.com> Received: from [172.21.0.5] (unknown [172.18.0.240]) by postal.iol.unh.edu (Postfix) with ESMTP id 728A76051830; Fri, 11 Jul 2025 08:28:11 -0400 (EDT) Subject: |SUCCESS| pw155159 [PATCH] net/ixgbe: fix L4 protocol mask condition From: dpdklab@iol.unh.edu To: Test Report Cc: dpdk-test-reports@iol.unh.edu In-Reply-To: <20250711090403.204852-1-yuanx.wang@intel.com> References: <20250711090403.204852-1-yuanx.wang@intel.com> Content-Type: text/plain X-BeenThere: test-report@dpdk.org X-Mailman-Version: 2.1.29 Precedence: list List-Id: automatic DPDK test reports List-Unsubscribe: , List-Archive: List-Post: List-Help: List-Subscribe: , Errors-To: test-report-bounces@dpdk.org Test-Label: iol-abi-testing Test-Status: SUCCESS http://dpdk.org/patch/155159 _Testing PASS_ Submitter: Yuan Wang Date: Friday, July 11 2025 09:04:03 DPDK git baseline: Repo:dpdk Branch: master CommitID:a6b10031d251fcc7dadede461f7e1d005024b139 155159 --> testing pass Upstream job id: Generic-DPDK-Compile-ABI#134061 Test environment and result as below: +-------------------------------+----------+ | Environment | abi_test | +===============================+==========+ | CentOS Stream 10 | PASS | +-------------------------------+----------+ | Fedora Linux 40 | PASS | +-------------------------------+----------+ | openSUSE Leap 15.6 | PASS | +-------------------------------+----------+ | Debian GNU/Linux 12 | PASS | +-------------------------------+----------+ | Fedora Linux 41 | PASS | +-------------------------------+----------+ | Ubuntu 24.04 | PASS | +-------------------------------+----------+ | Red Hat Enterprise Linux 8.10 | PASS | +-------------------------------+----------+ | Ubuntu 22.04 | PASS | +-------------------------------+----------+ | Red Hat Enterprise Linux 9.5 | PASS | +-------------------------------+----------+ | CentOS Stream 9 | PASS | +-------------------------------+----------+ CentOS Stream 10 Kernel: 5.15 Compiler: gcc gcc (GCC) 14.2.1 20250110 (Red Hat 14.2.1-8) Fedora Linux 40 Kernel: 5.15 Compiler: clang gcc (GCC) 14.2.1 20240912 (Red Hat 14.2.1-3) openSUSE Leap 15.6 Kernel: 5.15 Compiler: gcc gcc (SUSE Linux) 7.5.0 Debian GNU/Linux 12 Kernel: 5.15 Compiler: gcc gcc (Debian 12.2.0-14+deb12u1) 12.2.0 Fedora Linux 41 Kernel: 5.15 Compiler: gcc gcc (GCC) 14.3.1 20250523 (Red Hat 14.3.1-1) Ubuntu 24.04 Kernel: 5.15 Compiler: gcc gcc (Ubuntu 13.3.0-6ubuntu2~24.04) 13.3.0 Red Hat Enterprise Linux 8.10 Kernel: 5.15 Compiler: gcc gcc (GCC) 8.5.0 20210514 (Red Hat 8.5.0-22) Ubuntu 22.04 Kernel: 5.15 Compiler: gcc gcc (Ubuntu 11.4.0-1ubuntu1~22.04) 11.4.0 Red Hat Enterprise Linux 9.5 Kernel: 5.15 Compiler: gcc gcc (GCC) 11.5.0 20240719 (Red Hat 11.5.0-2) CentOS Stream 9 Kernel: 5.15 Compiler: gcc gcc (GCC) 11.5.0 20240719 (Red Hat 11.5.0-7) To view detailed results, visit: https://lab.dpdk.org/results/dashboard/patchsets/33636/ UNH-IOL DPDK Community Lab To manage your email subscriptions, visit: https://lab.dpdk.org/results/dashboard/preferences/subscriptions/