From mboxrd@z Thu Jan 1 00:00:00 1970 Return-Path: Received: from mails.dpdk.org (mails.dpdk.org [217.70.189.124]) by inbox.dpdk.org (Postfix) with ESMTP id 4EBAC46B46 for ; Fri, 11 Jul 2025 15:27:12 +0200 (CEST) Received: from mails.dpdk.org (localhost [127.0.0.1]) by mails.dpdk.org (Postfix) with ESMTP id 1F047400D6; Fri, 11 Jul 2025 15:27:12 +0200 (CEST) Received: from mail-yb1-f227.google.com (mail-yb1-f227.google.com [209.85.219.227]) by mails.dpdk.org (Postfix) with ESMTP id 2E8AC400D6 for ; Fri, 11 Jul 2025 15:27:11 +0200 (CEST) Received: by mail-yb1-f227.google.com with SMTP id 3f1490d57ef6-e8b3cc05665so1703759276.2 for ; Fri, 11 Jul 2025 06:27:11 -0700 (PDT) DKIM-Signature: v=1; a=rsa-sha256; c=relaxed/relaxed; d=iol.unh.edu; s=unh-iol; t=1752240430; x=1752845230; darn=dpdk.org; h=references:in-reply-to:cc:to:from:subject:message-id:date:from:to :cc:subject:date:message-id:reply-to; bh=gSileRL4usZcmzZihy3yeFTNr/1pFkIAwY6VpW+uqL0=; b=CfTrqAWzdQdw0pp9L4emlz9e4bduJJWA/9am5xozEsMpN8Xxhejlr+OApHTOrZghJS XOLJ0qx5ruwbKAQ6uYymKtN7bGDlc1t0gl35d4o2Mzlq3aBBTCHGgwHvAS4bkXIiKuiu Wwl2m24zqDzSPGSCixYxJI9fAfiX16TkZUkJk= X-Google-DKIM-Signature: v=1; a=rsa-sha256; c=relaxed/relaxed; d=1e100.net; s=20230601; t=1752240430; x=1752845230; h=references:in-reply-to:cc:to:from:subject:message-id:date :x-gm-message-state:from:to:cc:subject:date:message-id:reply-to; bh=gSileRL4usZcmzZihy3yeFTNr/1pFkIAwY6VpW+uqL0=; b=K/COPmT3rwkBJPmLc+Anf8+y7UDyJDS5PQGFOZUKwUshMWHvVcZdq3IvMisYJw1a/h zD+/uk3K69z+WPYuw0jEyiSnbslqsRIUifTIeiw/oy7jEDhvrSsc0prQB32az34/evMY 0kPRTXenI27/gF6LwcF269I9ldV8KxFUU0P7/tscp4dteUs+rI0XUZ05eWGJdcoRt+k4 oJ5mhdn/D9RZysTnvNu/9mGy53oWjqR3BZxj4nMaDsSr5WDVVRGXQv19aQp8jIwk56FD 0Ja7K3VH1YPawPulPrf+l96AEV9WTy/sQvl+FjeS2WfQELep6GC+tqvXk29cPWubc2Zj G4og== X-Gm-Message-State: AOJu0YwRM290cIy93qSnJTdkKz20KvkHQo9qyX4S9b5XnAFG4psSGlRs CQM3tO3ij/fYOz/R0PgZUY/CcGjIKp2JqXgJ4CwNID5hFDeB/R27NtEm+HQ66KdHaHebu+TJefN piAGaepIlr92s+1Vrpj/xO1l3tF0NSx7nhkllPp4tZSZgBb2e6uSRFrbm4IbF X-Gm-Gg: ASbGncv2vR5Rf9w9O7m05OFnTdIku5m6/TsmVwXFu6WZUudaqQHS+bZjb8R7SjZEvGK pGIj9Bj8uM30ZUBSWdrdLtnRaurE7Y8W8Irli6R5kH8VIX3foMXFrP95ozjLVSz+A6Fp89VkI5s gH7EaS9vFKveruJ05zEwX9A67LdmDDQLzITpQF+m/nr0/Yz2gFtAG+y07eajIvkPRjqIySwGnKU LEX/qH5yb4uVsmTqy1dCdBk3RTC3W32t7zSa6599YCM9QqO2g6IJy6Dw1vA4WUioQFT+L1ZWZBy Au/Weg0w7D48gpIl2BberJgfO1LV1PAMZWuxxA7GwaaQnDTlrQ== X-Google-Smtp-Source: AGHT+IEIa8ce3hHdk72H/Qk03fyaJjA+H0msEfUEvznu7Z5IWtiCERGjvC4ZT9/qPMsvZASn8Zc/UYL8iQ99 X-Received: by 2002:a05:690c:61c3:b0:70c:d322:8587 with SMTP id 00721157ae682-717d5b8151bmr55724787b3.6.1752240430426; Fri, 11 Jul 2025 06:27:10 -0700 (PDT) Received: from postal.iol.unh.edu (postal.iol.unh.edu. [2606:4100:3880:1234::84]) by smtp-relay.gmail.com with ESMTPS id 00721157ae682-717c6235a12sm1240887b3.50.2025.07.11.06.27.10 (version=TLS1_2 cipher=ECDHE-ECDSA-AES128-GCM-SHA256 bits=128/128); Fri, 11 Jul 2025 06:27:10 -0700 (PDT) X-Relaying-Domain: iol.unh.edu Date: Fri, 11 Jul 2025 06:27:10 -0700 (PDT) Message-ID: <6871112e.050a0220.14f7.69a9SMTPIN_ADDED_MISSING@mx.google.com> Received: from [172.21.0.5] (unknown [172.18.0.240]) by postal.iol.unh.edu (Postfix) with ESMTP id 1884F604D420; Fri, 11 Jul 2025 09:27:10 -0400 (EDT) Subject: |SUCCESS| pw155159 [PATCH] net/ixgbe: fix L4 protocol mask condition From: dpdklab@iol.unh.edu To: Test Report Cc: dpdk-test-reports@iol.unh.edu In-Reply-To: <20250711090403.204852-1-yuanx.wang@intel.com> References: <20250711090403.204852-1-yuanx.wang@intel.com> Content-Type: text/plain X-BeenThere: test-report@dpdk.org X-Mailman-Version: 2.1.29 Precedence: list List-Id: automatic DPDK test reports List-Unsubscribe: , List-Archive: List-Post: List-Help: List-Subscribe: , Errors-To: test-report-bounces@dpdk.org Test-Label: iol-compile-arm64-testing Test-Status: SUCCESS http://dpdk.org/patch/155159 _Testing PASS_ Submitter: Yuan Wang Date: Friday, July 11 2025 09:04:03 DPDK git baseline: Repo:dpdk Branch: master CommitID:a6b10031d251fcc7dadede461f7e1d005024b139 155159 --> testing pass Upstream job id: Generic-DPDK-Compile-Meson#407991 Test environment and result as below: +------------------------------+--------------------+ | Environment | dpdk_meson_compile | +==============================+====================+ | Red Hat Enterprise Linux 9.5 | PASS | +------------------------------+--------------------+ | Ubuntu 20.04 | PASS | +------------------------------+--------------------+ | Debian GNU/Linux 12 | PASS | +------------------------------+--------------------+ | Fedora Linux 40 | PASS | +------------------------------+--------------------+ | CentOS Stream 9 | PASS | +------------------------------+--------------------+ | Fedora Linux 41 | PASS | +------------------------------+--------------------+ | Ubuntu 22.04 | PASS | +------------------------------+--------------------+ | Ubuntu 24.04 | PASS | +------------------------------+--------------------+ | CentOS Stream 10 | PASS | +------------------------------+--------------------+ Red Hat Enterprise Linux 9.5 Kernel: 5.4 Compiler: gcc gcc (GCC) 11.5.0 20240719 (Red Hat 11.5.0-2) Ubuntu 20.04 Kernel: 5.4 Compiler: gcc gcc (Ubuntu 9.4.0-1ubuntu1~20.04.2) 9.4.0 Debian GNU/Linux 12 Kernel: 5.4 Compiler: gcc gcc (Debian 12.2.0-14+deb12u1) 12.2.0 Fedora Linux 40 Kernel: 5.4 Compiler: gcc gcc (GCC) 14.2.1 20240912 (Red Hat 14.2.1-3) CentOS Stream 9 Kernel: 5.4 Compiler: gcc gcc (GCC) 11.5.0 20240719 (Red Hat 11.5.0-7) Fedora Linux 41 Kernel: 5.4 Compiler: gcc gcc (GCC) 14.3.1 20250523 (Red Hat 14.3.1-1) Ubuntu 22.04 Kernel: 5.4 Compiler: gcc gcc (Ubuntu 11.4.0-1ubuntu1~22.04) 11.4.0 Ubuntu 24.04 Kernel: 5.4 Compiler: gcc gcc (Ubuntu 13.3.0-6ubuntu2~24.04) 13.3.0 CentOS Stream 10 Kernel: 5.4 Compiler: gcc gcc (GCC) 14.2.1 20250110 (Red Hat 14.2.1-8) To view detailed results, visit: https://lab.dpdk.org/results/dashboard/patchsets/33636/ UNH-IOL DPDK Community Lab To manage your email subscriptions, visit: https://lab.dpdk.org/results/dashboard/preferences/subscriptions/