* |SUCCESS| pw155160 [PATCH] maintainers: update for ethdev library
[not found] <20250711144326.1288907-1-thomas@monjalon.net>
@ 2025-07-11 14:23 ` qemudev
2025-07-11 14:28 ` qemudev
` (16 subsequent siblings)
17 siblings, 0 replies; 18+ messages in thread
From: qemudev @ 2025-07-11 14:23 UTC (permalink / raw)
To: test-report
Test-Label: loongarch-compilation
Test-Status: SUCCESS
http://dpdk.org/patch/155160
_Compilation OK_
Submitter: Thomas Monjalon <thomas@monjalon.net>
Date: Fri, 11 Jul 2025 16:43:25 +0200
DPDK git baseline: Repo:dpdk
Branch: main
CommitID: 9fe9c0b231c8da5435bfccb1963121b4277f961c
155160 --> meson & ninja build successfully
Test environment and result as below:
+---------------------+----------------+
| Environment | compilation |
+---------------------+----------------+
| Loongnix-Server 8.3 | PASS |
+---------------------+----------------+
Loongnix-Server 8.3
Kernel: 4.19.190+
Compiler: gcc 8.3
^ permalink raw reply [flat|nested] 18+ messages in thread
* |SUCCESS| pw155160 [PATCH] maintainers: update for ethdev library
[not found] <20250711144326.1288907-1-thomas@monjalon.net>
2025-07-11 14:23 ` |SUCCESS| pw155160 [PATCH] maintainers: update for ethdev library qemudev
@ 2025-07-11 14:28 ` qemudev
2025-07-11 14:43 ` checkpatch
` (15 subsequent siblings)
17 siblings, 0 replies; 18+ messages in thread
From: qemudev @ 2025-07-11 14:28 UTC (permalink / raw)
To: test-report
Test-Label: loongarch-unit-testing
Test-Status: SUCCESS
http://dpdk.org/patch/155160
_Unit Testing PASS_
Submitter: Thomas Monjalon <thomas@monjalon.net>
Date: Fri, 11 Jul 2025 16:43:25 +0200
DPDK git baseline: Repo:dpdk
Branch: main
CommitID: 9fe9c0b231c8da5435bfccb1963121b4277f961c
155160 --> testing pass
Test environment and result as below:
+---------------------+----------------+
| Environment | dpdk_unit_test |
+---------------------+----------------+
| Loongnix-Server 8.3 | PASS |
+---------------------+----------------+
Loongnix-Server 8.3
Kernel: 4.19.190+
Compiler: gcc 8.3
Test result details:
1/120 DPDK:fast-tests / acl_autotest OK 3.24s
2/120 DPDK:fast-tests / alarm_autotest OK 1.54s
3/120 DPDK:fast-tests / argparse_autotest OK 0.54s
4/120 DPDK:fast-tests / atomic_autotest OK 7.33s
5/120 DPDK:fast-tests / bitcount_autotest OK 0.48s
6/120 DPDK:fast-tests / bitmap_autotest OK 0.48s
7/120 DPDK:fast-tests / bitops_autotest OK 1.98s
8/120 DPDK:fast-tests / bitratestats_autotest OK 0.49s
9/120 DPDK:fast-tests / bitset_autotest OK 3.24s
10/120 DPDK:fast-tests / bpf_autotest OK 0.48s
11/120 DPDK:fast-tests / bpf_convert_autotest OK 0.49s
12/120 DPDK:fast-tests / byteorder_autotest OK 0.48s
13/120 DPDK:fast-tests / cfgfile_autotest OK 0.48s
14/120 DPDK:fast-tests / cksum_autotest OK 0.48s
15/120 DPDK:fast-tests / cmdline_autotest OK 0.48s
16/120 DPDK:fast-tests / common_autotest OK 1.36s
17/120 DPDK:fast-tests / compressdev_autotest SKIP 0.07s exit status 77
18/120 DPDK:fast-tests / cpuflags_autotest OK 0.47s
19/120 DPDK:fast-tests / crc_autotest OK 0.48s
20/120 DPDK:fast-tests / user_delay_us OK 0.48s
21/120 DPDK:fast-tests / debug_autotest OK 14.91s
22/120 DPDK:fast-tests / devargs_autotest OK 0.48s
23/120 DPDK:fast-tests / dispatcher_autotest OK 2.52s
24/120 DPDK:fast-tests / distributor_autotest OK 1.20s
25/120 DPDK:fast-tests / eal_flags_c_opt_autotest OK 0.82s
26/120 DPDK:fast-tests / eal_flags_main_opt_autotest OK 0.23s
27/120 DPDK:fast-tests / eal_flags_n_opt_autotest OK 0.21s
28/120 DPDK:fast-tests / eal_flags_hpet_autotest OK 0.14s
29/120 DPDK:fast-tests / eal_flags_no_huge_autotest OK 0.23s
30/120 DPDK:fast-tests / eal_flags_a_opt_autotest OK 0.31s
31/120 DPDK:fast-tests / eal_flags_b_opt_autotest OK 0.26s
32/120 DPDK:fast-tests / eal_flags_vdev_opt_autotest OK 0.20s
33/120 DPDK:fast-tests / eal_flags_r_opt_autotest OK 0.19s
34/120 DPDK:fast-tests / eal_flags_mem_autotest OK 0.61s
35/120 DPDK:fast-tests / eal_flags_file_prefix_autotest OK 22.27s
36/120 DPDK:fast-tests / eal_flags_misc_autotest OK 1.09s
37/120 DPDK:fast-tests / eal_fs_autotest OK 0.48s
38/120 DPDK:fast-tests / errno_autotest OK 0.48s
39/120 DPDK:fast-tests / ethdev_link_status OK 0.48s
40/120 DPDK:fast-tests / event_eth_tx_adapter_autotest OK 1.69s
41/120 DPDK:fast-tests / event_ring_autotest OK 0.48s
42/120 DPDK:fast-tests / eventdev_common_autotest OK 0.48s
43/120 DPDK:fast-tests / eventdev_selftest_sw OK 7.38s
44/120 DPDK:fast-tests / fbarray_autotest OK 0.48s
45/120 DPDK:fast-tests / fib_autotest OK 1.32s
46/120 DPDK:fast-tests / fib6_autotest OK 1.11s
47/120 DPDK:fast-tests / func_reentrancy_autotest OK 2.05s
48/120 DPDK:fast-tests / graph_autotest OK 0.48s
49/120 DPDK:fast-tests / node_list_dump OK 0.48s
50/120 DPDK:fast-tests / graph_feature_arc_autotest OK 0.49s
51/120 DPDK:fast-tests / hash_autotest OK 1.10s
52/120 DPDK:fast-tests / hash_readwrite_func_autotest OK 6.38s
53/120 DPDK:fast-tests / interrupt_autotest OK 1.68s
54/120 DPDK:fast-tests / ipfrag_autotest OK 0.08s
55/120 DPDK:fast-tests / ipsec_autotest SKIP 0.48s exit status 77
56/120 DPDK:fast-tests / kvargs_autotest OK 0.49s
57/120 DPDK:fast-tests / latencystats_autotest OK 0.49s
58/120 DPDK:fast-tests / lcore_var_autotest OK 0.62s
59/120 DPDK:fast-tests / lcores_autotest OK 5.29s
60/120 DPDK:fast-tests / logs_autotest OK 0.48s
61/120 DPDK:fast-tests / lpm_autotest OK 2.53s
62/120 DPDK:fast-tests / lpm6_autotest OK 5.63s
63/120 DPDK:fast-tests / malloc_autotest OK 60.96s
64/120 DPDK:fast-tests / mbuf_autotest OK 4.57s
65/120 DPDK:fast-tests / mcslock_autotest OK 4.01s
66/120 DPDK:fast-tests / member_autotest OK 1.68s
67/120 DPDK:fast-tests / memcpy_autotest OK 7.19s
68/120 DPDK:fast-tests / memory_autotest OK 0.09s
69/120 DPDK:fast-tests / mempool_autotest OK 0.43s
70/120 DPDK:fast-tests / memzone_autotest OK 0.14s
71/120 DPDK:fast-tests / meter_autotest OK 0.47s
72/120 DPDK:fast-tests / metrics_autotest OK 0.48s
73/120 DPDK:fast-tests / multiprocess_autotest OK 0.20s
74/120 DPDK:fast-tests / net_ether_autotest OK 1.14s
75/120 DPDK:fast-tests / net_ipv6_autotest OK 0.48s
76/120 DPDK:fast-tests / pcapng_autotest OK 6.48s
77/120 DPDK:fast-tests / pdcp_autotest SKIP 0.07s exit status 77
78/120 DPDK:fast-tests / pdump_autotest OK 0.59s
79/120 DPDK:fast-tests / per_lcore_autotest OK 0.58s
80/120 DPDK:fast-tests / pflock_autotest OK 1.29s
81/120 DPDK:fast-tests / pie_autotest OK 0.48s
82/120 DPDK:fast-tests / ring_pmd_autotest OK 0.48s
83/120 DPDK:fast-tests / power_autotest OK 0.48s
84/120 DPDK:fast-tests / power_cpufreq_autotest SKIP 0.07s exit status 77
85/120 DPDK:fast-tests / power_intel_uncore_autotest SKIP 0.47s exit status 77
86/120 DPDK:fast-tests / power_kvm_vm_autotest SKIP 0.07s exit status 77
87/120 DPDK:fast-tests / prefetch_autotest OK 0.47s
88/120 DPDK:fast-tests / ptr_compress_autotest OK 0.48s
89/120 DPDK:fast-tests / rawdev_autotest OK 0.48s
90/120 DPDK:fast-tests / rcu_qsbr_autotest OK 1.00s
91/120 DPDK:fast-tests / reorder_autotest OK 0.54s
92/120 DPDK:fast-tests / rib_autotest OK 9.15s
93/120 DPDK:fast-tests / rib6_autotest OK 9.14s
94/120 DPDK:fast-tests / ring_autotest OK 0.51s
95/120 DPDK:fast-tests / rwlock_test1_autotest OK 1.23s
96/120 DPDK:fast-tests / rwlock_rda_autotest OK 5.49s
97/120 DPDK:fast-tests / rwlock_rds_wrm_autotest OK 5.48s
98/120 DPDK:fast-tests / rwlock_rde_wro_autotest OK 5.48s
99/120 DPDK:fast-tests / sched_autotest OK 0.48s
100/120 DPDK:fast-tests / security_autotest OK 0.07s
101/120 DPDK:fast-tests / seqlock_autotest OK 2.48s
102/120 DPDK:fast-tests / service_autotest OK 3.18s
103/120 DPDK:fast-tests / soring_autotest OK 0.49s
104/120 DPDK:fast-tests / spinlock_autotest OK 0.56s
105/120 DPDK:fast-tests / stack_autotest OK 0.87s
106/120 DPDK:fast-tests / stack_lf_autotest SKIP 0.06s exit status 77
107/120 DPDK:fast-tests / string_autotest OK 0.48s
108/120 DPDK:fast-tests / table_autotest OK 7.61s
109/120 DPDK:fast-tests / tailq_autotest OK 0.47s
110/120 DPDK:fast-tests / telemetry_data_autotest OK 0.49s
111/120 DPDK:fast-tests / telemetry_json_autotest OK 0.48s
112/120 DPDK:fast-tests / thash_autotest OK 0.49s
113/120 DPDK:fast-tests / threads_autotest OK 0.66s
114/120 DPDK:fast-tests / ticketlock_autotest OK 0.66s
115/120 DPDK:fast-tests / timer_autotest OK 3.97s
116/120 DPDK:fast-tests / trace_autotest OK 0.47s
117/120 DPDK:fast-tests / trace_autotest_with_traces OK 0.48s
118/120 DPDK:fast-tests / vdev_autotest OK 0.48s
119/120 DPDK:fast-tests / version_autotest OK 0.48s
120/120 DPDK:fast-tests / telemetry_all OK 1.46s
Ok: 113
Expected Fail: 0
Fail: 0
Unexpected Pass: 0
Skipped: 7
Timeout: 0
^ permalink raw reply [flat|nested] 18+ messages in thread
* |SUCCESS| pw155160 [PATCH] maintainers: update for ethdev library
[not found] <20250711144326.1288907-1-thomas@monjalon.net>
2025-07-11 14:23 ` |SUCCESS| pw155160 [PATCH] maintainers: update for ethdev library qemudev
2025-07-11 14:28 ` qemudev
@ 2025-07-11 14:43 ` checkpatch
2025-07-11 16:03 ` 0-day Robot
` (14 subsequent siblings)
17 siblings, 0 replies; 18+ messages in thread
From: checkpatch @ 2025-07-11 14:43 UTC (permalink / raw)
To: test-report
Test-Label: checkpatch
Test-Status: SUCCESS
http://dpdk.org/patch/155160
_coding style OK_
^ permalink raw reply [flat|nested] 18+ messages in thread
* |SUCCESS| pw155160 [PATCH] maintainers: update for ethdev library
[not found] <20250711144326.1288907-1-thomas@monjalon.net>
` (2 preceding siblings ...)
2025-07-11 14:43 ` checkpatch
@ 2025-07-11 16:03 ` 0-day Robot
2025-07-11 16:09 ` dpdklab
` (13 subsequent siblings)
17 siblings, 0 replies; 18+ messages in thread
From: 0-day Robot @ 2025-07-11 16:03 UTC (permalink / raw)
To: test-report; +Cc: robot
From: robot@bytheb.org
Test-Label: github-robot: build
Test-Status: SUCCESS
http://patchwork.dpdk.org/patch/155160/
_github build: passed_
Build URL: https://github.com/ovsrobot/dpdk/actions/runs/16223246951
^ permalink raw reply [flat|nested] 18+ messages in thread
* |SUCCESS| pw155160 [PATCH] maintainers: update for ethdev library
[not found] <20250711144326.1288907-1-thomas@monjalon.net>
` (3 preceding siblings ...)
2025-07-11 16:03 ` 0-day Robot
@ 2025-07-11 16:09 ` dpdklab
2025-07-11 16:12 ` dpdklab
` (12 subsequent siblings)
17 siblings, 0 replies; 18+ messages in thread
From: dpdklab @ 2025-07-11 16:09 UTC (permalink / raw)
To: Test Report; +Cc: dpdk-test-reports
Test-Label: iol-intel-Functional
Test-Status: SUCCESS
http://dpdk.org/patch/155160
_Functional Testing PASS_
Submitter: Thomas Monjalon <thomas@monjalon.net>
Date: Friday, July 11 2025 14:43:25
DPDK git baseline: Repo:dpdk
Branch: master
CommitID:9fe9c0b231c8da5435bfccb1963121b4277f961c
155160 --> functional testing pass
Upstream job id: Template-DTS-Pipeline#236403
Test environment and result as below:
Ubuntu 24.04
Kernel: 6.8
Compiler: gcc gcc (Ubuntu 13.3.0-6ubuntu2~24.04) 13.3.0
NIC: Intel Corporation 4xxx Series QAT 0 Mbps
Aggregate Results by Test Suite
+----------------------------+--------+
| Test Suite | Result |
+============================+========+
| crypto_perf_cryptodev_perf | PASS |
+----------------------------+--------+
To view detailed results, visit:
https://lab.dpdk.org/results/dashboard/patchsets/33637/
UNH-IOL DPDK Community Lab
To manage your email subscriptions, visit:
https://lab.dpdk.org/results/dashboard/preferences/subscriptions/
^ permalink raw reply [flat|nested] 18+ messages in thread
* |SUCCESS| pw155160 [PATCH] maintainers: update for ethdev library
[not found] <20250711144326.1288907-1-thomas@monjalon.net>
` (4 preceding siblings ...)
2025-07-11 16:09 ` dpdklab
@ 2025-07-11 16:12 ` dpdklab
2025-07-11 16:15 ` |PENDING| " dpdklab
` (11 subsequent siblings)
17 siblings, 0 replies; 18+ messages in thread
From: dpdklab @ 2025-07-11 16:12 UTC (permalink / raw)
To: Ali Alnubani, Test Report; +Cc: dpdk-test-reports
Test-Label: iol-mellanox-Performance
Test-Status: SUCCESS
http://dpdk.org/patch/155160
_Performance Testing PASS_
Submitter: Thomas Monjalon <thomas@monjalon.net>
Date: Friday, July 11 2025 14:43:25
DPDK git baseline: Repo:dpdk
Branch: master
CommitID:9fe9c0b231c8da5435bfccb1963121b4277f961c
155160 --> performance testing pass
Upstream job id: Template-DTS-Pipeline#236391
Test environment and result as below:
Ubuntu 24.04
Kernel: 6.8
Compiler: gcc gcc (Ubuntu 13.3.0-6ubuntu2~24.04) 13.3.0
NIC: NVIDIA Mellanox ConnectX-7 100000 Mbps
Fail/Total: 0/6
Detail performance results:
+------------+---------+----------+-------------+------------------------------+
| frame_size | txd/rxd | num_cpus | num_threads | throughput difference from |
| | | | | expected |
+============+=========+==========+=============+==============================+
| 64 | 1024 | 1 | 1 | -0.3% |
+------------+---------+----------+-------------+------------------------------+
| 128 | 1024 | 1 | 1 | -1.0% |
+------------+---------+----------+-------------+------------------------------+
| 256 | 1024 | 1 | 1 | 0.3% |
+------------+---------+----------+-------------+------------------------------+
| 512 | 1024 | 1 | 1 | 0.3% |
+------------+---------+----------+-------------+------------------------------+
| 1024 | 1024 | 1 | 1 | -0.1% |
+------------+---------+----------+-------------+------------------------------+
| 1518 | 1024 | 1 | 1 | -0.1% |
+------------+---------+----------+-------------+------------------------------+
Ubuntu 24.04
Kernel: 6.8
Compiler: gcc gcc (Ubuntu 13.3.0-6ubuntu2~24.04) 13.3.0
NIC: Mellanox ConnectX-6 Lx 25000 Mbps
Fail/Total: 0/6
Detail performance results:
+------------+---------+----------+-------------+------------------------------+
| frame_size | txd/rxd | num_cpus | num_threads | throughput difference from |
| | | | | expected |
+============+=========+==========+=============+==============================+
| 64 | 1024 | 1 | 1 | -0.0% |
+------------+---------+----------+-------------+------------------------------+
| 128 | 1024 | 1 | 1 | -0.0% |
+------------+---------+----------+-------------+------------------------------+
| 256 | 1024 | 1 | 1 | 0.1% |
+------------+---------+----------+-------------+------------------------------+
| 512 | 1024 | 1 | 1 | 0.1% |
+------------+---------+----------+-------------+------------------------------+
| 1024 | 1024 | 1 | 1 | 0.1% |
+------------+---------+----------+-------------+------------------------------+
| 1518 | 1024 | 1 | 1 | 0.0% |
+------------+---------+----------+-------------+------------------------------+
To view detailed results, visit:
https://lab.dpdk.org/results/dashboard/patchsets/33637/
UNH-IOL DPDK Community Lab
To manage your email subscriptions, visit:
https://lab.dpdk.org/results/dashboard/preferences/subscriptions/
^ permalink raw reply [flat|nested] 18+ messages in thread
* |PENDING| pw155160 [PATCH] maintainers: update for ethdev library
[not found] <20250711144326.1288907-1-thomas@monjalon.net>
` (5 preceding siblings ...)
2025-07-11 16:12 ` dpdklab
@ 2025-07-11 16:15 ` dpdklab
2025-07-11 16:19 ` dpdklab
` (10 subsequent siblings)
17 siblings, 0 replies; 18+ messages in thread
From: dpdklab @ 2025-07-11 16:15 UTC (permalink / raw)
To: Test Report; +Cc: dpdk-test-reports
Test-Label: iol-compile-amd64-testing
Test-Status: PENDING
http://dpdk.org/patch/155160
_Testing pending_
Submitter: Thomas Monjalon <thomas@monjalon.net>
Date: Friday, July 11 2025 14:43:25
DPDK git baseline: Repo:dpdk
Branch: master
CommitID:9fe9c0b231c8da5435bfccb1963121b4277f961c
155160 --> testing pending
Upstream job id: Generic-VM-DPDK-Compile-Meson#37109
Test environment and result as below:
+------------------------------+--------------------+-------------------+------------------+
| Environment | dpdk_meson_compile | dpdk_compile_spdk | dpdk_compile_ovs |
+==============================+====================+===================+==================+
| CentOS Stream 9 | PEND | PEND | SKIPPED |
+------------------------------+--------------------+-------------------+------------------+
| CentOS Stream 10 | PEND | SKIPPED | SKIPPED |
+------------------------------+--------------------+-------------------+------------------+
| Debian GNU/Linux 12 | PEND | PEND | SKIPPED |
+------------------------------+--------------------+-------------------+------------------+
| Fedora Linux 40 | PEND | PEND | SKIPPED |
+------------------------------+--------------------+-------------------+------------------+
| Fedora Linux 41 | PEND | PEND | PEND |
+------------------------------+--------------------+-------------------+------------------+
| openSUSE Leap 15.6 | PEND | SKIPPED | SKIPPED |
+------------------------------+--------------------+-------------------+------------------+
| Ubuntu 22.04 | PEND | PEND | SKIPPED |
+------------------------------+--------------------+-------------------+------------------+
| Ubuntu 24.04 | PEND | PEND | PEND |
+------------------------------+--------------------+-------------------+------------------+
| Red Hat Enterprise Linux 9.5 | PEND | SKIPPED | SKIPPED |
+------------------------------+--------------------+-------------------+------------------+
| Ubuntu 20.04 | PASS | SKIPPED | SKIPPED |
+------------------------------+--------------------+-------------------+------------------+
| Alpine Linux 3.22.0 | PEND | SKIPPED | SKIPPED |
+------------------------------+--------------------+-------------------+------------------+
| FreeBSD 14.2 | PEND | SKIPPED | SKIPPED |
+------------------------------+--------------------+-------------------+------------------+
CentOS Stream 9
Kernel: 5.15
Compiler: gcc gcc (GCC) 11.5.0 20240719 (Red Hat 11.5.0-7)
CentOS Stream 10
Kernel: 5.15
Compiler: gcc gcc (GCC) 14.2.1 20250110 (Red Hat 14.2.1-8)
Debian GNU/Linux 12
Kernel: 5.15
Compiler: gcc gcc (Debian 12.2.0-14+deb12u1) 12.2.0
Fedora Linux 40
Kernel: 5.15
Compiler: gcc gcc (GCC) 14.2.1 20240912 (Red Hat 14.2.1-3)
Fedora Linux 41
Kernel: 5.15
Compiler: clang gcc (GCC) 14.3.1 20250523 (Red Hat 14.3.1-1)
openSUSE Leap 15.6
Kernel: 5.15
Compiler: gcc gcc (SUSE Linux) 7.5.0
Ubuntu 22.04
Kernel: 5.15
Compiler: gcc gcc (Ubuntu 11.4.0-1ubuntu1~22.04) 11.4.0
Ubuntu 24.04
Kernel: 5.15
Compiler: gcc gcc (Ubuntu 13.3.0-6ubuntu2~24.04) 13.3.0
Red Hat Enterprise Linux 9.5
Kernel: 5.15
Compiler: gcc gcc (GCC) 11.5.0 20240719 (Red Hat 11.5.0-2)
Ubuntu 20.04
Kernel: 5.15
Compiler: gcc gcc (Ubuntu 9.4.0-1ubuntu1~20.04.2) 9.4.0
Alpine Linux 3.22.0
Kernel: 5.15
Compiler: gcc gcc (Alpine 14.2.0) 14.2.0
FreeBSD 14.2
Kernel: 14.2-RELEASE
Compiler: clang 18.1.6
To view detailed results, visit:
https://lab.dpdk.org/results/dashboard/patchsets/33637/
UNH-IOL DPDK Community Lab
To manage your email subscriptions, visit:
https://lab.dpdk.org/results/dashboard/preferences/subscriptions/
^ permalink raw reply [flat|nested] 18+ messages in thread
* |PENDING| pw155160 [PATCH] maintainers: update for ethdev library
[not found] <20250711144326.1288907-1-thomas@monjalon.net>
` (6 preceding siblings ...)
2025-07-11 16:15 ` |PENDING| " dpdklab
@ 2025-07-11 16:19 ` dpdklab
2025-07-11 16:38 ` dpdklab
` (9 subsequent siblings)
17 siblings, 0 replies; 18+ messages in thread
From: dpdklab @ 2025-07-11 16:19 UTC (permalink / raw)
To: Test Report; +Cc: dpdk-test-reports
Test-Label: iol-compile-arm64-testing
Test-Status: PENDING
http://dpdk.org/patch/155160
_Testing pending_
Submitter: Thomas Monjalon <thomas@monjalon.net>
Date: Friday, July 11 2025 14:43:25
DPDK git baseline: Repo:dpdk
Branch: master
CommitID:9fe9c0b231c8da5435bfccb1963121b4277f961c
155160 --> testing pending
Upstream job id: Generic-DPDK-Compile-Meson#408052
Test environment and result as below:
+------------------------------+--------------------+
| Environment | dpdk_meson_compile |
+==============================+====================+
| Red Hat Enterprise Linux 9.5 | PEND |
+------------------------------+--------------------+
| Ubuntu 20.04 | PEND |
+------------------------------+--------------------+
| Debian GNU/Linux 12 | PEND |
+------------------------------+--------------------+
| Fedora Linux 40 | PEND |
+------------------------------+--------------------+
| Ubuntu 22.04 | PEND |
+------------------------------+--------------------+
| Fedora Linux 41 | PEND |
+------------------------------+--------------------+
| CentOS Stream 9 | PEND |
+------------------------------+--------------------+
| CentOS Stream 10 | PEND |
+------------------------------+--------------------+
Red Hat Enterprise Linux 9.5
Kernel: 5.4
Compiler: gcc gcc (GCC) 11.5.0 20240719 (Red Hat 11.5.0-2)
Ubuntu 20.04
Kernel: 5.15
Compiler: aarch64-linux-gnu-gcc gcc (Ubuntu 9.4.0-1ubuntu1~20.04.2) 9.4.0
Debian GNU/Linux 12
Kernel: 5.4
Compiler: gcc gcc (Debian 12.2.0-14+deb12u1) 12.2.0
Fedora Linux 40
Kernel: 5.4
Compiler: gcc gcc (GCC) 14.2.1 20240912 (Red Hat 14.2.1-3)
Ubuntu 22.04
Kernel: 5.4
Compiler: gcc gcc (Ubuntu 11.4.0-1ubuntu1~22.04) 11.4.0
Fedora Linux 41
Kernel: 5.4
Compiler: clang gcc (GCC) 14.3.1 20250523 (Red Hat 14.3.1-1)
CentOS Stream 9
Kernel: 5.4
Compiler: gcc gcc (GCC) 11.5.0 20240719 (Red Hat 11.5.0-7)
CentOS Stream 10
Kernel: 5.4
Compiler: gcc gcc (GCC) 14.2.1 20250110 (Red Hat 14.2.1-8)
To view detailed results, visit:
https://lab.dpdk.org/results/dashboard/patchsets/33637/
UNH-IOL DPDK Community Lab
To manage your email subscriptions, visit:
https://lab.dpdk.org/results/dashboard/preferences/subscriptions/
^ permalink raw reply [flat|nested] 18+ messages in thread
* |PENDING| pw155160 [PATCH] maintainers: update for ethdev library
[not found] <20250711144326.1288907-1-thomas@monjalon.net>
` (7 preceding siblings ...)
2025-07-11 16:19 ` dpdklab
@ 2025-07-11 16:38 ` dpdklab
2025-07-11 16:45 ` |SUCCESS| " dpdklab
` (8 subsequent siblings)
17 siblings, 0 replies; 18+ messages in thread
From: dpdklab @ 2025-07-11 16:38 UTC (permalink / raw)
To: Test Report; +Cc: dpdk-test-reports
Test-Label: iol-unit-amd64-testing
Test-Status: PENDING
http://dpdk.org/patch/155160
_Testing pending_
Submitter: Thomas Monjalon <thomas@monjalon.net>
Date: Friday, July 11 2025 14:43:25
DPDK git baseline: Repo:dpdk
Branch: master
CommitID:9fe9c0b231c8da5435bfccb1963121b4277f961c
155160 --> testing pending
Upstream job id: Generic-Unit-Test-DPDK#354826
Test environment and result as below:
+-------------------------------+----------------+
| Environment | dpdk_unit_test |
+===============================+================+
| Fedora Linux 40 | PEND |
+-------------------------------+----------------+
| CentOS Stream 9 | PASS |
+-------------------------------+----------------+
| Debian GNU/Linux 12 | PEND |
+-------------------------------+----------------+
| Fedora Linux 41 | PEND |
+-------------------------------+----------------+
| CentOS Stream 10 | PEND |
+-------------------------------+----------------+
| Red Hat Enterprise Linux 9.5 | PEND |
+-------------------------------+----------------+
| Ubuntu 20.04 | PEND |
+-------------------------------+----------------+
| Red Hat Enterprise Linux 8.10 | PEND |
+-------------------------------+----------------+
| Ubuntu 22.04 | PEND |
+-------------------------------+----------------+
| Ubuntu 24.04 | PEND |
+-------------------------------+----------------+
Fedora Linux 40
Kernel: 5.15
Compiler: gcc gcc (GCC) 14.2.1 20240912 (Red Hat 14.2.1-3)
CentOS Stream 9
Kernel: 5.15
Compiler: gcc gcc (GCC) 11.5.0 20240719 (Red Hat 11.5.0-7)
Debian GNU/Linux 12
Kernel: 5.15
Compiler: gcc gcc (Debian 12.2.0-14+deb12u1) 12.2.0
Fedora Linux 41
Kernel: 5.15
Compiler: gcc gcc (GCC) 14.3.1 20250523 (Red Hat 14.3.1-1)
CentOS Stream 10
Kernel: 5.15
Compiler: gcc gcc (GCC) 14.2.1 20250110 (Red Hat 14.2.1-8)
Red Hat Enterprise Linux 9.5
Kernel: 5.15
Compiler: gcc gcc (GCC) 11.5.0 20240719 (Red Hat 11.5.0-2)
Ubuntu 20.04
Kernel: 5.15
Compiler: gcc gcc (Ubuntu 9.4.0-1ubuntu1~20.04.2) 9.4.0
Red Hat Enterprise Linux 8.10
Kernel: 5.15
Compiler: gcc gcc (GCC) 8.5.0 20210514 (Red Hat 8.5.0-22)
Ubuntu 22.04
Kernel: 5.15
Compiler: gcc gcc (Ubuntu 11.4.0-1ubuntu1~22.04) 11.4.0
Ubuntu 24.04
Kernel: 5.15
Compiler: gcc gcc (Ubuntu 13.3.0-6ubuntu2~24.04) 13.3.0
To view detailed results, visit:
https://lab.dpdk.org/results/dashboard/patchsets/33637/
UNH-IOL DPDK Community Lab
To manage your email subscriptions, visit:
https://lab.dpdk.org/results/dashboard/preferences/subscriptions/
^ permalink raw reply [flat|nested] 18+ messages in thread
* |SUCCESS| pw155160 [PATCH] maintainers: update for ethdev library
[not found] <20250711144326.1288907-1-thomas@monjalon.net>
` (8 preceding siblings ...)
2025-07-11 16:38 ` dpdklab
@ 2025-07-11 16:45 ` dpdklab
2025-07-11 16:56 ` dpdklab
` (7 subsequent siblings)
17 siblings, 0 replies; 18+ messages in thread
From: dpdklab @ 2025-07-11 16:45 UTC (permalink / raw)
To: Test Report; +Cc: dpdk-test-reports
Test-Label: iol-intel-Functional
Test-Status: SUCCESS
http://dpdk.org/patch/155160
_Functional Testing PASS_
Submitter: Thomas Monjalon <thomas@monjalon.net>
Date: Friday, July 11 2025 14:43:25
DPDK git baseline: Repo:dpdk
Branch: master
CommitID:9fe9c0b231c8da5435bfccb1963121b4277f961c
155160 --> functional testing pass
Upstream job id: Template-DTS-Pipeline#236401
Test environment and result as below:
Ubuntu 24.04
Kernel: 6.8
Compiler: gcc gcc (Ubuntu 13.3.0-6ubuntu2~24.04) 13.3.0
NIC: Intel Corporation 4xxx Series QAT 0 Mbps
Aggregate Results by Test Suite
+----------------------------+--------+
| Test Suite | Result |
+============================+========+
| crypto_perf_cryptodev_perf | PASS |
+----------------------------+--------+
Ubuntu 22.04
Kernel: 5.15
Compiler: gcc gcc (Ubuntu 11.4.0-1ubuntu1~22.04) 11.4.0
NIC: Intel Corporation QAT 8970 0 Mbps
Aggregate Results by Test Suite
+----------------------------+--------+
| Test Suite | Result |
+============================+========+
| crypto_perf_cryptodev_perf | PASS |
+----------------------------+--------+
To view detailed results, visit:
https://lab.dpdk.org/results/dashboard/patchsets/33637/
UNH-IOL DPDK Community Lab
To manage your email subscriptions, visit:
https://lab.dpdk.org/results/dashboard/preferences/subscriptions/
^ permalink raw reply [flat|nested] 18+ messages in thread
* |SUCCESS| pw155160 [PATCH] maintainers: update for ethdev library
[not found] <20250711144326.1288907-1-thomas@monjalon.net>
` (9 preceding siblings ...)
2025-07-11 16:45 ` |SUCCESS| " dpdklab
@ 2025-07-11 16:56 ` dpdklab
2025-07-11 17:14 ` dpdklab
` (6 subsequent siblings)
17 siblings, 0 replies; 18+ messages in thread
From: dpdklab @ 2025-07-11 16:56 UTC (permalink / raw)
To: Test Report; +Cc: dpdk-test-reports
Test-Label: iol-broadcom-Performance
Test-Status: SUCCESS
http://dpdk.org/patch/155160
_Performance Testing PASS_
Submitter: Thomas Monjalon <thomas@monjalon.net>
Date: Friday, July 11 2025 14:43:25
DPDK git baseline: Repo:dpdk
Branch: master
CommitID:9fe9c0b231c8da5435bfccb1963121b4277f961c
155160 --> performance testing pass
Upstream job id: Template-DTS-Pipeline#236396
Test environment and result as below:
Ubuntu 22.04
Kernel: 5.15
Compiler: gcc gcc (Ubuntu 11.4.0-1ubuntu1~22.04) 11.4.0
NIC: Broadcom Inc. and subsidiaries BCM57414 NetXtreme-E 10Gb/25Gb RDMA Ethernet Controller 16d7 25 Mbps
Fail/Total: 0/3
Detail performance results:
+------------+---------+----------+-------------+------------------------------+
| frame_size | txd/rxd | num_cpus | num_threads | throughput difference from |
| | | | | expected |
+============+=========+==========+=============+==============================+
| 64 | 128 | 1 | 1 | -0.1% |
+------------+---------+----------+-------------+------------------------------+
| 64 | 512 | 1 | 1 | -0.3% |
+------------+---------+----------+-------------+------------------------------+
| 64 | 2048 | 1 | 1 | -0.5% |
+------------+---------+----------+-------------+------------------------------+
Ubuntu 22.04
Kernel: 5.15
Compiler: gcc gcc (Ubuntu 11.4.0-1ubuntu1~22.04) 11.4.0
NIC: Arm Broadcom Inc. brcm_57414 25000 Mbps
Fail/Total: 0/2
Detail performance results:
+------------+---------+----------+-------------+------------------------------+
| frame_size | txd/rxd | num_cpus | num_threads | throughput difference from |
| | | | | expected |
+============+=========+==========+=============+==============================+
| 64 | 512 | 1 | 1 | 0.1% |
+------------+---------+----------+-------------+------------------------------+
| 64 | 2048 | 1 | 1 | -0.6% |
+------------+---------+----------+-------------+------------------------------+
To view detailed results, visit:
https://lab.dpdk.org/results/dashboard/patchsets/33637/
UNH-IOL DPDK Community Lab
To manage your email subscriptions, visit:
https://lab.dpdk.org/results/dashboard/preferences/subscriptions/
^ permalink raw reply [flat|nested] 18+ messages in thread
* |SUCCESS| pw155160 [PATCH] maintainers: update for ethdev library
[not found] <20250711144326.1288907-1-thomas@monjalon.net>
` (10 preceding siblings ...)
2025-07-11 16:56 ` dpdklab
@ 2025-07-11 17:14 ` dpdklab
2025-07-11 17:24 ` dpdklab
` (5 subsequent siblings)
17 siblings, 0 replies; 18+ messages in thread
From: dpdklab @ 2025-07-11 17:14 UTC (permalink / raw)
To: Test Report; +Cc: dpdk-test-reports
Test-Label: iol-unit-amd64-testing
Test-Status: SUCCESS
http://dpdk.org/patch/155160
_Testing PASS_
Submitter: Thomas Monjalon <thomas@monjalon.net>
Date: Friday, July 11 2025 14:43:25
DPDK git baseline: Repo:dpdk
Branch: master
CommitID:9fe9c0b231c8da5435bfccb1963121b4277f961c
155160 --> testing pass
Upstream job id: Generic-VM-Unit-Test-DPDK#29900
Test environment and result as below:
+-------------------------------+----------------+
| Environment | dpdk_unit_test |
+===============================+================+
| Fedora Linux 40 | PASS |
+-------------------------------+----------------+
| CentOS Stream 9 | PASS |
+-------------------------------+----------------+
| Debian GNU/Linux 12 | PASS |
+-------------------------------+----------------+
| Fedora Linux 41 | PASS |
+-------------------------------+----------------+
| CentOS Stream 10 | PASS |
+-------------------------------+----------------+
| Red Hat Enterprise Linux 9.5 | PASS |
+-------------------------------+----------------+
| Ubuntu 20.04 | PASS |
+-------------------------------+----------------+
| Red Hat Enterprise Linux 8.10 | PASS |
+-------------------------------+----------------+
| Ubuntu 22.04 | PASS |
+-------------------------------+----------------+
| Ubuntu 24.04 | PASS |
+-------------------------------+----------------+
| Windows Server 2022 | PASS |
+-------------------------------+----------------+
Fedora Linux 40
Kernel: 5.15
Compiler: gcc gcc (GCC) 14.2.1 20240912 (Red Hat 14.2.1-3)
CentOS Stream 9
Kernel: 5.15
Compiler: gcc gcc (GCC) 11.5.0 20240719 (Red Hat 11.5.0-7)
Debian GNU/Linux 12
Kernel: 5.15
Compiler: gcc gcc (Debian 12.2.0-14+deb12u1) 12.2.0
Fedora Linux 41
Kernel: 5.15
Compiler: gcc gcc (GCC) 14.3.1 20250523 (Red Hat 14.3.1-1)
CentOS Stream 10
Kernel: 5.15
Compiler: gcc gcc (GCC) 14.2.1 20250110 (Red Hat 14.2.1-8)
Red Hat Enterprise Linux 9.5
Kernel: 5.15
Compiler: gcc gcc (GCC) 11.5.0 20240719 (Red Hat 11.5.0-2)
Ubuntu 20.04
Kernel: 5.15
Compiler: gcc gcc (Ubuntu 9.4.0-1ubuntu1~20.04.2) 9.4.0
Red Hat Enterprise Linux 8.10
Kernel: 5.15
Compiler: gcc gcc (GCC) 8.5.0 20210514 (Red Hat 8.5.0-22)
Ubuntu 22.04
Kernel: 5.15
Compiler: gcc gcc (Ubuntu 11.4.0-1ubuntu1~22.04) 11.4.0
Ubuntu 24.04
Kernel: 5.15
Compiler: gcc gcc (Ubuntu 13.3.0-6ubuntu2~24.04) 13.3.0
Windows Server 2022
Kernel: 10.0.20348.2031
Compiler: clang 15.0.7, gcc 14.1.0 (MinGW), and MSVC VS 19.39.33521
To view detailed results, visit:
https://lab.dpdk.org/results/dashboard/patchsets/33637/
UNH-IOL DPDK Community Lab
To manage your email subscriptions, visit:
https://lab.dpdk.org/results/dashboard/preferences/subscriptions/
^ permalink raw reply [flat|nested] 18+ messages in thread
* |SUCCESS| pw155160 [PATCH] maintainers: update for ethdev library
[not found] <20250711144326.1288907-1-thomas@monjalon.net>
` (11 preceding siblings ...)
2025-07-11 17:14 ` dpdklab
@ 2025-07-11 17:24 ` dpdklab
2025-07-11 17:34 ` dpdklab
` (4 subsequent siblings)
17 siblings, 0 replies; 18+ messages in thread
From: dpdklab @ 2025-07-11 17:24 UTC (permalink / raw)
To: Test Report; +Cc: dpdk-test-reports
Test-Label: iol-unit-amd64-testing
Test-Status: SUCCESS
http://dpdk.org/patch/155160
_Testing PASS_
Submitter: Thomas Monjalon <thomas@monjalon.net>
Date: Friday, July 11 2025 14:43:25
DPDK git baseline: Repo:dpdk
Branch: master
CommitID:9fe9c0b231c8da5435bfccb1963121b4277f961c
155160 --> testing pass
Upstream job id: Generic-VM-Unit-Test-DPDK#29901
Test environment and result as below:
+-------------------------------+----------------+
| Environment | dpdk_unit_test |
+===============================+================+
| Fedora Linux 40 | PASS |
+-------------------------------+----------------+
| CentOS Stream 9 | PASS |
+-------------------------------+----------------+
| Debian GNU/Linux 12 | PASS |
+-------------------------------+----------------+
| Fedora Linux 41 | PASS |
+-------------------------------+----------------+
| CentOS Stream 10 | PASS |
+-------------------------------+----------------+
| Red Hat Enterprise Linux 9.5 | PASS |
+-------------------------------+----------------+
| Ubuntu 20.04 | PASS |
+-------------------------------+----------------+
| Red Hat Enterprise Linux 8.10 | PASS |
+-------------------------------+----------------+
| Ubuntu 22.04 | PASS |
+-------------------------------+----------------+
| Ubuntu 24.04 | PASS |
+-------------------------------+----------------+
| Windows Server 2022 | PASS |
+-------------------------------+----------------+
Fedora Linux 40
Kernel: 5.15
Compiler: gcc gcc (GCC) 14.2.1 20240912 (Red Hat 14.2.1-3)
CentOS Stream 9
Kernel: 5.15
Compiler: gcc gcc (GCC) 11.5.0 20240719 (Red Hat 11.5.0-7)
Debian GNU/Linux 12
Kernel: 5.15
Compiler: gcc gcc (Debian 12.2.0-14+deb12u1) 12.2.0
Fedora Linux 41
Kernel: 5.15
Compiler: gcc gcc (GCC) 14.3.1 20250523 (Red Hat 14.3.1-1)
CentOS Stream 10
Kernel: 5.15
Compiler: gcc gcc (GCC) 14.2.1 20250110 (Red Hat 14.2.1-8)
Red Hat Enterprise Linux 9.5
Kernel: 5.15
Compiler: gcc gcc (GCC) 11.5.0 20240719 (Red Hat 11.5.0-2)
Ubuntu 20.04
Kernel: 5.15
Compiler: gcc gcc (Ubuntu 9.4.0-1ubuntu1~20.04.2) 9.4.0
Red Hat Enterprise Linux 8.10
Kernel: 5.15
Compiler: gcc gcc (GCC) 8.5.0 20210514 (Red Hat 8.5.0-22)
Ubuntu 22.04
Kernel: 5.15
Compiler: gcc gcc (Ubuntu 11.4.0-1ubuntu1~22.04) 11.4.0
Ubuntu 24.04
Kernel: 5.15
Compiler: gcc gcc (Ubuntu 13.3.0-6ubuntu2~24.04) 13.3.0
Windows Server 2022
Kernel: 10.0.20348.2031
Compiler: clang 15.0.7, gcc 14.1.0 (MinGW), and MSVC VS 19.39.33521
To view detailed results, visit:
https://lab.dpdk.org/results/dashboard/patchsets/33637/
UNH-IOL DPDK Community Lab
To manage your email subscriptions, visit:
https://lab.dpdk.org/results/dashboard/preferences/subscriptions/
^ permalink raw reply [flat|nested] 18+ messages in thread
* |SUCCESS| pw155160 [PATCH] maintainers: update for ethdev library
[not found] <20250711144326.1288907-1-thomas@monjalon.net>
` (12 preceding siblings ...)
2025-07-11 17:24 ` dpdklab
@ 2025-07-11 17:34 ` dpdklab
2025-07-11 17:51 ` dpdklab
` (3 subsequent siblings)
17 siblings, 0 replies; 18+ messages in thread
From: dpdklab @ 2025-07-11 17:34 UTC (permalink / raw)
To: Test Report; +Cc: dpdk-test-reports
Test-Label: iol-compile-amd64-testing
Test-Status: SUCCESS
http://dpdk.org/patch/155160
_Testing PASS_
Submitter: Thomas Monjalon <thomas@monjalon.net>
Date: Friday, July 11 2025 14:43:25
DPDK git baseline: Repo:dpdk
Branch: master
CommitID:9fe9c0b231c8da5435bfccb1963121b4277f961c
155160 --> testing pass
Upstream job id: Generic-DPDK-Compile-Meson#408049
Test environment and result as below:
+-------------------------------+--------------------+-------------------+------------------+-------------------------+-------------------+----------------------+
| Environment | dpdk_meson_compile | dpdk_compile_spdk | dpdk_compile_ovs | dpdk_llvm_clang_compile | dpdk_msvc_compile | dpdk_mingw64_compile |
+===============================+====================+===================+==================+=========================+===================+======================+
| CentOS Stream 9 | PASS | PASS | SKIPPED | SKIPPED | SKIPPED | SKIPPED |
+-------------------------------+--------------------+-------------------+------------------+-------------------------+-------------------+----------------------+
| CentOS Stream 10 | PASS | SKIPPED | SKIPPED | SKIPPED | SKIPPED | SKIPPED |
+-------------------------------+--------------------+-------------------+------------------+-------------------------+-------------------+----------------------+
| Debian GNU/Linux 12 | PASS | PASS | SKIPPED | SKIPPED | SKIPPED | SKIPPED |
+-------------------------------+--------------------+-------------------+------------------+-------------------------+-------------------+----------------------+
| Fedora Linux 40 | PASS | PASS | SKIPPED | SKIPPED | SKIPPED | SKIPPED |
+-------------------------------+--------------------+-------------------+------------------+-------------------------+-------------------+----------------------+
| Fedora Linux 41 | PASS | PASS | PASS | SKIPPED | SKIPPED | SKIPPED |
+-------------------------------+--------------------+-------------------+------------------+-------------------------+-------------------+----------------------+
| openSUSE Leap 15.6 | PASS | SKIPPED | SKIPPED | SKIPPED | SKIPPED | SKIPPED |
+-------------------------------+--------------------+-------------------+------------------+-------------------------+-------------------+----------------------+
| Ubuntu 22.04 | PASS | PASS | SKIPPED | SKIPPED | SKIPPED | SKIPPED |
+-------------------------------+--------------------+-------------------+------------------+-------------------------+-------------------+----------------------+
| Ubuntu 24.04 | PASS | PASS | PASS | SKIPPED | SKIPPED | SKIPPED |
+-------------------------------+--------------------+-------------------+------------------+-------------------------+-------------------+----------------------+
| Red Hat Enterprise Linux 9.5 | PASS | SKIPPED | SKIPPED | SKIPPED | SKIPPED | SKIPPED |
+-------------------------------+--------------------+-------------------+------------------+-------------------------+-------------------+----------------------+
| Ubuntu 20.04 | PASS | SKIPPED | SKIPPED | SKIPPED | SKIPPED | SKIPPED |
+-------------------------------+--------------------+-------------------+------------------+-------------------------+-------------------+----------------------+
| Alpine Linux 3.22.0 | PASS | SKIPPED | SKIPPED | SKIPPED | SKIPPED | SKIPPED |
+-------------------------------+--------------------+-------------------+------------------+-------------------------+-------------------+----------------------+
| FreeBSD 14.2 | PASS | SKIPPED | SKIPPED | SKIPPED | SKIPPED | SKIPPED |
+-------------------------------+--------------------+-------------------+------------------+-------------------------+-------------------+----------------------+
| Red Hat Enterprise Linux 8.10 | PASS | SKIPPED | SKIPPED | SKIPPED | SKIPPED | SKIPPED |
+-------------------------------+--------------------+-------------------+------------------+-------------------------+-------------------+----------------------+
| Windows Server 2022 | SKIPPED | SKIPPED | SKIPPED | PASS | PASS | PASS |
+-------------------------------+--------------------+-------------------+------------------+-------------------------+-------------------+----------------------+
CentOS Stream 9
Kernel: 5.15
Compiler: gcc gcc (GCC) 11.5.0 20240719 (Red Hat 11.5.0-7)
CentOS Stream 10
Kernel: 5.15
Compiler: gcc gcc (GCC) 14.2.1 20250110 (Red Hat 14.2.1-8)
Debian GNU/Linux 12
Kernel: 5.15
Compiler: gcc gcc (Debian 12.2.0-14+deb12u1) 12.2.0
Fedora Linux 40
Kernel: 5.15
Compiler: gcc gcc (GCC) 14.2.1 20240912 (Red Hat 14.2.1-3)
Fedora Linux 41
Kernel: 5.15
Compiler: clang gcc (GCC) 14.3.1 20250523 (Red Hat 14.3.1-1)
openSUSE Leap 15.6
Kernel: 5.15
Compiler: gcc gcc (SUSE Linux) 7.5.0
Ubuntu 22.04
Kernel: 5.15
Compiler: gcc gcc (Ubuntu 11.4.0-1ubuntu1~22.04) 11.4.0
Ubuntu 24.04
Kernel: 5.15
Compiler: gcc gcc (Ubuntu 13.3.0-6ubuntu2~24.04) 13.3.0
Red Hat Enterprise Linux 9.5
Kernel: 5.15
Compiler: gcc gcc (GCC) 11.5.0 20240719 (Red Hat 11.5.0-2)
Ubuntu 20.04
Kernel: 5.15
Compiler: gcc gcc (Ubuntu 9.4.0-1ubuntu1~20.04.2) 9.4.0
Alpine Linux 3.22.0
Kernel: 5.15
Compiler: gcc gcc (Alpine 14.2.0) 14.2.0
FreeBSD 14.2
Kernel: 14.2-RELEASE
Compiler: clang 18.1.6
Red Hat Enterprise Linux 8.10
Kernel: 5.15
Compiler: gcc gcc (GCC) 8.5.0 20210514 (Red Hat 8.5.0-22)
Windows Server 2022
Kernel: 10.0.20348.2031
Compiler: clang 15.0.7, gcc 14.1.0 (MinGW), and MSVC VS 19.39.33521
To view detailed results, visit:
https://lab.dpdk.org/results/dashboard/patchsets/33637/
UNH-IOL DPDK Community Lab
To manage your email subscriptions, visit:
https://lab.dpdk.org/results/dashboard/preferences/subscriptions/
^ permalink raw reply [flat|nested] 18+ messages in thread
* |SUCCESS| pw155160 [PATCH] maintainers: update for ethdev library
[not found] <20250711144326.1288907-1-thomas@monjalon.net>
` (13 preceding siblings ...)
2025-07-11 17:34 ` dpdklab
@ 2025-07-11 17:51 ` dpdklab
2025-07-11 18:25 ` dpdklab
` (2 subsequent siblings)
17 siblings, 0 replies; 18+ messages in thread
From: dpdklab @ 2025-07-11 17:51 UTC (permalink / raw)
To: Test Report; +Cc: dpdk-test-reports
Test-Label: iol-sample-apps-testing
Test-Status: SUCCESS
http://dpdk.org/patch/155160
_Testing PASS_
Submitter: Thomas Monjalon <thomas@monjalon.net>
Date: Friday, July 11 2025 14:43:25
DPDK git baseline: Repo:dpdk
Branch: master
CommitID:9fe9c0b231c8da5435bfccb1963121b4277f961c
155160 --> testing pass
Upstream job id: ACVP-FIPS-testing#10481
Test environment and result as below:
+--------------+----------------------+
| Environment | dpdk_fips_validation |
+==============+======================+
| Ubuntu 20.04 | PASS |
+--------------+----------------------+
Ubuntu 20.04
Kernel: 5.15
Compiler: gcc gcc (Ubuntu 9.4.0-1ubuntu1~20.04.2) 9.4.0
To view detailed results, visit:
https://lab.dpdk.org/results/dashboard/patchsets/33637/
UNH-IOL DPDK Community Lab
To manage your email subscriptions, visit:
https://lab.dpdk.org/results/dashboard/preferences/subscriptions/
^ permalink raw reply [flat|nested] 18+ messages in thread
* |SUCCESS| pw155160 [PATCH] maintainers: update for ethdev library
[not found] <20250711144326.1288907-1-thomas@monjalon.net>
` (14 preceding siblings ...)
2025-07-11 17:51 ` dpdklab
@ 2025-07-11 18:25 ` dpdklab
2025-07-11 19:45 ` dpdklab
2025-07-11 19:47 ` dpdklab
17 siblings, 0 replies; 18+ messages in thread
From: dpdklab @ 2025-07-11 18:25 UTC (permalink / raw)
To: Test Report; +Cc: dpdk-test-reports
Test-Label: iol-unit-arm64-testing
Test-Status: SUCCESS
http://dpdk.org/patch/155160
_Testing PASS_
Submitter: Thomas Monjalon <thomas@monjalon.net>
Date: Friday, July 11 2025 14:43:25
DPDK git baseline: Repo:dpdk
Branch: master
CommitID:9fe9c0b231c8da5435bfccb1963121b4277f961c
155160 --> testing pass
Upstream job id: Generic-Unit-Test-DPDK#354849
Test environment and result as below:
+------------------------------+----------------+--------------+---------------------------+------------------------------+
| Environment | dpdk_unit_test | lpm_autotest | cryptodev_sw_zuc_autotest | cryptodev_sw_snow3g_autotest |
+==============================+================+==============+===========================+==============================+
| CentOS Stream 9 | PASS | SKIPPED | SKIPPED | SKIPPED |
+------------------------------+----------------+--------------+---------------------------+------------------------------+
| Debian GNU/Linux 12 | PASS | SKIPPED | SKIPPED | SKIPPED |
+------------------------------+----------------+--------------+---------------------------+------------------------------+
| CentOS Stream 10 | PASS | SKIPPED | SKIPPED | SKIPPED |
+------------------------------+----------------+--------------+---------------------------+------------------------------+
| Fedora Linux 40 | PASS | SKIPPED | SKIPPED | SKIPPED |
+------------------------------+----------------+--------------+---------------------------+------------------------------+
| Red Hat Enterprise Linux 9.5 | PASS | SKIPPED | SKIPPED | SKIPPED |
+------------------------------+----------------+--------------+---------------------------+------------------------------+
| Fedora Linux 41 | PASS | SKIPPED | SKIPPED | SKIPPED |
+------------------------------+----------------+--------------+---------------------------+------------------------------+
| Ubuntu 20.04 | PASS | PASS | SKIPPED | SKIPPED |
+------------------------------+----------------+--------------+---------------------------+------------------------------+
| Ubuntu 22.04 | PASS | SKIPPED | SKIPPED | SKIPPED |
+------------------------------+----------------+--------------+---------------------------+------------------------------+
| Ubuntu 24.04 | PASS | SKIPPED | SKIPPED | SKIPPED |
+------------------------------+----------------+--------------+---------------------------+------------------------------+
| Debian 12 (arm) | SKIPPED | SKIPPED | PASS | PASS |
+------------------------------+----------------+--------------+---------------------------+------------------------------+
CentOS Stream 9
Kernel: 5.4
Compiler: gcc gcc (GCC) 11.5.0 20240719 (Red Hat 11.5.0-7)
Debian GNU/Linux 12
Kernel: 5.4
Compiler: gcc gcc (Debian 12.2.0-14+deb12u1) 12.2.0
CentOS Stream 10
Kernel: 5.4
Compiler: gcc gcc (GCC) 14.2.1 20250110 (Red Hat 14.2.1-8)
Fedora Linux 40
Kernel: 5.4
Compiler: clang gcc (GCC) 14.2.1 20240912 (Red Hat 14.2.1-3)
Red Hat Enterprise Linux 9.5
Kernel: 5.4
Compiler: gcc gcc (GCC) 11.5.0 20240719 (Red Hat 11.5.0-2)
Fedora Linux 41
Kernel: 5.4
Compiler: clang gcc (GCC) 14.3.1 20250523 (Red Hat 14.3.1-1)
Ubuntu 20.04
Kernel: 5.4
Compiler: gcc gcc (Ubuntu 9.4.0-1ubuntu1~20.04.2) 9.4.0
Ubuntu 22.04
Kernel: 5.4
Compiler: gcc gcc (Ubuntu 11.4.0-1ubuntu1~22.04) 11.4.0
Ubuntu 24.04
Kernel: 5.4
Compiler: gcc gcc (Ubuntu 13.3.0-6ubuntu2~24.04) 13.3.0
Debian 12 (arm)
Kernel: Depends on container host
Compiler: gcc (Debian 12.2.0-14) 12.2.0
To view detailed results, visit:
https://lab.dpdk.org/results/dashboard/patchsets/33637/
UNH-IOL DPDK Community Lab
To manage your email subscriptions, visit:
https://lab.dpdk.org/results/dashboard/preferences/subscriptions/
^ permalink raw reply [flat|nested] 18+ messages in thread
* |SUCCESS| pw155160 [PATCH] maintainers: update for ethdev library
[not found] <20250711144326.1288907-1-thomas@monjalon.net>
` (15 preceding siblings ...)
2025-07-11 18:25 ` dpdklab
@ 2025-07-11 19:45 ` dpdklab
2025-07-11 19:47 ` dpdklab
17 siblings, 0 replies; 18+ messages in thread
From: dpdklab @ 2025-07-11 19:45 UTC (permalink / raw)
To: Test Report; +Cc: dpdk-test-reports
Test-Label: iol-abi-testing
Test-Status: SUCCESS
http://dpdk.org/patch/155160
_Testing PASS_
Submitter: Thomas Monjalon <thomas@monjalon.net>
Date: Friday, July 11 2025 14:43:25
DPDK git baseline: Repo:dpdk
Branch: master
CommitID:9fe9c0b231c8da5435bfccb1963121b4277f961c
155160 --> testing pass
Upstream job id: Generic-DPDK-Compile-ABI#134083
Test environment and result as below:
+-------------------------------+----------+
| Environment | abi_test |
+===============================+==========+
| CentOS Stream 10 | PASS |
+-------------------------------+----------+
| Fedora Linux 40 | PASS |
+-------------------------------+----------+
| CentOS Stream 9 | PASS |
+-------------------------------+----------+
| Fedora Linux 41 | PASS |
+-------------------------------+----------+
| Ubuntu 24.04 | PASS |
+-------------------------------+----------+
| Ubuntu 22.04 | PASS |
+-------------------------------+----------+
| Red Hat Enterprise Linux 9.5 | PASS |
+-------------------------------+----------+
| Red Hat Enterprise Linux 8.10 | PASS |
+-------------------------------+----------+
| openSUSE Leap 15.6 | PASS |
+-------------------------------+----------+
CentOS Stream 10
Kernel: 5.15
Compiler: gcc gcc (GCC) 14.2.1 20250110 (Red Hat 14.2.1-8)
Fedora Linux 40
Kernel: 5.15
Compiler: gcc gcc (GCC) 14.2.1 20240912 (Red Hat 14.2.1-3)
CentOS Stream 9
Kernel: 5.15
Compiler: gcc gcc (GCC) 11.5.0 20240719 (Red Hat 11.5.0-7)
Fedora Linux 41
Kernel: 5.15
Compiler: clang gcc (GCC) 14.3.1 20250523 (Red Hat 14.3.1-1)
Ubuntu 24.04
Kernel: 5.15
Compiler: gcc gcc (Ubuntu 13.3.0-6ubuntu2~24.04) 13.3.0
Ubuntu 22.04
Kernel: 5.15
Compiler: gcc gcc (Ubuntu 11.4.0-1ubuntu1~22.04) 11.4.0
Red Hat Enterprise Linux 9.5
Kernel: 5.15
Compiler: gcc gcc (GCC) 11.5.0 20240719 (Red Hat 11.5.0-2)
Red Hat Enterprise Linux 8.10
Kernel: 5.15
Compiler: gcc gcc (GCC) 8.5.0 20210514 (Red Hat 8.5.0-22)
openSUSE Leap 15.6
Kernel: 5.15
Compiler: gcc gcc (SUSE Linux) 7.5.0
To view detailed results, visit:
https://lab.dpdk.org/results/dashboard/patchsets/33637/
UNH-IOL DPDK Community Lab
To manage your email subscriptions, visit:
https://lab.dpdk.org/results/dashboard/preferences/subscriptions/
^ permalink raw reply [flat|nested] 18+ messages in thread
* |SUCCESS| pw155160 [PATCH] maintainers: update for ethdev library
[not found] <20250711144326.1288907-1-thomas@monjalon.net>
` (16 preceding siblings ...)
2025-07-11 19:45 ` dpdklab
@ 2025-07-11 19:47 ` dpdklab
17 siblings, 0 replies; 18+ messages in thread
From: dpdklab @ 2025-07-11 19:47 UTC (permalink / raw)
To: Test Report; +Cc: dpdk-test-reports
Test-Label: iol-compile-arm64-testing
Test-Status: SUCCESS
http://dpdk.org/patch/155160
_Testing PASS_
Submitter: Thomas Monjalon <thomas@monjalon.net>
Date: Friday, July 11 2025 14:43:25
DPDK git baseline: Repo:dpdk
Branch: master
CommitID:9fe9c0b231c8da5435bfccb1963121b4277f961c
155160 --> testing pass
Upstream job id: Generic-DPDK-Compile-Meson#408057
Test environment and result as below:
+------------------------------+--------------------+
| Environment | dpdk_meson_compile |
+==============================+====================+
| Red Hat Enterprise Linux 9.5 | PASS |
+------------------------------+--------------------+
| Ubuntu 20.04 | PASS |
+------------------------------+--------------------+
| Debian GNU/Linux 12 | PASS |
+------------------------------+--------------------+
| Fedora Linux 40 | PASS |
+------------------------------+--------------------+
| Ubuntu 22.04 | PASS |
+------------------------------+--------------------+
| Fedora Linux 41 | PASS |
+------------------------------+--------------------+
| CentOS Stream 9 | PASS |
+------------------------------+--------------------+
| CentOS Stream 10 | PASS |
+------------------------------+--------------------+
| Ubuntu 24.04 | PASS |
+------------------------------+--------------------+
Red Hat Enterprise Linux 9.5
Kernel: 5.4
Compiler: gcc gcc (GCC) 11.5.0 20240719 (Red Hat 11.5.0-2)
Ubuntu 20.04
Kernel: 5.15
Compiler: aarch64-linux-gnu-gcc gcc (Ubuntu 9.4.0-1ubuntu1~20.04.2) 9.4.0
Debian GNU/Linux 12
Kernel: 5.4
Compiler: gcc gcc (Debian 12.2.0-14+deb12u1) 12.2.0
Fedora Linux 40
Kernel: 5.4
Compiler: gcc gcc (GCC) 14.2.1 20240912 (Red Hat 14.2.1-3)
Ubuntu 22.04
Kernel: 5.4
Compiler: gcc gcc (Ubuntu 11.4.0-1ubuntu1~22.04) 11.4.0
Fedora Linux 41
Kernel: 5.4
Compiler: clang gcc (GCC) 14.3.1 20250523 (Red Hat 14.3.1-1)
CentOS Stream 9
Kernel: 5.4
Compiler: gcc gcc (GCC) 11.5.0 20240719 (Red Hat 11.5.0-7)
CentOS Stream 10
Kernel: 5.4
Compiler: gcc gcc (GCC) 14.2.1 20250110 (Red Hat 14.2.1-8)
Ubuntu 24.04
Kernel: 5.4
Compiler: gcc gcc (Ubuntu 13.3.0-6ubuntu2~24.04) 13.3.0
To view detailed results, visit:
https://lab.dpdk.org/results/dashboard/patchsets/33637/
UNH-IOL DPDK Community Lab
To manage your email subscriptions, visit:
https://lab.dpdk.org/results/dashboard/preferences/subscriptions/
^ permalink raw reply [flat|nested] 18+ messages in thread