From mboxrd@z Thu Jan 1 00:00:00 1970 Return-Path: Received: from mails.dpdk.org (mails.dpdk.org [217.70.189.124]) by inbox.dpdk.org (Postfix) with ESMTP id E53C346B48 for ; Fri, 11 Jul 2025 18:17:48 +0200 (CEST) Received: from mails.dpdk.org (localhost [127.0.0.1]) by mails.dpdk.org (Postfix) with ESMTP id C1C304021E; Fri, 11 Jul 2025 18:17:48 +0200 (CEST) Received: from mail-oa1-f97.google.com (mail-oa1-f97.google.com [209.85.160.97]) by mails.dpdk.org (Postfix) with ESMTP id EA3C54021E for ; Fri, 11 Jul 2025 18:17:47 +0200 (CEST) Received: by mail-oa1-f97.google.com with SMTP id 586e51a60fabf-2ef891cd058so1621436fac.1 for ; Fri, 11 Jul 2025 09:17:47 -0700 (PDT) DKIM-Signature: v=1; a=rsa-sha256; c=relaxed/relaxed; d=iol.unh.edu; s=unh-iol; t=1752250667; x=1752855467; darn=dpdk.org; h=references:in-reply-to:cc:to:from:subject:message-id:date:from:to :cc:subject:date:message-id:reply-to; bh=zpshYk3SWNoKq9hNdkNGNAy6I4YDeSSQflfYFFu8XmY=; b=gSDeFkSZsSxAql2qJq/RYRV6T02VytKXvXeeiMVQB/RYO2Vqp2yzAH59wgaevXewUR yglieYg0PufRVh8YBAw8iaGY7T5EAcfAjvrEo/MbAQiWblEYTA9tjLTXq9uHioqJmVVo ecS/4wNH+RDCDNG3yUnY6UJJjElslDEvNhYyQ= X-Google-DKIM-Signature: v=1; a=rsa-sha256; c=relaxed/relaxed; d=1e100.net; s=20230601; t=1752250667; x=1752855467; h=references:in-reply-to:cc:to:from:subject:message-id:date :x-gm-message-state:from:to:cc:subject:date:message-id:reply-to; bh=zpshYk3SWNoKq9hNdkNGNAy6I4YDeSSQflfYFFu8XmY=; b=Mh1NK5BV1t+vWNOXU0ZC5SbBLeeHEoLDlMCOxu+ahy8+fclD65lf9tPZ7M84GE5Evk cn01nsTfgJ4dd6xlmoTrKF4alpe46OlPPOrXvfXvBTIKtJ/CBCzqRmYa545THIySMGYe CB6ZCfIyQSAoBMQOr9+L5loCfFwUEdYaP9c5VP96L5YuGqSFQ8ZhADprSvkxAF+N0BHj DjUxCwpJcVSKnu3qWJKgkISI0FtGnWV0gFpoVRZiNbAefVSKAcjfWcbWUZNxYUMBsA1W 9F7zMLBpi58SC1lRTOA2zSHfGjEwoYxGDPXKw0AKa4EOwfevXcY7cFBpWs28aXtfGLAd NvxQ== X-Gm-Message-State: AOJu0YzrToQkYzgRtmNVe/s2lJABQc5//5+Ok3SVYQv3keY4AufV+gWG qjHJWIS9G/R40kvxJ057HKWdPDyWwUsORzVP1mX1fDHFlQ7Qs1tAtERHoEVe7Rn1gfemXknRRKN n6VpmxHEcepi36IW1PvgEZN5XhdmYx1K2wgwS+LOH29Vh X-Gm-Gg: ASbGncvuy/GS+99chtp6YO9qwphP98t6L/K4LCkYvbgTULBLfKdj5461LbxsvbuuMtI 9LlFTtTBwDvbPPm2AiHiZvMZmXE7SZWNTN+Jk1XD+WjGlq4qCjIN6JG5DD6GGU89OcGGh5XIMDj FaqEpHWtA3G+WvLrLwgAuQ1T4D3NQImedcSvKJ/Iq8ZfPUY3cwKzu2FWSWsisu3OUU4SyBW+5rQ wsuDBixqIDQ8u9Z0REtm9/52emY3IOLsj0BvxoBYbPoyjnaR9wNGo01AmHrGx4pDqqDrslU8hxj XVYwvjRb64M+hKJaBnMz7re+pW5zHzeSHL5DNnH4lGQBNesY7FdusNec1UdTp9EJmpZCcnrK X-Google-Smtp-Source: AGHT+IGdOLnxkhWW2bZ5XOphmq2cg0dqX/Ef/TWz70HfVmbfdqOoaFVPXE2t8qmPeIttiYSeEjUpZbk6QLOa X-Received: by 2002:a05:6870:bb16:b0:2c1:6948:d57c with SMTP id 586e51a60fabf-2ff270740a5mr3006972fac.28.1752250667159; Fri, 11 Jul 2025 09:17:47 -0700 (PDT) Received: from postal.iol.unh.edu (postal.iol.unh.edu. [132.177.123.84]) by smtp-relay.gmail.com with ESMTPS id 586e51a60fabf-2ff1172860csm269221fac.31.2025.07.11.09.17.47 (version=TLS1_2 cipher=ECDHE-ECDSA-AES128-GCM-SHA256 bits=128/128); Fri, 11 Jul 2025 09:17:47 -0700 (PDT) X-Relaying-Domain: iol.unh.edu Date: Fri, 11 Jul 2025 09:17:47 -0700 (PDT) Message-ID: <6871392b.050a0220.35fd09.e1f1SMTPIN_ADDED_MISSING@mx.google.com> Received: from [172.21.0.6] (unknown [172.18.0.240]) by postal.iol.unh.edu (Postfix) with ESMTP id 8D1F8604D420; Fri, 11 Jul 2025 12:17:46 -0400 (EDT) Subject: |SUCCESS| pw155109 [PATCH] [v2] test_bbdev: enable to be compiled on From: dpdklab@iol.unh.edu To: Test Report Cc: dpdk-test-reports@iol.unh.edu In-Reply-To: <1752074012-14869-1-git-send-email-andremue@linux.microsoft.com> References: <1752074012-14869-1-git-send-email-andremue@linux.microsoft.com> Content-Type: text/plain X-BeenThere: test-report@dpdk.org X-Mailman-Version: 2.1.29 Precedence: list List-Id: automatic DPDK test reports List-Unsubscribe: , List-Archive: List-Post: List-Help: List-Subscribe: , Errors-To: test-report-bounces@dpdk.org Test-Label: iol-unit-arm64-testing Test-Status: SUCCESS http://dpdk.org/patch/155109 _Testing PASS_ Submitter: Andre Muezerie Date: Wednesday, July 09 2025 15:13:32 DPDK git baseline: Repo:dpdk Branch: master CommitID:9fe9c0b231c8da5435bfccb1963121b4277f961c 155109 --> testing pass Upstream job id: Generic-Unit-Test-DPDK#354825 Test environment and result as below: +------------------------------+--------------+---------------------------+------------------------------+----------------+ | Environment | lpm_autotest | cryptodev_sw_zuc_autotest | cryptodev_sw_snow3g_autotest | dpdk_unit_test | +==============================+==============+===========================+==============================+================+ | Ubuntu 20.04 | PASS | SKIPPED | SKIPPED | PASS | +------------------------------+--------------+---------------------------+------------------------------+----------------+ | Debian 12 (arm) | SKIPPED | PASS | PASS | SKIPPED | +------------------------------+--------------+---------------------------+------------------------------+----------------+ | Fedora Linux 40 | SKIPPED | SKIPPED | SKIPPED | PASS | +------------------------------+--------------+---------------------------+------------------------------+----------------+ | Red Hat Enterprise Linux 9.5 | SKIPPED | SKIPPED | SKIPPED | PASS | +------------------------------+--------------+---------------------------+------------------------------+----------------+ | Debian GNU/Linux 12 | SKIPPED | SKIPPED | SKIPPED | PASS | +------------------------------+--------------+---------------------------+------------------------------+----------------+ | CentOS Stream 9 | SKIPPED | SKIPPED | SKIPPED | PASS | +------------------------------+--------------+---------------------------+------------------------------+----------------+ | Ubuntu 22.04 | SKIPPED | SKIPPED | SKIPPED | PASS | +------------------------------+--------------+---------------------------+------------------------------+----------------+ | Fedora Linux 41 | SKIPPED | SKIPPED | SKIPPED | PASS | +------------------------------+--------------+---------------------------+------------------------------+----------------+ | Ubuntu 24.04 | SKIPPED | SKIPPED | SKIPPED | PASS | +------------------------------+--------------+---------------------------+------------------------------+----------------+ | CentOS Stream 10 | SKIPPED | SKIPPED | SKIPPED | PASS | +------------------------------+--------------+---------------------------+------------------------------+----------------+ Ubuntu 20.04 Kernel: 5.4 Compiler: gcc gcc (Ubuntu 9.4.0-1ubuntu1~20.04.2) 9.4.0 Debian 12 (arm) Kernel: Depends on container host Compiler: gcc (Debian 12.2.0-14) 12.2.0 Fedora Linux 40 Kernel: 5.4 Compiler: clang gcc (GCC) 14.2.1 20240912 (Red Hat 14.2.1-3) Red Hat Enterprise Linux 9.5 Kernel: 5.4 Compiler: gcc gcc (GCC) 11.5.0 20240719 (Red Hat 11.5.0-2) Debian GNU/Linux 12 Kernel: 5.4 Compiler: gcc gcc (Debian 12.2.0-14+deb12u1) 12.2.0 CentOS Stream 9 Kernel: 5.4 Compiler: gcc gcc (GCC) 11.5.0 20240719 (Red Hat 11.5.0-7) Ubuntu 22.04 Kernel: 5.4 Compiler: gcc gcc (Ubuntu 11.4.0-1ubuntu1~22.04) 11.4.0 Fedora Linux 41 Kernel: 5.4 Compiler: gcc gcc (GCC) 14.3.1 20250523 (Red Hat 14.3.1-1) Ubuntu 24.04 Kernel: 5.4 Compiler: gcc gcc (Ubuntu 13.3.0-6ubuntu2~24.04) 13.3.0 CentOS Stream 10 Kernel: 5.4 Compiler: gcc gcc (GCC) 14.2.1 20250110 (Red Hat 14.2.1-8) To view detailed results, visit: https://lab.dpdk.org/results/dashboard/patchsets/33628/ UNH-IOL DPDK Community Lab To manage your email subscriptions, visit: https://lab.dpdk.org/results/dashboard/preferences/subscriptions/