From mboxrd@z Thu Jan 1 00:00:00 1970 Return-Path: Received: from mails.dpdk.org (mails.dpdk.org [217.70.189.124]) by inbox.dpdk.org (Postfix) with ESMTP id B683146B48 for ; Fri, 11 Jul 2025 18:50:08 +0200 (CEST) Received: from mails.dpdk.org (localhost [127.0.0.1]) by mails.dpdk.org (Postfix) with ESMTP id 907054013F; Fri, 11 Jul 2025 18:50:08 +0200 (CEST) Received: from mail-pg1-f228.google.com (mail-pg1-f228.google.com [209.85.215.228]) by mails.dpdk.org (Postfix) with ESMTP id F2C824013F for ; Fri, 11 Jul 2025 18:50:07 +0200 (CEST) Received: by mail-pg1-f228.google.com with SMTP id 41be03b00d2f7-b390136ed88so1859260a12.2 for ; Fri, 11 Jul 2025 09:50:07 -0700 (PDT) DKIM-Signature: v=1; a=rsa-sha256; c=relaxed/relaxed; d=iol.unh.edu; s=unh-iol; t=1752252607; x=1752857407; darn=dpdk.org; h=references:in-reply-to:cc:to:from:subject:message-id:date:from:to :cc:subject:date:message-id:reply-to; bh=WOCZ+cCiIXYD0NqHR81aCOKulrEj7y1mWOh79XyjdtQ=; b=BZcAbdRKl6rTWkoXQelw9dxaeJAgGhPc343JlEASZJUoQJW/k+G/CIl6ORDzjrqw0W Snfft95Kio7yFJLaDkh02T+mfn+Y/jB36W6ZTpDlK6Fs3joQH+y5okOCdq+04CnCBgRz O3RtaXk4+PSC+1glIuTKz6w8SL5d7UUUGuHuU= X-Google-DKIM-Signature: v=1; a=rsa-sha256; c=relaxed/relaxed; d=1e100.net; s=20230601; t=1752252607; x=1752857407; h=references:in-reply-to:cc:to:from:subject:message-id:date :x-gm-message-state:from:to:cc:subject:date:message-id:reply-to; bh=WOCZ+cCiIXYD0NqHR81aCOKulrEj7y1mWOh79XyjdtQ=; b=jkZJPGRh4esHkWQL7vwwfnpbSem6w7sOA62hJvjqv2AbxPZw7mz3MZd0E/Q6Tn17az OD9QykdRSJJa8tw/7VsB/wvuu5A7udNA5ovhgZxQW2DHw9qplbKPoGDfWQDZK8l7KpW1 yYYGCNeLhNV4q3zbPKZQ6KEd2XvOWnMYDLV0nt3NaRTcu+y4lah7+aHmfS3j5EBgjKxF JuDC4InLrvifyEL8/9xh3x7fgoWdHrsgOJ3p5GS/zDPbLijpSI/zzXGqYDdrYGB2CRb5 OxXkNQdiyiqIKW6AbrpLrt350KpVcwwfxr//XJLs0zbJDOvHMfqJky/ZQpY3FekoWsft PUiA== X-Gm-Message-State: AOJu0YzGlnSCFxVREyH1aLIlEeRCEgYaLgp8Q0NCIjMI78T0yMdgtgTR gZ99W3Nqzvlm0dmI7e1MHiAmhQ4SV8hgFX5jjqQ6GN5nxARjj7ot4BYzn/RXqUTLmCPq/waWA53 R3mLZyblV8IX9YxAlxeVtz7QuD3bWi7Ssanv4JVV26m9JgRRUyRTs1g/GJ/zw X-Gm-Gg: ASbGncu5magQVCqkz/uEQPXe4T1IT6wNLsUfx4OkwpcFv8bdX39+VaMxwvhnlB1nsGf a/7z2R+ecdxuzOtV5UAhKhekoM5XWeyPuatZF4Nnqyr0Vk0+BAhmiHv7UI4/Hgo9wIQfqev7bDK THD4n9lfIrmxIuQtF9d+OYhVCIMl2lieYlJfA+PmiGYzl0ev3wExh5DLO+9YKn02SWOs5ftb3N0 jn+Y2ciVERsEYWKF2nXtewguQFWx9Xvb3AbBPR043/KADuaJgQD07c+U/MevNgW+EDUn6snaWxk 6HRT0CNbQWmHUGY3vqihVgLiqF2u9KSqtsB+w6ttDmxF0n+FGA== X-Google-Smtp-Source: AGHT+IGqqzeupY2A4ujv6Htcl1lc9Ya/Azc5XZ10077evUYm1t1WhLrprSRPS6dY1OaZEEVBmS/XEo+tRXZ2 X-Received: by 2002:a17:90b:17d1:b0:311:b5ac:6f6b with SMTP id 98e67ed59e1d1-31c4ccbbec2mr6136449a91.9.1752252606962; Fri, 11 Jul 2025 09:50:06 -0700 (PDT) Received: from postal.iol.unh.edu (postal.iol.unh.edu. [2606:4100:3880:1234::84]) by smtp-relay.gmail.com with ESMTPS id 98e67ed59e1d1-31c3eb690e0sm197338a91.14.2025.07.11.09.50.06 (version=TLS1_2 cipher=ECDHE-ECDSA-AES128-GCM-SHA256 bits=128/128); Fri, 11 Jul 2025 09:50:06 -0700 (PDT) X-Relaying-Domain: iol.unh.edu Date: Fri, 11 Jul 2025 09:50:06 -0700 (PDT) Message-ID: <687140be.170a0220.c8a41.a66cSMTPIN_ADDED_MISSING@mx.google.com> Received: from [172.21.0.5] (unknown [172.18.0.240]) by postal.iol.unh.edu (Postfix) with ESMTP id 2D4436051830; Fri, 11 Jul 2025 12:50:06 -0400 (EDT) Subject: |SUCCESS| pw155109 [PATCH] [v2] test_bbdev: enable to be compiled on From: dpdklab@iol.unh.edu To: Test Report Cc: dpdk-test-reports@iol.unh.edu In-Reply-To: <1752074012-14869-1-git-send-email-andremue@linux.microsoft.com> References: <1752074012-14869-1-git-send-email-andremue@linux.microsoft.com> Content-Type: text/plain X-BeenThere: test-report@dpdk.org X-Mailman-Version: 2.1.29 Precedence: list List-Id: automatic DPDK test reports List-Unsubscribe: , List-Archive: List-Post: List-Help: List-Subscribe: , Errors-To: test-report-bounces@dpdk.org Test-Label: iol-unit-amd64-testing Test-Status: SUCCESS http://dpdk.org/patch/155109 _Testing PASS_ Submitter: Andre Muezerie Date: Wednesday, July 09 2025 15:13:32 DPDK git baseline: Repo:dpdk Branch: master CommitID:9fe9c0b231c8da5435bfccb1963121b4277f961c 155109 --> testing pass Upstream job id: Generic-VM-Unit-Test-DPDK#29899 Test environment and result as below: +-------------------------------+----------------+ | Environment | dpdk_unit_test | +===============================+================+ | CentOS Stream 9 | PASS | +-------------------------------+----------------+ | Red Hat Enterprise Linux 8.10 | PASS | +-------------------------------+----------------+ | Fedora Linux 40 | PASS | +-------------------------------+----------------+ | Debian GNU/Linux 12 | PASS | +-------------------------------+----------------+ | CentOS Stream 10 | PASS | +-------------------------------+----------------+ | Fedora Linux 41 | PASS | +-------------------------------+----------------+ | Red Hat Enterprise Linux 9.5 | PASS | +-------------------------------+----------------+ | Ubuntu 20.04 | PASS | +-------------------------------+----------------+ | Ubuntu 22.04 | PASS | +-------------------------------+----------------+ | Ubuntu 24.04 | PASS | +-------------------------------+----------------+ | Windows Server 2022 | PASS | +-------------------------------+----------------+ CentOS Stream 9 Kernel: 5.15 Compiler: gcc gcc (GCC) 11.5.0 20240719 (Red Hat 11.5.0-7) Red Hat Enterprise Linux 8.10 Kernel: 5.15 Compiler: gcc gcc (GCC) 8.5.0 20210514 (Red Hat 8.5.0-22) Fedora Linux 40 Kernel: 5.15 Compiler: clang gcc (GCC) 14.2.1 20240912 (Red Hat 14.2.1-3) Debian GNU/Linux 12 Kernel: 5.15 Compiler: gcc gcc (Debian 12.2.0-14+deb12u1) 12.2.0 CentOS Stream 10 Kernel: 5.15 Compiler: gcc gcc (GCC) 14.2.1 20250110 (Red Hat 14.2.1-8) Fedora Linux 41 Kernel: 5.15 Compiler: clang gcc (GCC) 14.3.1 20250523 (Red Hat 14.3.1-1) Red Hat Enterprise Linux 9.5 Kernel: 5.15 Compiler: gcc gcc (GCC) 11.5.0 20240719 (Red Hat 11.5.0-2) Ubuntu 20.04 Kernel: 5.15 Compiler: gcc gcc (Ubuntu 9.4.0-1ubuntu1~20.04.2) 9.4.0 Ubuntu 22.04 Kernel: 5.15 Compiler: gcc gcc (Ubuntu 11.4.0-1ubuntu1~22.04) 11.4.0 Ubuntu 24.04 Kernel: 5.15 Compiler: gcc gcc (Ubuntu 13.3.0-6ubuntu2~24.04) 13.3.0 Windows Server 2022 Kernel: 10.0.20348.2031 Compiler: clang 15.0.7, gcc 14.1.0 (MinGW), and MSVC VS 19.39.33521 To view detailed results, visit: https://lab.dpdk.org/results/dashboard/patchsets/33628/ UNH-IOL DPDK Community Lab To manage your email subscriptions, visit: https://lab.dpdk.org/results/dashboard/preferences/subscriptions/