From mboxrd@z Thu Jan 1 00:00:00 1970 Return-Path: Received: from mails.dpdk.org (mails.dpdk.org [217.70.189.124]) by inbox.dpdk.org (Postfix) with ESMTP id A487846B48 for ; Fri, 11 Jul 2025 19:14:43 +0200 (CEST) Received: from mails.dpdk.org (localhost [127.0.0.1]) by mails.dpdk.org (Postfix) with ESMTP id 8BAE84013F; Fri, 11 Jul 2025 19:14:43 +0200 (CEST) Received: from mail-qv1-f98.google.com (mail-qv1-f98.google.com [209.85.219.98]) by mails.dpdk.org (Postfix) with ESMTP id 3194F4013F for ; Fri, 11 Jul 2025 19:14:42 +0200 (CEST) Received: by mail-qv1-f98.google.com with SMTP id 6a1803df08f44-6fad8b4c927so20802766d6.0 for ; Fri, 11 Jul 2025 10:14:42 -0700 (PDT) DKIM-Signature: v=1; a=rsa-sha256; c=relaxed/relaxed; d=iol.unh.edu; s=unh-iol; t=1752254081; x=1752858881; darn=dpdk.org; h=references:in-reply-to:cc:to:from:subject:message-id:date:from:to :cc:subject:date:message-id:reply-to; bh=qvhRyBluw1SmX18zDNQ6FU6JMmpjO45nK7uttVOU6wU=; b=Ie7gO/fWn8pDPP/QkBIR0lYMqvekQ91bPCalZKjfFSuckfHUqYo9teNCeAc1lc7NXM PdOa1qD2jC6N1fOhLiLNCZIA4EGBqJx8viqqMRpWR4EP1eAaDj7HfWMfhbGIXzP2afA+ 5GP1ag9Vc71gYE8i4FtCMNsBE1EDUy2Lwtms0= X-Google-DKIM-Signature: v=1; a=rsa-sha256; c=relaxed/relaxed; d=1e100.net; s=20230601; t=1752254081; x=1752858881; h=references:in-reply-to:cc:to:from:subject:message-id:date :x-gm-message-state:from:to:cc:subject:date:message-id:reply-to; bh=qvhRyBluw1SmX18zDNQ6FU6JMmpjO45nK7uttVOU6wU=; b=cS8secbNX3QDy3wjpnjv4asN271BIUvfXqBjNXj1iE7cQ2CUKiaFLH84YYvDwQH6SJ MkeNxtqO3AuvhbGzJ2xgdCygrqOhjsQmO8RdN3quQY+pIpa5BeQqht832njff/aGRrQl kvaVtIYEb8LhYcXqF0BWbyN+f8tr9PHHKUHVFYIV8htCK4zUwveNmMdWc4mCLzANPjS2 pOgTRql7+Q9z0gAkzuKhpnQD37jV/yzqyYgJE2q0DTEoKqdO1htB0VIemUuvpWjP4rUM 1l++QCeDOQkkfeT2NJeRcqoJsAuMfRe7KzQDsv+QQk+Z7RvhJQNMF0OWd+VvXRPGvchY cmhA== X-Gm-Message-State: AOJu0YzKnI0Zw66++CNnooxASVglxjewYMptMc7EA6EojszyJGCnxjIM F9ht5NDUczMYdvUgQeadOMZsBzJX20uRjNTjw5rcxQtTgzug9iS1lof3ggeH6tJJ3U+xF6X9W/3 hXtcd38Y3LvGzOry1/2Q6pHgdCk5B3KmOFcpK09PJ9JL7W9X4zTCmPIgvFlYy X-Gm-Gg: ASbGncubAmJMC3tT3gITzIYOukalXGym6udnu9XiRUavXdqbrDaUJqi87OfvF79Vc3Q EwIW7/loiDmaF1+AJv0zh7yu2u5uhDBWwfA/3dzVHhsuiFYw16+1RsHmRDfqdAS7UoE4dsLJygm 7cm3d/cKBIMYQabB8tonhC9a8wTl3lS5Ztqqd4adWAYcNjV9SiAWoIqCS2BYRkmBVQcX1bEBdHA 3pSPOscvV7ebMadcjBAzjDFYY55afB6pzqXpcY4gxFI/X8ubeantJuzAVRHn+LzLnHSpDn1yN7c dlm/oCdzTh6Q9QDd/I2/MpMm0N9VXOYVxmIqblsT0FYRLtzgwA== X-Google-Smtp-Source: AGHT+IFLOTx0OtR1phJFgBVz+MThFFqJJftzDp3M3hE0r32AlNqPrBzTbIgxk2l6cVkQQCUtfFcSLG8HQ6TR X-Received: by 2002:a05:6214:2e92:b0:704:a592:490b with SMTP id 6a1803df08f44-704a592491emr56614376d6.37.1752254081384; Fri, 11 Jul 2025 10:14:41 -0700 (PDT) Received: from postal.iol.unh.edu (postal.iol.unh.edu. [2606:4100:3880:1234::84]) by smtp-relay.gmail.com with ESMTPS id 6a1803df08f44-704979b59aesm2049036d6.24.2025.07.11.10.14.41 (version=TLS1_2 cipher=ECDHE-ECDSA-AES128-GCM-SHA256 bits=128/128); Fri, 11 Jul 2025 10:14:41 -0700 (PDT) X-Relaying-Domain: iol.unh.edu Date: Fri, 11 Jul 2025 10:14:41 -0700 (PDT) Message-ID: <68714681.050a0220.cdbd7.b5eeSMTPIN_ADDED_MISSING@mx.google.com> Received: from [172.21.0.5] (unknown [172.18.0.240]) by postal.iol.unh.edu (Postfix) with ESMTP id 21415604D420; Fri, 11 Jul 2025 13:14:41 -0400 (EDT) Subject: |SUCCESS| pw155160 [PATCH] maintainers: update for ethdev library From: dpdklab@iol.unh.edu To: Test Report Cc: dpdk-test-reports@iol.unh.edu In-Reply-To: <20250711144326.1288907-1-thomas@monjalon.net> References: <20250711144326.1288907-1-thomas@monjalon.net> Content-Type: text/plain X-BeenThere: test-report@dpdk.org X-Mailman-Version: 2.1.29 Precedence: list List-Id: automatic DPDK test reports List-Unsubscribe: , List-Archive: List-Post: List-Help: List-Subscribe: , Errors-To: test-report-bounces@dpdk.org Test-Label: iol-unit-amd64-testing Test-Status: SUCCESS http://dpdk.org/patch/155160 _Testing PASS_ Submitter: Thomas Monjalon Date: Friday, July 11 2025 14:43:25 DPDK git baseline: Repo:dpdk Branch: master CommitID:9fe9c0b231c8da5435bfccb1963121b4277f961c 155160 --> testing pass Upstream job id: Generic-VM-Unit-Test-DPDK#29900 Test environment and result as below: +-------------------------------+----------------+ | Environment | dpdk_unit_test | +===============================+================+ | Fedora Linux 40 | PASS | +-------------------------------+----------------+ | CentOS Stream 9 | PASS | +-------------------------------+----------------+ | Debian GNU/Linux 12 | PASS | +-------------------------------+----------------+ | Fedora Linux 41 | PASS | +-------------------------------+----------------+ | CentOS Stream 10 | PASS | +-------------------------------+----------------+ | Red Hat Enterprise Linux 9.5 | PASS | +-------------------------------+----------------+ | Ubuntu 20.04 | PASS | +-------------------------------+----------------+ | Red Hat Enterprise Linux 8.10 | PASS | +-------------------------------+----------------+ | Ubuntu 22.04 | PASS | +-------------------------------+----------------+ | Ubuntu 24.04 | PASS | +-------------------------------+----------------+ | Windows Server 2022 | PASS | +-------------------------------+----------------+ Fedora Linux 40 Kernel: 5.15 Compiler: gcc gcc (GCC) 14.2.1 20240912 (Red Hat 14.2.1-3) CentOS Stream 9 Kernel: 5.15 Compiler: gcc gcc (GCC) 11.5.0 20240719 (Red Hat 11.5.0-7) Debian GNU/Linux 12 Kernel: 5.15 Compiler: gcc gcc (Debian 12.2.0-14+deb12u1) 12.2.0 Fedora Linux 41 Kernel: 5.15 Compiler: gcc gcc (GCC) 14.3.1 20250523 (Red Hat 14.3.1-1) CentOS Stream 10 Kernel: 5.15 Compiler: gcc gcc (GCC) 14.2.1 20250110 (Red Hat 14.2.1-8) Red Hat Enterprise Linux 9.5 Kernel: 5.15 Compiler: gcc gcc (GCC) 11.5.0 20240719 (Red Hat 11.5.0-2) Ubuntu 20.04 Kernel: 5.15 Compiler: gcc gcc (Ubuntu 9.4.0-1ubuntu1~20.04.2) 9.4.0 Red Hat Enterprise Linux 8.10 Kernel: 5.15 Compiler: gcc gcc (GCC) 8.5.0 20210514 (Red Hat 8.5.0-22) Ubuntu 22.04 Kernel: 5.15 Compiler: gcc gcc (Ubuntu 11.4.0-1ubuntu1~22.04) 11.4.0 Ubuntu 24.04 Kernel: 5.15 Compiler: gcc gcc (Ubuntu 13.3.0-6ubuntu2~24.04) 13.3.0 Windows Server 2022 Kernel: 10.0.20348.2031 Compiler: clang 15.0.7, gcc 14.1.0 (MinGW), and MSVC VS 19.39.33521 To view detailed results, visit: https://lab.dpdk.org/results/dashboard/patchsets/33637/ UNH-IOL DPDK Community Lab To manage your email subscriptions, visit: https://lab.dpdk.org/results/dashboard/preferences/subscriptions/