From mboxrd@z Thu Jan 1 00:00:00 1970 Return-Path: Received: from mails.dpdk.org (mails.dpdk.org [217.70.189.124]) by inbox.dpdk.org (Postfix) with ESMTP id 8346246B48 for ; Fri, 11 Jul 2025 19:24:08 +0200 (CEST) Received: from mails.dpdk.org (localhost [127.0.0.1]) by mails.dpdk.org (Postfix) with ESMTP id 60E0F4013F; Fri, 11 Jul 2025 19:24:08 +0200 (CEST) Received: from mail-pl1-f227.google.com (mail-pl1-f227.google.com [209.85.214.227]) by mails.dpdk.org (Postfix) with ESMTP id C10AC4013F for ; Fri, 11 Jul 2025 19:24:06 +0200 (CEST) Received: by mail-pl1-f227.google.com with SMTP id d9443c01a7336-234bfe37cccso21682965ad.0 for ; Fri, 11 Jul 2025 10:24:06 -0700 (PDT) DKIM-Signature: v=1; a=rsa-sha256; c=relaxed/relaxed; d=iol.unh.edu; s=unh-iol; t=1752254646; x=1752859446; darn=dpdk.org; h=references:in-reply-to:cc:to:from:subject:message-id:date:from:to :cc:subject:date:message-id:reply-to; bh=NZpFFTB8kTs5KwpesO06SMjWlVOwtnHSL2sL6jJtD58=; b=Jg6RBY6k1fjidHC9lb4+h65JkKjXewVVh/ww4NTg0FFcXTDuYmS13cSN65IvhhvlhU tB9ScSAOA+f5MIT2Dm6xHl41wzgy9ghvjVabW5WGGmrpsAAA1T8Sk5nMpwKs+dMRgNtv xngvYsag95CssjSA+y8NHBk2r3W4cWUNzYP2s= X-Google-DKIM-Signature: v=1; a=rsa-sha256; c=relaxed/relaxed; d=1e100.net; s=20230601; t=1752254646; x=1752859446; h=references:in-reply-to:cc:to:from:subject:message-id:date :x-gm-message-state:from:to:cc:subject:date:message-id:reply-to; bh=NZpFFTB8kTs5KwpesO06SMjWlVOwtnHSL2sL6jJtD58=; b=X2NOjiMNY7EqpH2egGnctnpJmtFSedhvihznS+2Qylrr1rCHX9GZVPxYqTMCOOWl6r JM+yjoa86medWAHPdUgQYk50DRPnoLls9JcNk1NptIMvDudlASfaMhVgV4dN+AMKqLjD FOHa6CryCo3I2xDyvkX1ZW0hoQeo/+wV56/1S21y9A9KxbC4My/eaoErMdz9uX2uS0fC rTrGbZC/yGa5Tv9p/qZyeauH+0l79f130O+6X91O274M2wJM/SLHM5enaklugrOxEVm8 Of3Kg9YYEZEH85SCSpT+lP8VRhGi9lq4DHdpRWla7LCY59TzZUpNIfXdnUgcNNSQ2nAF XOAw== X-Gm-Message-State: AOJu0Yw/GzYG1hWF7IwGWXLVL0hiONa9ZymIwEx1Tw0ICFCbpdDtCLmd njxmGeLJ8pdgJc28ixRceVz5IRcF6MK27lSMU+rwR/lDWg1JfMOxSNRZFOIyhEPhtlO9JV27rhZ qgxrPiOOI/CA/Sdj6MEkiiHl/gJ7GyxeBkfUiYSg07gtV X-Gm-Gg: ASbGncsgjFoau0DGtL9BCy6jxtziT0MbKYhUsI3nTmatwLqzvbtsc1javmve3uYrEe4 CeybnULeG7x6dEl8bVQZSqz7MC/GpHSKX+0s8sxXgn82JevLNEI86ZqkSzWnz0XFsSi32sSBwN9 pAqLYfySgHNJHkdW8NNMpKML40Yi7mHRGQj7Xv3SlX3JletwOQuBhusFx9QsSucTi4K+jYQX/to uHRIKyVMqLy48a5lS2pToPnliVXorCCTPI3gY8cdsTjPObyIyL9lqv7n77DkAHwABjyAYnRaFm0 GlysnyKZlS9wNjmxSd8tWXL5bdcpBLBW8vyajJhke8Fko5e3FH+CVou6YOgXbJFM7MHjKgzT X-Google-Smtp-Source: AGHT+IHHdPETJQd6NWsYaOTiIkcFqrVuGCdjfqY33jr9J2ow1hYzTqKpph90zpQPWbIlaLK/8bSpOjFZRzZZ X-Received: by 2002:a17:902:e54f:b0:234:c65f:6c0c with SMTP id d9443c01a7336-23dede45f81mr52533275ad.15.1752254645681; Fri, 11 Jul 2025 10:24:05 -0700 (PDT) Received: from postal.iol.unh.edu (postal.iol.unh.edu. [132.177.123.84]) by smtp-relay.gmail.com with ESMTPS id d9443c01a7336-23de4320b64sm2039005ad.64.2025.07.11.10.24.05 (version=TLS1_2 cipher=ECDHE-ECDSA-AES128-GCM-SHA256 bits=128/128); Fri, 11 Jul 2025 10:24:05 -0700 (PDT) X-Relaying-Domain: iol.unh.edu Date: Fri, 11 Jul 2025 10:24:05 -0700 (PDT) Message-ID: <687148b5.170a0220.288161.a938SMTPIN_ADDED_MISSING@mx.google.com> Received: from [172.21.0.5] (unknown [172.18.0.240]) by postal.iol.unh.edu (Postfix) with ESMTP id 2509A604D420; Fri, 11 Jul 2025 13:24:05 -0400 (EDT) Subject: |SUCCESS| pw155160 [PATCH] maintainers: update for ethdev library From: dpdklab@iol.unh.edu To: Test Report Cc: dpdk-test-reports@iol.unh.edu In-Reply-To: <20250711144326.1288907-1-thomas@monjalon.net> References: <20250711144326.1288907-1-thomas@monjalon.net> Content-Type: text/plain X-BeenThere: test-report@dpdk.org X-Mailman-Version: 2.1.29 Precedence: list List-Id: automatic DPDK test reports List-Unsubscribe: , List-Archive: List-Post: List-Help: List-Subscribe: , Errors-To: test-report-bounces@dpdk.org Test-Label: iol-unit-amd64-testing Test-Status: SUCCESS http://dpdk.org/patch/155160 _Testing PASS_ Submitter: Thomas Monjalon Date: Friday, July 11 2025 14:43:25 DPDK git baseline: Repo:dpdk Branch: master CommitID:9fe9c0b231c8da5435bfccb1963121b4277f961c 155160 --> testing pass Upstream job id: Generic-VM-Unit-Test-DPDK#29901 Test environment and result as below: +-------------------------------+----------------+ | Environment | dpdk_unit_test | +===============================+================+ | Fedora Linux 40 | PASS | +-------------------------------+----------------+ | CentOS Stream 9 | PASS | +-------------------------------+----------------+ | Debian GNU/Linux 12 | PASS | +-------------------------------+----------------+ | Fedora Linux 41 | PASS | +-------------------------------+----------------+ | CentOS Stream 10 | PASS | +-------------------------------+----------------+ | Red Hat Enterprise Linux 9.5 | PASS | +-------------------------------+----------------+ | Ubuntu 20.04 | PASS | +-------------------------------+----------------+ | Red Hat Enterprise Linux 8.10 | PASS | +-------------------------------+----------------+ | Ubuntu 22.04 | PASS | +-------------------------------+----------------+ | Ubuntu 24.04 | PASS | +-------------------------------+----------------+ | Windows Server 2022 | PASS | +-------------------------------+----------------+ Fedora Linux 40 Kernel: 5.15 Compiler: gcc gcc (GCC) 14.2.1 20240912 (Red Hat 14.2.1-3) CentOS Stream 9 Kernel: 5.15 Compiler: gcc gcc (GCC) 11.5.0 20240719 (Red Hat 11.5.0-7) Debian GNU/Linux 12 Kernel: 5.15 Compiler: gcc gcc (Debian 12.2.0-14+deb12u1) 12.2.0 Fedora Linux 41 Kernel: 5.15 Compiler: gcc gcc (GCC) 14.3.1 20250523 (Red Hat 14.3.1-1) CentOS Stream 10 Kernel: 5.15 Compiler: gcc gcc (GCC) 14.2.1 20250110 (Red Hat 14.2.1-8) Red Hat Enterprise Linux 9.5 Kernel: 5.15 Compiler: gcc gcc (GCC) 11.5.0 20240719 (Red Hat 11.5.0-2) Ubuntu 20.04 Kernel: 5.15 Compiler: gcc gcc (Ubuntu 9.4.0-1ubuntu1~20.04.2) 9.4.0 Red Hat Enterprise Linux 8.10 Kernel: 5.15 Compiler: gcc gcc (GCC) 8.5.0 20210514 (Red Hat 8.5.0-22) Ubuntu 22.04 Kernel: 5.15 Compiler: gcc gcc (Ubuntu 11.4.0-1ubuntu1~22.04) 11.4.0 Ubuntu 24.04 Kernel: 5.15 Compiler: gcc gcc (Ubuntu 13.3.0-6ubuntu2~24.04) 13.3.0 Windows Server 2022 Kernel: 10.0.20348.2031 Compiler: clang 15.0.7, gcc 14.1.0 (MinGW), and MSVC VS 19.39.33521 To view detailed results, visit: https://lab.dpdk.org/results/dashboard/patchsets/33637/ UNH-IOL DPDK Community Lab To manage your email subscriptions, visit: https://lab.dpdk.org/results/dashboard/preferences/subscriptions/