From mboxrd@z Thu Jan 1 00:00:00 1970 Return-Path: Received: from mails.dpdk.org (mails.dpdk.org [217.70.189.124]) by inbox.dpdk.org (Postfix) with ESMTP id 35C6A46B48 for ; Fri, 11 Jul 2025 19:34:36 +0200 (CEST) Received: from mails.dpdk.org (localhost [127.0.0.1]) by mails.dpdk.org (Postfix) with ESMTP id 31C9C4013F; Fri, 11 Jul 2025 19:34:36 +0200 (CEST) Received: from mail-il1-f226.google.com (mail-il1-f226.google.com [209.85.166.226]) by mails.dpdk.org (Postfix) with ESMTP id A7ED14013F for ; Fri, 11 Jul 2025 19:34:35 +0200 (CEST) Received: by mail-il1-f226.google.com with SMTP id e9e14a558f8ab-3de2b02c69eso13901005ab.1 for ; Fri, 11 Jul 2025 10:34:35 -0700 (PDT) DKIM-Signature: v=1; a=rsa-sha256; c=relaxed/relaxed; d=iol.unh.edu; s=unh-iol; t=1752255275; x=1752860075; darn=dpdk.org; h=references:in-reply-to:cc:to:from:subject:message-id:date:from:to :cc:subject:date:message-id:reply-to; bh=xgpMYPy6xAXLK2q65Wtu+s/vFPqRdysvt7EOcctjYu0=; b=BB7MeusV9+a0d8hcQY5JH1dFTXw2AyIjW6JwFxrU7HTzlBKpohHRDnpAu8zFSN/3bg FZvlGQ+vEAn4u/qNtCo4LzaERp4rkoRA2GZzZ1qBEMjyVh8JqaeS4Sa68lmd+p1tQ5jO 5bEfyTxArK7enGU6uuwOz6TX0vmZzClEjTkBs= X-Google-DKIM-Signature: v=1; a=rsa-sha256; c=relaxed/relaxed; d=1e100.net; s=20230601; t=1752255275; x=1752860075; h=references:in-reply-to:cc:to:from:subject:message-id:date :x-gm-message-state:from:to:cc:subject:date:message-id:reply-to; bh=xgpMYPy6xAXLK2q65Wtu+s/vFPqRdysvt7EOcctjYu0=; b=JJ6OQoeQKLVsDV7QEm8uxN/WCVFkHRy1npvth4zycVQ7fk3ZkE7tZ2tHR8ux7W/gul cZyzh2ZPII/cYL3x4TKFIRS0Ixuq7RhG0ntezao47STBIdB7FEie0VdMpGBFsP1faV1q jZ4rf9shPtwQlmyMjQ7WCga1l3ioy4fQopCsheQWj4Di6FKNpXqbC+RxGyyoYCrLGuUm UgYrqcXH/+JLKJmni7cx0KmbxExAN5Z1UytF8hrejbN18RrOoYO6iadAqIZrNedinckR B5RkX2bEr1X5jEB1zzH96HzfvVobbJa1cBDdW78pJCr8TKoibIXcvgtSpMY3tatPXJyT hv2A== X-Gm-Message-State: AOJu0YwK0snsehYQYJ49oiLy0abKde8ckxn3ryS/fB/ebTXuxBg68VzC ufwabTIusG1YgWjxmIXYqGWDnjSijJnR82Riwr/LGfBQg5+ayfzeaYm1K9HtYT/73OkBa9MUcg6 kqnNyIuiVeutud3uAJry+Nxet3thTnbB0zG09IXSMXDKL X-Gm-Gg: ASbGnct5dIE6sKV/8YZwNuuSo/RFr5DXbHBOEhzqvXjNMmgIQBWbOxfDoIVQup9I9A3 J9F0BITqU9k0sl5tv+6injQYN3vg0JlGC+EAOJgqc/KSJMFXBv3TUg/DGSFCucQDFZIt7oVn3CX +B0Y3Zei246OfTzlBIF6jH3NPkZebdOeMjXOjplzsTghLptUacxrxJX+1ItmAh0x7XPrzzvidDv w2+tgcGQKgVsVUF4M07e9tvZSbfz8CfL0yRuzxeKIbcrwXV+fTzUQUMMI5mi6OLtMGpLDBDAbVM 62MSCmZq/fPJAH00bMqlGx0ggLD3og7QTbauzKVddoElqOhIaxhN0KI+3BmW9NCVWgp2nNb6 X-Google-Smtp-Source: AGHT+IGgk9r695rRuXfLeZuyDG/XK8k3GE3zY19Uc6LAjnLZO/OujkeTjKzCvI+3M4cPHE908i0Iup1zDaO+ X-Received: by 2002:a05:6e02:1a0a:b0:3df:45bb:28fe with SMTP id e9e14a558f8ab-3e2541dc8c3mr44041455ab.1.1752255274887; Fri, 11 Jul 2025 10:34:34 -0700 (PDT) Received: from postal.iol.unh.edu (postal.iol.unh.edu. [132.177.123.84]) by smtp-relay.gmail.com with ESMTPS id e9e14a558f8ab-3e2462139eesm2623285ab.49.2025.07.11.10.34.34 (version=TLS1_2 cipher=ECDHE-ECDSA-AES128-GCM-SHA256 bits=128/128); Fri, 11 Jul 2025 10:34:34 -0700 (PDT) X-Relaying-Domain: iol.unh.edu Date: Fri, 11 Jul 2025 10:34:34 -0700 (PDT) Message-ID: <68714b2a.920a0220.ab12c.dc6aSMTPIN_ADDED_MISSING@mx.google.com> Received: from [172.21.0.5] (unknown [172.18.0.240]) by postal.iol.unh.edu (Postfix) with ESMTP id 4D017604D420; Fri, 11 Jul 2025 13:34:34 -0400 (EDT) Subject: |SUCCESS| pw155160 [PATCH] maintainers: update for ethdev library From: dpdklab@iol.unh.edu To: Test Report Cc: dpdk-test-reports@iol.unh.edu In-Reply-To: <20250711144326.1288907-1-thomas@monjalon.net> References: <20250711144326.1288907-1-thomas@monjalon.net> Content-Type: text/plain X-BeenThere: test-report@dpdk.org X-Mailman-Version: 2.1.29 Precedence: list List-Id: automatic DPDK test reports List-Unsubscribe: , List-Archive: List-Post: List-Help: List-Subscribe: , Errors-To: test-report-bounces@dpdk.org Test-Label: iol-compile-amd64-testing Test-Status: SUCCESS http://dpdk.org/patch/155160 _Testing PASS_ Submitter: Thomas Monjalon Date: Friday, July 11 2025 14:43:25 DPDK git baseline: Repo:dpdk Branch: master CommitID:9fe9c0b231c8da5435bfccb1963121b4277f961c 155160 --> testing pass Upstream job id: Generic-DPDK-Compile-Meson#408049 Test environment and result as below: +-------------------------------+--------------------+-------------------+------------------+-------------------------+-------------------+----------------------+ | Environment | dpdk_meson_compile | dpdk_compile_spdk | dpdk_compile_ovs | dpdk_llvm_clang_compile | dpdk_msvc_compile | dpdk_mingw64_compile | +===============================+====================+===================+==================+=========================+===================+======================+ | CentOS Stream 9 | PASS | PASS | SKIPPED | SKIPPED | SKIPPED | SKIPPED | +-------------------------------+--------------------+-------------------+------------------+-------------------------+-------------------+----------------------+ | CentOS Stream 10 | PASS | SKIPPED | SKIPPED | SKIPPED | SKIPPED | SKIPPED | +-------------------------------+--------------------+-------------------+------------------+-------------------------+-------------------+----------------------+ | Debian GNU/Linux 12 | PASS | PASS | SKIPPED | SKIPPED | SKIPPED | SKIPPED | +-------------------------------+--------------------+-------------------+------------------+-------------------------+-------------------+----------------------+ | Fedora Linux 40 | PASS | PASS | SKIPPED | SKIPPED | SKIPPED | SKIPPED | +-------------------------------+--------------------+-------------------+------------------+-------------------------+-------------------+----------------------+ | Fedora Linux 41 | PASS | PASS | PASS | SKIPPED | SKIPPED | SKIPPED | +-------------------------------+--------------------+-------------------+------------------+-------------------------+-------------------+----------------------+ | openSUSE Leap 15.6 | PASS | SKIPPED | SKIPPED | SKIPPED | SKIPPED | SKIPPED | +-------------------------------+--------------------+-------------------+------------------+-------------------------+-------------------+----------------------+ | Ubuntu 22.04 | PASS | PASS | SKIPPED | SKIPPED | SKIPPED | SKIPPED | +-------------------------------+--------------------+-------------------+------------------+-------------------------+-------------------+----------------------+ | Ubuntu 24.04 | PASS | PASS | PASS | SKIPPED | SKIPPED | SKIPPED | +-------------------------------+--------------------+-------------------+------------------+-------------------------+-------------------+----------------------+ | Red Hat Enterprise Linux 9.5 | PASS | SKIPPED | SKIPPED | SKIPPED | SKIPPED | SKIPPED | +-------------------------------+--------------------+-------------------+------------------+-------------------------+-------------------+----------------------+ | Ubuntu 20.04 | PASS | SKIPPED | SKIPPED | SKIPPED | SKIPPED | SKIPPED | +-------------------------------+--------------------+-------------------+------------------+-------------------------+-------------------+----------------------+ | Alpine Linux 3.22.0 | PASS | SKIPPED | SKIPPED | SKIPPED | SKIPPED | SKIPPED | +-------------------------------+--------------------+-------------------+------------------+-------------------------+-------------------+----------------------+ | FreeBSD 14.2 | PASS | SKIPPED | SKIPPED | SKIPPED | SKIPPED | SKIPPED | +-------------------------------+--------------------+-------------------+------------------+-------------------------+-------------------+----------------------+ | Red Hat Enterprise Linux 8.10 | PASS | SKIPPED | SKIPPED | SKIPPED | SKIPPED | SKIPPED | +-------------------------------+--------------------+-------------------+------------------+-------------------------+-------------------+----------------------+ | Windows Server 2022 | SKIPPED | SKIPPED | SKIPPED | PASS | PASS | PASS | +-------------------------------+--------------------+-------------------+------------------+-------------------------+-------------------+----------------------+ CentOS Stream 9 Kernel: 5.15 Compiler: gcc gcc (GCC) 11.5.0 20240719 (Red Hat 11.5.0-7) CentOS Stream 10 Kernel: 5.15 Compiler: gcc gcc (GCC) 14.2.1 20250110 (Red Hat 14.2.1-8) Debian GNU/Linux 12 Kernel: 5.15 Compiler: gcc gcc (Debian 12.2.0-14+deb12u1) 12.2.0 Fedora Linux 40 Kernel: 5.15 Compiler: gcc gcc (GCC) 14.2.1 20240912 (Red Hat 14.2.1-3) Fedora Linux 41 Kernel: 5.15 Compiler: clang gcc (GCC) 14.3.1 20250523 (Red Hat 14.3.1-1) openSUSE Leap 15.6 Kernel: 5.15 Compiler: gcc gcc (SUSE Linux) 7.5.0 Ubuntu 22.04 Kernel: 5.15 Compiler: gcc gcc (Ubuntu 11.4.0-1ubuntu1~22.04) 11.4.0 Ubuntu 24.04 Kernel: 5.15 Compiler: gcc gcc (Ubuntu 13.3.0-6ubuntu2~24.04) 13.3.0 Red Hat Enterprise Linux 9.5 Kernel: 5.15 Compiler: gcc gcc (GCC) 11.5.0 20240719 (Red Hat 11.5.0-2) Ubuntu 20.04 Kernel: 5.15 Compiler: gcc gcc (Ubuntu 9.4.0-1ubuntu1~20.04.2) 9.4.0 Alpine Linux 3.22.0 Kernel: 5.15 Compiler: gcc gcc (Alpine 14.2.0) 14.2.0 FreeBSD 14.2 Kernel: 14.2-RELEASE Compiler: clang 18.1.6 Red Hat Enterprise Linux 8.10 Kernel: 5.15 Compiler: gcc gcc (GCC) 8.5.0 20210514 (Red Hat 8.5.0-22) Windows Server 2022 Kernel: 10.0.20348.2031 Compiler: clang 15.0.7, gcc 14.1.0 (MinGW), and MSVC VS 19.39.33521 To view detailed results, visit: https://lab.dpdk.org/results/dashboard/patchsets/33637/ UNH-IOL DPDK Community Lab To manage your email subscriptions, visit: https://lab.dpdk.org/results/dashboard/preferences/subscriptions/