From mboxrd@z Thu Jan 1 00:00:00 1970 Return-Path: Received: from mails.dpdk.org (mails.dpdk.org [217.70.189.124]) by inbox.dpdk.org (Postfix) with ESMTP id 8C55246B48 for ; Fri, 11 Jul 2025 19:37:24 +0200 (CEST) Received: from mails.dpdk.org (localhost [127.0.0.1]) by mails.dpdk.org (Postfix) with ESMTP id 87A034013F; Fri, 11 Jul 2025 19:37:24 +0200 (CEST) Received: from mail-yw1-f225.google.com (mail-yw1-f225.google.com [209.85.128.225]) by mails.dpdk.org (Postfix) with ESMTP id B0E094013F for ; Fri, 11 Jul 2025 19:37:23 +0200 (CEST) Received: by mail-yw1-f225.google.com with SMTP id 00721157ae682-70e77831d68so25052287b3.2 for ; Fri, 11 Jul 2025 10:37:23 -0700 (PDT) DKIM-Signature: v=1; a=rsa-sha256; c=relaxed/relaxed; d=iol.unh.edu; s=unh-iol; t=1752255443; x=1752860243; darn=dpdk.org; h=references:in-reply-to:cc:to:from:subject:message-id:date:from:to :cc:subject:date:message-id:reply-to; bh=0fMykM3ZveKR2I5GoqFnMGrTVH9rhPIOdW6bgrK9C4w=; b=OXQbaCWWdvLXy0ZVZVEmroyLMf2hfqunOsimJRoY4/XjwWwo0vq2tF4sDzLfZRCW6n FR1gAExfrGME2IOXaGX2xPD9rP83QW7ZCOoH/AbfatAExtyFdrAqY42MsThq30Olv62/ EidcALKb17gzGoaJBDZ9LtneTv231UepPH+5E= X-Google-DKIM-Signature: v=1; a=rsa-sha256; c=relaxed/relaxed; d=1e100.net; s=20230601; t=1752255443; x=1752860243; h=references:in-reply-to:cc:to:from:subject:message-id:date :x-gm-message-state:from:to:cc:subject:date:message-id:reply-to; bh=0fMykM3ZveKR2I5GoqFnMGrTVH9rhPIOdW6bgrK9C4w=; b=XtkaEEVtBaPy3rw0ASxD0Azn7Zfk/1qBh4SNpCeYU13o11w2tsuQsG/Bfyyx0aemKA ntA0Ydq7MhKqGkHUOLI95EWHy/SwVS9L/kkft5U5YAPKvvrmc/HHRzpmVVpsRMwICGcq FGs1cqYT7jxnCqcTIKM3QMAK6+Tb+L/CPQ7rnboisAbJ7c7k5PPrWXgLNmTYnBzUHitD jxRYFSRbiE+X1eZQJJqdx/y9lFZ4jNtfTDGh80fSjBREAwyDWBQP+5llZvTAX0KSqXt2 bE5SfAtElUOduBvcGorgC1gazruG2RdKPC4i3CXfiZTKh9pB0N3riMJYxSDDd1w7sONy 5bDg== X-Gm-Message-State: AOJu0Yxy7f69Sjm1/yw1zNhWt6Qs/cG0q0Kc4Ju7zsmHJHORAdMTDf2o p0cPJY/gx7LffyWQqbQ/ZHT408wWgHudeYz7JDWVo86gtIETBsze6E0Gxo8cFYLYKqjW3OALkYJ Z1RTbNBYj5MOP2GKO1H6p/QUk5w9iqfSZAZlCGuzJ5J/XEO9kErYtXlIWDlFS X-Gm-Gg: ASbGncs945zkMATGvkRD7QzA2ZfHDTRCdxr9Jycmls+YQktwis4KWOXI8ut8uifJGb6 VDMd0tNYnLXdeL1c+m7Im6BMwKLQOu7ruVi+yHE6YYiLx5xyOb5VJcDNc51j+g91ut5TpIN5ouy tW2Nm4QdGTWn4m8Ceo4SVTQ2nXUHADAO7C/naAd4yqJwk5lIKcJkX3IVHUb7jKpBnz7r9t2AArS 4+Jx0YHqnoynQhmfBqMwAFLMUBcorDyWU8TsHAFqyzEmEcibbnCYHartNOyT2Gqj9M64RIZpA5E brSW4dQNxbRv5U4PhOjkP7LG4MxEfiuIFbuePot8YytFmXrKYg== X-Google-Smtp-Source: AGHT+IEV05PiuF8D7DTmVPrvthCfc/qyx4tyJ2fNFEpI+6XO2hmMCLIvLGdLsT9mcMp7UwLfvRE7GtO+II1O X-Received: by 2002:a05:690c:6b81:b0:70f:9fcd:2075 with SMTP id 00721157ae682-717d5b801bemr71753797b3.3.1752255443030; Fri, 11 Jul 2025 10:37:23 -0700 (PDT) Received: from postal.iol.unh.edu (postal.iol.unh.edu. [2606:4100:3880:1234::84]) by smtp-relay.gmail.com with ESMTPS id 00721157ae682-717c62390b3sm1209507b3.55.2025.07.11.10.37.22 (version=TLS1_2 cipher=ECDHE-ECDSA-AES128-GCM-SHA256 bits=128/128); Fri, 11 Jul 2025 10:37:23 -0700 (PDT) X-Relaying-Domain: iol.unh.edu Date: Fri, 11 Jul 2025 10:37:23 -0700 (PDT) Message-ID: <68714bd3.050a0220.1fcbcf.6995SMTPIN_ADDED_MISSING@mx.google.com> Received: from [172.21.0.5] (unknown [172.18.0.240]) by postal.iol.unh.edu (Postfix) with ESMTP id ADA56604D420; Fri, 11 Jul 2025 13:37:22 -0400 (EDT) Subject: |SUCCESS| pw155161-155163 [PATCH] [3/3] common/sfc_efx/base: fix com From: dpdklab@iol.unh.edu To: Test Report Cc: dpdk-test-reports@iol.unh.edu In-Reply-To: <20250711144349.9236-4-ivan.malov@arknetworks.am> References: <20250711144349.9236-4-ivan.malov@arknetworks.am> Content-Type: text/plain X-BeenThere: test-report@dpdk.org X-Mailman-Version: 2.1.29 Precedence: list List-Id: automatic DPDK test reports List-Unsubscribe: , List-Archive: List-Post: List-Help: List-Subscribe: , Errors-To: test-report-bounces@dpdk.org Test-Label: iol-unit-arm64-testing Test-Status: SUCCESS http://dpdk.org/patch/155163 _Testing PASS_ Submitter: Ivan Malov Date: Friday, July 11 2025 14:43:49 DPDK git baseline: Repo:dpdk Branch: master CommitID:9fe9c0b231c8da5435bfccb1963121b4277f961c 155161-155163 --> testing pass Upstream job id: Generic-Unit-Test-DPDK#354816 Test environment and result as below: +------------------------------+----------------+------------------------------+---------------------------+--------------+ | Environment | dpdk_unit_test | cryptodev_sw_snow3g_autotest | cryptodev_sw_zuc_autotest | lpm_autotest | +==============================+================+==============================+===========================+==============+ | CentOS Stream 9 | PASS | SKIPPED | SKIPPED | SKIPPED | +------------------------------+----------------+------------------------------+---------------------------+--------------+ | Debian GNU/Linux 12 | PASS | SKIPPED | SKIPPED | SKIPPED | +------------------------------+----------------+------------------------------+---------------------------+--------------+ | CentOS Stream 10 | PASS | SKIPPED | SKIPPED | SKIPPED | +------------------------------+----------------+------------------------------+---------------------------+--------------+ | Fedora Linux 40 | PASS | SKIPPED | SKIPPED | SKIPPED | +------------------------------+----------------+------------------------------+---------------------------+--------------+ | Red Hat Enterprise Linux 9.5 | PASS | SKIPPED | SKIPPED | SKIPPED | +------------------------------+----------------+------------------------------+---------------------------+--------------+ | Ubuntu 20.04 | PASS | SKIPPED | SKIPPED | PASS | +------------------------------+----------------+------------------------------+---------------------------+--------------+ | Fedora Linux 41 | PASS | SKIPPED | SKIPPED | SKIPPED | +------------------------------+----------------+------------------------------+---------------------------+--------------+ | Ubuntu 22.04 | PASS | SKIPPED | SKIPPED | SKIPPED | +------------------------------+----------------+------------------------------+---------------------------+--------------+ | Ubuntu 24.04 | PASS | SKIPPED | SKIPPED | SKIPPED | +------------------------------+----------------+------------------------------+---------------------------+--------------+ | Debian 12 (arm) | SKIPPED | PASS | PASS | SKIPPED | +------------------------------+----------------+------------------------------+---------------------------+--------------+ CentOS Stream 9 Kernel: 5.4 Compiler: gcc gcc (GCC) 11.5.0 20240719 (Red Hat 11.5.0-7) Debian GNU/Linux 12 Kernel: 5.4 Compiler: gcc gcc (Debian 12.2.0-14+deb12u1) 12.2.0 CentOS Stream 10 Kernel: 5.4 Compiler: gcc gcc (GCC) 14.2.1 20250110 (Red Hat 14.2.1-8) Fedora Linux 40 Kernel: 5.4 Compiler: gcc gcc (GCC) 14.2.1 20240912 (Red Hat 14.2.1-3) Red Hat Enterprise Linux 9.5 Kernel: 5.4 Compiler: gcc gcc (GCC) 11.5.0 20240719 (Red Hat 11.5.0-2) Ubuntu 20.04 Kernel: 5.4 Compiler: gcc gcc (Ubuntu 9.4.0-1ubuntu1~20.04.2) 9.4.0 Fedora Linux 41 Kernel: 5.4 Compiler: clang gcc (GCC) 14.3.1 20250523 (Red Hat 14.3.1-1) Ubuntu 22.04 Kernel: 5.4 Compiler: gcc gcc (Ubuntu 11.4.0-1ubuntu1~22.04) 11.4.0 Ubuntu 24.04 Kernel: 5.4 Compiler: gcc gcc (Ubuntu 13.3.0-6ubuntu2~24.04) 13.3.0 Debian 12 (arm) Kernel: Depends on container host Compiler: gcc (Debian 12.2.0-14) 12.2.0 To view detailed results, visit: https://lab.dpdk.org/results/dashboard/patchsets/33638/ UNH-IOL DPDK Community Lab To manage your email subscriptions, visit: https://lab.dpdk.org/results/dashboard/preferences/subscriptions/