From mboxrd@z Thu Jan 1 00:00:00 1970 Return-Path: Received: from mails.dpdk.org (mails.dpdk.org [217.70.189.124]) by inbox.dpdk.org (Postfix) with ESMTP id 0073F46B4A for ; Fri, 11 Jul 2025 20:25:44 +0200 (CEST) Received: from mails.dpdk.org (localhost [127.0.0.1]) by mails.dpdk.org (Postfix) with ESMTP id DA7D24013F; Fri, 11 Jul 2025 20:25:44 +0200 (CEST) Received: from mail-oo1-f100.google.com (mail-oo1-f100.google.com [209.85.161.100]) by mails.dpdk.org (Postfix) with ESMTP id A862F4013F for ; Fri, 11 Jul 2025 20:25:43 +0200 (CEST) Received: by mail-oo1-f100.google.com with SMTP id 006d021491bc7-61208b548e8so669471eaf.3 for ; Fri, 11 Jul 2025 11:25:43 -0700 (PDT) DKIM-Signature: v=1; a=rsa-sha256; c=relaxed/relaxed; d=iol.unh.edu; s=unh-iol; t=1752258343; x=1752863143; darn=dpdk.org; h=references:in-reply-to:cc:to:from:subject:message-id:date:from:to :cc:subject:date:message-id:reply-to; bh=5Pp7+OxEcd+0uwZE7oumS+NrFeJtWfvC8Ep3enRA0a0=; b=jrQlpjJkfDNHXr3WMiJsiBmF30CK3O0rv6Z4tijyc+4D1dgx7E/AqF3mxto5itZ67Q s5VCHOpdNlMSkpjUbx4vJX2A75dcbbBtxZL+6uj+Sky5wjLciNP97C48pXXGK4BuP5ke gayR/qfe6ifSxzCjQpZb+wV7q8aG/bFvRA3CE= X-Google-DKIM-Signature: v=1; a=rsa-sha256; c=relaxed/relaxed; d=1e100.net; s=20230601; t=1752258343; x=1752863143; h=references:in-reply-to:cc:to:from:subject:message-id:date :x-gm-message-state:from:to:cc:subject:date:message-id:reply-to; bh=5Pp7+OxEcd+0uwZE7oumS+NrFeJtWfvC8Ep3enRA0a0=; b=Tm3Jrms3/srW14ksXLKcwlKrkPjdFVxNjfM5J5kAtiQcRGSVaOXMeG7gx8BVqW0nJP q/c3iX+QyUQnSZ0Wt2BDfvdt2FHIV9r/CeZxx0I9omL5vt4bBcAqCFAucTzIheGXp1zv mI2dB5/qxpLuHoT2KNQxZzH3M4cWVwDlYAQgyGMLG0sCJ56e5T+31hGKHqD40gisMplk BvoZkRSfTN+PJsIWAk/E8nn1qYxpjSsiu3n3f7PgGY7+n8mk91eEFB5vh5hDuxb0VO7U sSuT3LD3czzU4AehH5IabWfIZaUbjWLrNS8z18zweePVOleahGNRYBS7kXuvUbbWqtuT SkwQ== X-Gm-Message-State: AOJu0Ywo45n6BnKreYXRVoLeNb6O7ai7sEobZFSF0wQhUNgl5gfxTPai vgkYoSsA3YzzvGHZUFqpzIksSAjulZmutyi5GTVKxsDZ1J3A5CJrjmpyyVWb1lOI7Bx5J/5MDrX 4t8K8vEepJeg0HfIxuqYYRhyELrqJRntjq88frZW4rpmWALwGX1SuamwvTot5 X-Gm-Gg: ASbGnctLvum6S7JN+Mfqpcn7glH8p/n7fuYK1p1Vk/nIUX2tPZMAwJnqDdKEgtnuS4M pBRyQ5xGQ4hbZptUCmYS4l4qJHfs9kYmOe7Sa//f+4V+0eaM9iM6j7EdvA1MgTEmkcDb3fYMlAd b4D7L9LBivIrvjXcK7FcMXUFu4nDFy534By0CFgIlrDXTcIlhjdgfg9XxG3CpDRX8A0XOV6M1Xd rB8jdtjl5VCkOWd2cIfSjmN4eZUkQe19Op8rSxPNgiowxj5F//lsewdoAMGBWvxfal5r/tOUoU2 KiqT9kvLGCStBzD07Rcs1C2gnxZQPkgQhvffanJsWWLB3L4QQQ== X-Google-Smtp-Source: AGHT+IGBZZwbh5Y3Kc7hyoWwHpP6DRQfE5is3yb4s0DJykteSTC8ojIXK6/86FbYr2Fq3ykC5HSVOlq2VMgW X-Received: by 2002:a05:6871:360a:b0:2d6:6633:463a with SMTP id 586e51a60fabf-2ff267487e9mr2984217fac.8.1752258342708; Fri, 11 Jul 2025 11:25:42 -0700 (PDT) Received: from postal.iol.unh.edu (postal.iol.unh.edu. [2606:4100:3880:1234::84]) by smtp-relay.gmail.com with ESMTPS id 586e51a60fabf-2ff11236e13sm286185fac.10.2025.07.11.11.25.42 (version=TLS1_2 cipher=ECDHE-ECDSA-AES128-GCM-SHA256 bits=128/128); Fri, 11 Jul 2025 11:25:42 -0700 (PDT) X-Relaying-Domain: iol.unh.edu Date: Fri, 11 Jul 2025 11:25:42 -0700 (PDT) Message-ID: <68715726.050a0220.257d62.ece1SMTPIN_ADDED_MISSING@mx.google.com> Received: from [172.21.0.6] (unknown [172.18.0.240]) by postal.iol.unh.edu (Postfix) with ESMTP id 2B275604D420; Fri, 11 Jul 2025 14:25:42 -0400 (EDT) Subject: |SUCCESS| pw155160 [PATCH] maintainers: update for ethdev library From: dpdklab@iol.unh.edu To: Test Report Cc: dpdk-test-reports@iol.unh.edu In-Reply-To: <20250711144326.1288907-1-thomas@monjalon.net> References: <20250711144326.1288907-1-thomas@monjalon.net> Content-Type: text/plain X-BeenThere: test-report@dpdk.org X-Mailman-Version: 2.1.29 Precedence: list List-Id: automatic DPDK test reports List-Unsubscribe: , List-Archive: List-Post: List-Help: List-Subscribe: , Errors-To: test-report-bounces@dpdk.org Test-Label: iol-unit-arm64-testing Test-Status: SUCCESS http://dpdk.org/patch/155160 _Testing PASS_ Submitter: Thomas Monjalon Date: Friday, July 11 2025 14:43:25 DPDK git baseline: Repo:dpdk Branch: master CommitID:9fe9c0b231c8da5435bfccb1963121b4277f961c 155160 --> testing pass Upstream job id: Generic-Unit-Test-DPDK#354849 Test environment and result as below: +------------------------------+----------------+--------------+---------------------------+------------------------------+ | Environment | dpdk_unit_test | lpm_autotest | cryptodev_sw_zuc_autotest | cryptodev_sw_snow3g_autotest | +==============================+================+==============+===========================+==============================+ | CentOS Stream 9 | PASS | SKIPPED | SKIPPED | SKIPPED | +------------------------------+----------------+--------------+---------------------------+------------------------------+ | Debian GNU/Linux 12 | PASS | SKIPPED | SKIPPED | SKIPPED | +------------------------------+----------------+--------------+---------------------------+------------------------------+ | CentOS Stream 10 | PASS | SKIPPED | SKIPPED | SKIPPED | +------------------------------+----------------+--------------+---------------------------+------------------------------+ | Fedora Linux 40 | PASS | SKIPPED | SKIPPED | SKIPPED | +------------------------------+----------------+--------------+---------------------------+------------------------------+ | Red Hat Enterprise Linux 9.5 | PASS | SKIPPED | SKIPPED | SKIPPED | +------------------------------+----------------+--------------+---------------------------+------------------------------+ | Fedora Linux 41 | PASS | SKIPPED | SKIPPED | SKIPPED | +------------------------------+----------------+--------------+---------------------------+------------------------------+ | Ubuntu 20.04 | PASS | PASS | SKIPPED | SKIPPED | +------------------------------+----------------+--------------+---------------------------+------------------------------+ | Ubuntu 22.04 | PASS | SKIPPED | SKIPPED | SKIPPED | +------------------------------+----------------+--------------+---------------------------+------------------------------+ | Ubuntu 24.04 | PASS | SKIPPED | SKIPPED | SKIPPED | +------------------------------+----------------+--------------+---------------------------+------------------------------+ | Debian 12 (arm) | SKIPPED | SKIPPED | PASS | PASS | +------------------------------+----------------+--------------+---------------------------+------------------------------+ CentOS Stream 9 Kernel: 5.4 Compiler: gcc gcc (GCC) 11.5.0 20240719 (Red Hat 11.5.0-7) Debian GNU/Linux 12 Kernel: 5.4 Compiler: gcc gcc (Debian 12.2.0-14+deb12u1) 12.2.0 CentOS Stream 10 Kernel: 5.4 Compiler: gcc gcc (GCC) 14.2.1 20250110 (Red Hat 14.2.1-8) Fedora Linux 40 Kernel: 5.4 Compiler: clang gcc (GCC) 14.2.1 20240912 (Red Hat 14.2.1-3) Red Hat Enterprise Linux 9.5 Kernel: 5.4 Compiler: gcc gcc (GCC) 11.5.0 20240719 (Red Hat 11.5.0-2) Fedora Linux 41 Kernel: 5.4 Compiler: clang gcc (GCC) 14.3.1 20250523 (Red Hat 14.3.1-1) Ubuntu 20.04 Kernel: 5.4 Compiler: gcc gcc (Ubuntu 9.4.0-1ubuntu1~20.04.2) 9.4.0 Ubuntu 22.04 Kernel: 5.4 Compiler: gcc gcc (Ubuntu 11.4.0-1ubuntu1~22.04) 11.4.0 Ubuntu 24.04 Kernel: 5.4 Compiler: gcc gcc (Ubuntu 13.3.0-6ubuntu2~24.04) 13.3.0 Debian 12 (arm) Kernel: Depends on container host Compiler: gcc (Debian 12.2.0-14) 12.2.0 To view detailed results, visit: https://lab.dpdk.org/results/dashboard/patchsets/33637/ UNH-IOL DPDK Community Lab To manage your email subscriptions, visit: https://lab.dpdk.org/results/dashboard/preferences/subscriptions/