From mboxrd@z Thu Jan 1 00:00:00 1970 Return-Path: Received: from mails.dpdk.org (mails.dpdk.org [217.70.189.124]) by inbox.dpdk.org (Postfix) with ESMTP id DA50046B4A for ; Fri, 11 Jul 2025 20:47:25 +0200 (CEST) Received: from mails.dpdk.org (localhost [127.0.0.1]) by mails.dpdk.org (Postfix) with ESMTP id AED5D4013F; Fri, 11 Jul 2025 20:47:25 +0200 (CEST) Received: from mail-yb1-f227.google.com (mail-yb1-f227.google.com [209.85.219.227]) by mails.dpdk.org (Postfix) with ESMTP id D7BD04013F for ; Fri, 11 Jul 2025 20:47:23 +0200 (CEST) Received: by mail-yb1-f227.google.com with SMTP id 3f1490d57ef6-e85e06a7f63so2127460276.1 for ; Fri, 11 Jul 2025 11:47:23 -0700 (PDT) DKIM-Signature: v=1; a=rsa-sha256; c=relaxed/relaxed; d=iol.unh.edu; s=unh-iol; t=1752259643; x=1752864443; darn=dpdk.org; h=references:in-reply-to:cc:to:from:subject:message-id:date:from:to :cc:subject:date:message-id:reply-to; bh=fTwa7Yhai9du2QjnA0CV4tvf42x0MphxjjvhskbuBBc=; b=Ct9wDD/v05p3V3H2PdvmzNa2VioeoT6I6Xe/pHAv4YPDZQlWwPT7KIVB3Lx8fAHKYA QNmYzQR0jk/Q+OntuaQPI6gJVXkt+ce+JX6J542BvqC7EKHwMlzTIW2spW9GqIk5uKfl eMTR8LebiHSok4wD+8Vz5V+e3NYIxC6vHlwH8= X-Google-DKIM-Signature: v=1; a=rsa-sha256; c=relaxed/relaxed; d=1e100.net; s=20230601; t=1752259643; x=1752864443; h=references:in-reply-to:cc:to:from:subject:message-id:date :x-gm-message-state:from:to:cc:subject:date:message-id:reply-to; bh=fTwa7Yhai9du2QjnA0CV4tvf42x0MphxjjvhskbuBBc=; b=t3JEMC8fdaicQnucbc4jhbm3m2cwJOXVhKFkj3lfkIQuQnJXATrVWVmiR6HPQIceYO JbqDodxzuyNPnGnS5OLyRlv8vr8gS4lmF59CnLZ7VFhEAtJlx8l4lE+2ksQaLRdBn8WN Et9lNKEUcHdoRBsRK/Xql5i8tLlE4dR+nwkzFgYbAqtARRlpMMkJLbAshO2xuZDwnmyV 8/j8uXNJKYDc5hQhonHjaGyg4bJQdyfdu46PF8ENQpuXFRMHwSs3/MA4DJg1FyTPKsMP dX3zjULc8o4GK/oKKt2OqcnXm/PU+zvOYpGasa2Ujqnzp3ZtBSCDu+NRfqVg0u3oLK8p YlPQ== X-Gm-Message-State: AOJu0YzaXhX4WsEHME0mg1gh8MY0VcKzxKLXCWoEcZiTtYeMGakU/f+n Is7sLxTQkR9VGdsL6RcaeUv4pMtspbPQ20T0Wkt41jDlYbvgXFfakiy/tPHNxcAQaVr+smkjjd8 pHEMCMior1NaEAY461a8aol8XON8qRkyPBD/hUAWjJRKABkXX9PSYQk2Rxoj/ X-Gm-Gg: ASbGnctq4ZPLcvRsyti7sZxy768sPh9z1Jjlc+r6draA+peon6jkqLIDcJgn8tRE52E BNDVJl1UdI4xmhS9dV+shuhYP3iu3mSs6x3uNwhNmeknQXtobZzRDt4FTfPi1eJ6ZJI2+xLdxP/ BFIZKrAN8fGNnzFByB768CZigzyQJV4IJybui/esAlQcEiXDs47SnuXRvBfdh3YFEBkVAYOlGvG pua99IbW/ESXIP7+8oYNoD2z3Ec/DZ2FrPenR3gjeAUL8EMxeR3dkAfyHxaLLezNnZcILoc5AYP p4ufhf9+h/uk9qgy+34deI5U8LcoEY0bIPUl3xZj0TydrmZ79w== X-Google-Smtp-Source: AGHT+IGWEb5jbmSUa6JjEZi9j0Jk7y8Ee7xkzddIPQ/ymyJrFzxS3JANGYyerwLd5FBKX/X2sOo3+JsuGQJS X-Received: by 2002:a05:6902:690d:b0:e84:38b2:f605 with SMTP id 3f1490d57ef6-e8b85a04c50mr4113477276.10.1752259642930; Fri, 11 Jul 2025 11:47:22 -0700 (PDT) Received: from postal.iol.unh.edu (postal.iol.unh.edu. [2606:4100:3880:1234::84]) by smtp-relay.gmail.com with ESMTPS id 3f1490d57ef6-e8b7abee53csm103791276.0.2025.07.11.11.47.22 (version=TLS1_2 cipher=ECDHE-ECDSA-AES128-GCM-SHA256 bits=128/128); Fri, 11 Jul 2025 11:47:22 -0700 (PDT) X-Relaying-Domain: iol.unh.edu Date: Fri, 11 Jul 2025 11:47:22 -0700 (PDT) Message-ID: <68715c3a.050a0220.21e48b.555cSMTPIN_ADDED_MISSING@mx.google.com> Received: from [172.21.0.5] (unknown [172.18.0.240]) by postal.iol.unh.edu (Postfix) with ESMTP id 9113160003E7; Fri, 11 Jul 2025 14:47:22 -0400 (EDT) Subject: |SUCCESS| pw155161-155163 [PATCH] [3/3] common/sfc_efx/base: fix com From: dpdklab@iol.unh.edu To: Test Report Cc: dpdk-test-reports@iol.unh.edu In-Reply-To: <20250711144349.9236-4-ivan.malov@arknetworks.am> References: <20250711144349.9236-4-ivan.malov@arknetworks.am> Content-Type: text/plain X-BeenThere: test-report@dpdk.org X-Mailman-Version: 2.1.29 Precedence: list List-Id: automatic DPDK test reports List-Unsubscribe: , List-Archive: List-Post: List-Help: List-Subscribe: , Errors-To: test-report-bounces@dpdk.org Test-Label: iol-compile-arm64-testing Test-Status: SUCCESS http://dpdk.org/patch/155163 _Testing PASS_ Submitter: Ivan Malov Date: Friday, July 11 2025 14:43:49 DPDK git baseline: Repo:dpdk Branch: master CommitID:9fe9c0b231c8da5435bfccb1963121b4277f961c 155161-155163 --> testing pass Upstream job id: Generic-DPDK-Compile-Meson#408022 Test environment and result as below: +------------------------------+--------------------+ | Environment | dpdk_meson_compile | +==============================+====================+ | Red Hat Enterprise Linux 9.5 | PASS | +------------------------------+--------------------+ | Ubuntu 20.04 | PASS | +------------------------------+--------------------+ | Debian GNU/Linux 12 | PASS | +------------------------------+--------------------+ | Fedora Linux 40 | PASS | +------------------------------+--------------------+ | Fedora Linux 41 | PASS | +------------------------------+--------------------+ | Ubuntu 22.04 | PASS | +------------------------------+--------------------+ | Ubuntu 24.04 | PASS | +------------------------------+--------------------+ | CentOS Stream 9 | PASS | +------------------------------+--------------------+ | CentOS Stream 10 | PASS | +------------------------------+--------------------+ Red Hat Enterprise Linux 9.5 Kernel: 5.4 Compiler: gcc gcc (GCC) 11.5.0 20240719 (Red Hat 11.5.0-2) Ubuntu 20.04 Kernel: 5.15 Compiler: aarch64-linux-gnu-gcc gcc (Ubuntu 9.4.0-1ubuntu1~20.04.2) 9.4.0 Debian GNU/Linux 12 Kernel: 5.4 Compiler: gcc gcc (Debian 12.2.0-14+deb12u1) 12.2.0 Fedora Linux 40 Kernel: 5.4 Compiler: gcc gcc (GCC) 14.2.1 20240912 (Red Hat 14.2.1-3) Fedora Linux 41 Kernel: 5.4 Compiler: gcc gcc (GCC) 14.3.1 20250523 (Red Hat 14.3.1-1) Ubuntu 22.04 Kernel: 5.4 Compiler: gcc gcc (Ubuntu 11.4.0-1ubuntu1~22.04) 11.4.0 Ubuntu 24.04 Kernel: 5.4 Compiler: gcc gcc (Ubuntu 13.3.0-6ubuntu2~24.04) 13.3.0 CentOS Stream 9 Kernel: 5.4 Compiler: gcc gcc (GCC) 11.5.0 20240719 (Red Hat 11.5.0-7) CentOS Stream 10 Kernel: 5.4 Compiler: gcc gcc (GCC) 14.2.1 20250110 (Red Hat 14.2.1-8) To view detailed results, visit: https://lab.dpdk.org/results/dashboard/patchsets/33638/ UNH-IOL DPDK Community Lab To manage your email subscriptions, visit: https://lab.dpdk.org/results/dashboard/preferences/subscriptions/