From mboxrd@z Thu Jan 1 00:00:00 1970 Return-Path: Received: from mails.dpdk.org (mails.dpdk.org [217.70.189.124]) by inbox.dpdk.org (Postfix) with ESMTP id BB64446B4A for ; Fri, 11 Jul 2025 20:58:22 +0200 (CEST) Received: from mails.dpdk.org (localhost [127.0.0.1]) by mails.dpdk.org (Postfix) with ESMTP id B295E4013F; Fri, 11 Jul 2025 20:58:22 +0200 (CEST) Received: from mail-pl1-f228.google.com (mail-pl1-f228.google.com [209.85.214.228]) by mails.dpdk.org (Postfix) with ESMTP id 174124013F for ; Fri, 11 Jul 2025 20:58:21 +0200 (CEST) Received: by mail-pl1-f228.google.com with SMTP id d9443c01a7336-234c5b57557so26006535ad.3 for ; Fri, 11 Jul 2025 11:58:21 -0700 (PDT) DKIM-Signature: v=1; a=rsa-sha256; c=relaxed/relaxed; d=iol.unh.edu; s=unh-iol; t=1752260300; x=1752865100; darn=dpdk.org; h=references:in-reply-to:cc:to:from:subject:message-id:date:from:to :cc:subject:date:message-id:reply-to; bh=3o8YDjthWxy/CcDxrnhA19sZ5/OH98588AMkBWKDQxM=; b=HiEXVOLLdbjszwGMyaw+WRcQL6ClcYSSrq13Zn9dD58mOZ5hfFbt9dk/prdqIM9liZ iSyANtTWSwQ4izVIzQUGInK9/mu1n2nLaD/wMN4EG2wMtvxvSbRV0EVcBd5ZPjF0bWhz byZiz7I/KUx7XL0G1I3HNjN3Ouei6VLzExn0Q= X-Google-DKIM-Signature: v=1; a=rsa-sha256; c=relaxed/relaxed; d=1e100.net; s=20230601; t=1752260300; x=1752865100; h=references:in-reply-to:cc:to:from:subject:message-id:date :x-gm-message-state:from:to:cc:subject:date:message-id:reply-to; bh=3o8YDjthWxy/CcDxrnhA19sZ5/OH98588AMkBWKDQxM=; b=nDyfVMRY9xRFhyrO5UMhLK4Xyzg42YajG1o6nOhAI4aYDDA/yG3yDjP6ecFKJif6hw 7Vp+SSQuAO3fQ9orP/p0IIpPBiUI3fthfqOtUMEJtDOhpv3fNjlE+e29cc3lIVM6fKwd ARdE146Q9S27Mm0wOjQz5Vr21FmgEzkyIXxA7cNwQyBc8Wmenohhlw4I11wFs4ieO5CW VDBCZY31B7FIiDHHDT0lYFtfnmbHBZJZv8gicoxzdMLZGlPydB3Y1OQo4mL92328K12A huEDJUcMESlaqE/SnnojmB72BB+yJhIggUxsOBEz7PeQGxs6TlVSgAespE/embS4vW6z Qdyg== X-Gm-Message-State: AOJu0YwPRAbKH434FSWZGocxc3nOuJmAD7Taa6Wwf86wfNpElsyBzCPf 59z9OAXsG63/Sd/O/cSuNi5tYsAdn8DgftIgeFlw41CHgmv2cA0ro9yz8eQsNo3bOMFvk0kitoM SQKphey4gG2UmP88Y6s514k1nRIE9deE3GXKB8gtOdjOcr2mAOQQJwnHElJL4 X-Gm-Gg: ASbGncvUPlVf3hHvgfYhFGGKteOWWR6lOfVbHRiK8KAVorIfgogm9k89B2yhv0r3DR0 l/T5SXPNWlzLzdvWV8J0aoivg8Ax2X72vKCqX7E/lzfiB3CwnNvbVgEp/CxogM5COtIpYeUG15t Vjk4dsK+GBaCRhG3ETruBQEZm+xPYIJFdWKYw4qoSNXpm8VqI//VvijsUvNhDfaiqQeLsaU5/Od ee2K5OQIrjeFEUnqdHUoVjP+ErDdyf+vovG1BnAVHHvPAvfFCegj5HiGnGm0y5W0GV6bh2WyDMG i/ZpkuOvVmrUti5P75L85scgyiq265ryWgf7s5EYI5jL0BY/zg== X-Google-Smtp-Source: AGHT+IG81k3Rj3R+6/QZ/bDOviGyh12ZEf009w+ACDMcV4KDbJ5ES9R9B1UQQy37UDqTcmubiLXE3iGk1Ga5 X-Received: by 2002:a17:903:b90:b0:215:8d49:e2a7 with SMTP id d9443c01a7336-23dee0df9f1mr51978335ad.50.1752260300229; Fri, 11 Jul 2025 11:58:20 -0700 (PDT) Received: from postal.iol.unh.edu (postal.iol.unh.edu. [2606:4100:3880:1234::84]) by smtp-relay.gmail.com with ESMTPS id d9443c01a7336-23de43227f7sm2286565ad.80.2025.07.11.11.58.20 (version=TLS1_2 cipher=ECDHE-ECDSA-AES128-GCM-SHA256 bits=128/128); Fri, 11 Jul 2025 11:58:20 -0700 (PDT) X-Relaying-Domain: iol.unh.edu Date: Fri, 11 Jul 2025 11:58:20 -0700 (PDT) Message-ID: <68715ecc.170a0220.3cc90.d575SMTPIN_ADDED_MISSING@mx.google.com> Received: from [172.21.0.5] (unknown [172.18.0.240]) by postal.iol.unh.edu (Postfix) with ESMTP id AE1926050A61; Fri, 11 Jul 2025 14:58:19 -0400 (EDT) Subject: |SUCCESS| pw155164-155166 [PATCH] [v3,3/3] doc: revise coding guidel From: dpdklab@iol.unh.edu To: Test Report Cc: dpdk-test-reports@iol.unh.edu In-Reply-To: <20250711172534.540416-3-dmarx@iol.unh.edu> References: <20250711172534.540416-3-dmarx@iol.unh.edu> Content-Type: text/plain X-BeenThere: test-report@dpdk.org X-Mailman-Version: 2.1.29 Precedence: list List-Id: automatic DPDK test reports List-Unsubscribe: , List-Archive: List-Post: List-Help: List-Subscribe: , Errors-To: test-report-bounces@dpdk.org Test-Label: iol-unit-amd64-testing Test-Status: SUCCESS http://dpdk.org/patch/155166 _Testing PASS_ Submitter: Dean Marx Date: Friday, July 11 2025 17:24:55 DPDK git baseline: Repo:dpdk Branch: master CommitID:9fe9c0b231c8da5435bfccb1963121b4277f961c 155164-155166 --> testing pass Upstream job id: Generic-Unit-Test-DPDK#354857 Test environment and result as below: +-------------------------------+----------------+ | Environment | dpdk_unit_test | +===============================+================+ | CentOS Stream 9 | PASS | +-------------------------------+----------------+ | Fedora Linux 40 | PASS | +-------------------------------+----------------+ | Debian GNU/Linux 12 | PASS | +-------------------------------+----------------+ | Fedora Linux 41 | PASS | +-------------------------------+----------------+ | Red Hat Enterprise Linux 8.10 | PASS | +-------------------------------+----------------+ | CentOS Stream 10 | PASS | +-------------------------------+----------------+ | Red Hat Enterprise Linux 9.5 | PASS | +-------------------------------+----------------+ | Ubuntu 22.04 | PASS | +-------------------------------+----------------+ | Ubuntu 24.04 | PASS | +-------------------------------+----------------+ | Ubuntu 20.04 | PASS | +-------------------------------+----------------+ | Windows Server 2022 | PASS | +-------------------------------+----------------+ CentOS Stream 9 Kernel: 5.15 Compiler: gcc gcc (GCC) 11.5.0 20240719 (Red Hat 11.5.0-7) Fedora Linux 40 Kernel: 5.15 Compiler: gcc gcc (GCC) 14.2.1 20240912 (Red Hat 14.2.1-3) Debian GNU/Linux 12 Kernel: 5.15 Compiler: gcc gcc (Debian 12.2.0-14+deb12u1) 12.2.0 Fedora Linux 41 Kernel: 5.15 Compiler: clang gcc (GCC) 14.3.1 20250523 (Red Hat 14.3.1-1) Red Hat Enterprise Linux 8.10 Kernel: 5.15 Compiler: gcc gcc (GCC) 8.5.0 20210514 (Red Hat 8.5.0-22) CentOS Stream 10 Kernel: 5.15 Compiler: gcc gcc (GCC) 14.2.1 20250110 (Red Hat 14.2.1-8) Red Hat Enterprise Linux 9.5 Kernel: 5.15 Compiler: gcc gcc (GCC) 11.5.0 20240719 (Red Hat 11.5.0-2) Ubuntu 22.04 Kernel: 5.15 Compiler: gcc gcc (Ubuntu 11.4.0-1ubuntu1~22.04) 11.4.0 Ubuntu 24.04 Kernel: 5.15 Compiler: gcc gcc (Ubuntu 13.3.0-6ubuntu2~24.04) 13.3.0 Ubuntu 20.04 Kernel: 5.15 Compiler: gcc gcc (Ubuntu 9.4.0-1ubuntu1~20.04.2) 9.4.0 Windows Server 2022 Kernel: 10.0.20348.2031 Compiler: clang 15.0.7, gcc 14.1.0 (MinGW), and MSVC VS 19.39.33521 To view detailed results, visit: https://lab.dpdk.org/results/dashboard/patchsets/33639/ UNH-IOL DPDK Community Lab To manage your email subscriptions, visit: https://lab.dpdk.org/results/dashboard/preferences/subscriptions/