From mboxrd@z Thu Jan 1 00:00:00 1970 Return-Path: Received: from mails.dpdk.org (mails.dpdk.org [217.70.189.124]) by inbox.dpdk.org (Postfix) with ESMTP id 04C5046B4A for ; Fri, 11 Jul 2025 21:11:54 +0200 (CEST) Received: from mails.dpdk.org (localhost [127.0.0.1]) by mails.dpdk.org (Postfix) with ESMTP id CD25E4013F; Fri, 11 Jul 2025 21:11:54 +0200 (CEST) Received: from mail-yw1-f226.google.com (mail-yw1-f226.google.com [209.85.128.226]) by mails.dpdk.org (Postfix) with ESMTP id 6C9CC4013F for ; Fri, 11 Jul 2025 21:11:53 +0200 (CEST) Received: by mail-yw1-f226.google.com with SMTP id 00721157ae682-70e77831d68so25926657b3.2 for ; Fri, 11 Jul 2025 12:11:53 -0700 (PDT) DKIM-Signature: v=1; a=rsa-sha256; c=relaxed/relaxed; d=iol.unh.edu; s=unh-iol; t=1752261113; x=1752865913; darn=dpdk.org; h=references:in-reply-to:cc:to:from:subject:message-id:date:from:to :cc:subject:date:message-id:reply-to; bh=TtF5JOXn1csffY1zD1U6l9veNOvkA9CgcpVjfF8Tl9I=; b=Fw7wJTnkcjO5/rT4Cnw5NU2BLzfr0axcwsFLAo529RCs9eUa4XAZm7w2eWyuxGM5o9 n4tvv48FOv/tDcNvI2FmdgP7jEi1GfiSbcXJKjgsqu6SnbMeJiX18GOQF4MmgrvB2aKJ ZhUZ/D0McWz8NTLBQa/sycwSvyEz3YwlUmpQA= X-Google-DKIM-Signature: v=1; a=rsa-sha256; c=relaxed/relaxed; d=1e100.net; s=20230601; t=1752261113; x=1752865913; h=references:in-reply-to:cc:to:from:subject:message-id:date :x-gm-message-state:from:to:cc:subject:date:message-id:reply-to; bh=TtF5JOXn1csffY1zD1U6l9veNOvkA9CgcpVjfF8Tl9I=; b=AGANtFto6xBGL+jpVbDfYX910T9to4HY5o+x3eQ1w/jKBY845Bgztc1DdmrrxQhbNQ 96hGmAZ1AVeg0Q70p3pGxLcRuOLTKAGPo3hBFRNDauSW82UY0eV9MBbyRYJtdXxNfoWH W3aIAR+Hg8/7Sn0MV/zCnyPibH3IMUW55wtMLwE0k031IH45ALCSHaz5g8VO3Gvocwfn wuijGGyetq8xrlx8ZTsYosE2dPo5yD11EMWWW5LRvGnCjtSrchdDFzqX30r//Dqjjy/f +HPdlfsW63NI9pdggy9v3Pc0XS6IPuEgmPVLUEgMYG6pc+BAPy9EJAVt1RCADF2M9LsC mW6A== X-Gm-Message-State: AOJu0Yxv4fL7vSBhjF2MW6YVXoExoE+awSUZjGZGtyK6cAP9RaKPKYVR UDOPQ6iWjogeb21fiSJNJK/BhIfAN02UM9C29/rO6q1kCvWstnXCCOwZpBW2O3ByKCE2XoP+kA/ iWfHTXehs7+zfUcMa38Xhia1NZyjFE7szEDP8ENUPDW9i X-Gm-Gg: ASbGncteP4v0ZKGd7ALTgsF2QfauFE5pBvRy/LJicocoyyraHh+gCdsw8CGxtM67cYa W4X8QhAZnzfl1AoI8B0GsDvNz4jfmuh6M4HUPRUyITMjn6BG/N7HkvxnxMtKoozGO8YBNS1kqgW FkaBG1UhX8f1zj9i1gcTOGbe5G9HAHw137a8FnGRxHQ3mECDd5ZrHaqe64Lojz+7GDKrMGOu6V9 T3wPaujQ3lBDEQhKCuuiUyiIHKewTJ+ow5YpxH1BLonEyG+GfmUFmdMP4jp/i3Nfik/AeWHpFau p3CrilxYVDwP4v2T6eyBQWyUY55PH7GRn4hTHaElwVI9yauKu4MkQc1XjHcxHcmVNJUhhJxa X-Google-Smtp-Source: AGHT+IHXed+a67YlWEfpRtlMfyJUAakhxYDo3VZA3n6QGI7l0wKjzOsCQ7fyeNcBehoFOVKj7KWu8LAoRwd+ X-Received: by 2002:a05:690c:6486:b0:70e:1bd8:a9c8 with SMTP id 00721157ae682-717d5dab2f2mr79535407b3.23.1752261112708; Fri, 11 Jul 2025 12:11:52 -0700 (PDT) Received: from postal.iol.unh.edu (postal.iol.unh.edu. [132.177.123.84]) by smtp-relay.gmail.com with ESMTPS id 00721157ae682-717c6201cbdsm1448907b3.38.2025.07.11.12.11.52 (version=TLS1_2 cipher=ECDHE-ECDSA-AES128-GCM-SHA256 bits=128/128); Fri, 11 Jul 2025 12:11:52 -0700 (PDT) X-Relaying-Domain: iol.unh.edu Date: Fri, 11 Jul 2025 12:11:52 -0700 (PDT) Message-ID: <687161f8.050a0220.5f696.7ef2SMTPIN_ADDED_MISSING@mx.google.com> Received: from [172.21.0.5] (unknown [172.18.0.240]) by postal.iol.unh.edu (Postfix) with ESMTP id 51274604D420; Fri, 11 Jul 2025 15:11:52 -0400 (EDT) Subject: |SUCCESS| pw155164-155166 [PATCH] [v3,3/3] doc: revise coding guidel From: dpdklab@iol.unh.edu To: Test Report Cc: dpdk-test-reports@iol.unh.edu In-Reply-To: <20250711172534.540416-3-dmarx@iol.unh.edu> References: <20250711172534.540416-3-dmarx@iol.unh.edu> Content-Type: text/plain X-BeenThere: test-report@dpdk.org X-Mailman-Version: 2.1.29 Precedence: list List-Id: automatic DPDK test reports List-Unsubscribe: , List-Archive: List-Post: List-Help: List-Subscribe: , Errors-To: test-report-bounces@dpdk.org Test-Label: iol-compile-amd64-testing Test-Status: SUCCESS http://dpdk.org/patch/155166 _Testing PASS_ Submitter: Dean Marx Date: Friday, July 11 2025 17:24:55 DPDK git baseline: Repo:dpdk Branch: master CommitID:9fe9c0b231c8da5435bfccb1963121b4277f961c 155164-155166 --> testing pass Upstream job id: Generic-DPDK-Compile-Meson#408089 Test environment and result as below: +-------------------------------+--------------------+-------------------+------------------+-------------------------+-------------------+----------------------+ | Environment | dpdk_meson_compile | dpdk_compile_spdk | dpdk_compile_ovs | dpdk_llvm_clang_compile | dpdk_msvc_compile | dpdk_mingw64_compile | +===============================+====================+===================+==================+=========================+===================+======================+ | CentOS Stream 9 | PASS | PASS | SKIPPED | SKIPPED | SKIPPED | SKIPPED | +-------------------------------+--------------------+-------------------+------------------+-------------------------+-------------------+----------------------+ | CentOS Stream 10 | PASS | SKIPPED | SKIPPED | SKIPPED | SKIPPED | SKIPPED | +-------------------------------+--------------------+-------------------+------------------+-------------------------+-------------------+----------------------+ | Fedora Linux 40 | PASS | PASS | SKIPPED | SKIPPED | SKIPPED | SKIPPED | +-------------------------------+--------------------+-------------------+------------------+-------------------------+-------------------+----------------------+ | Debian GNU/Linux 12 | PASS | PASS | SKIPPED | SKIPPED | SKIPPED | SKIPPED | +-------------------------------+--------------------+-------------------+------------------+-------------------------+-------------------+----------------------+ | Fedora Linux 41 | PASS | PASS | PASS | SKIPPED | SKIPPED | SKIPPED | +-------------------------------+--------------------+-------------------+------------------+-------------------------+-------------------+----------------------+ | openSUSE Leap 15.6 | PASS | SKIPPED | SKIPPED | SKIPPED | SKIPPED | SKIPPED | +-------------------------------+--------------------+-------------------+------------------+-------------------------+-------------------+----------------------+ | Red Hat Enterprise Linux 8.10 | PASS | SKIPPED | SKIPPED | SKIPPED | SKIPPED | SKIPPED | +-------------------------------+--------------------+-------------------+------------------+-------------------------+-------------------+----------------------+ | FreeBSD 14.2 | PASS | SKIPPED | SKIPPED | SKIPPED | SKIPPED | SKIPPED | +-------------------------------+--------------------+-------------------+------------------+-------------------------+-------------------+----------------------+ | Red Hat Enterprise Linux 9.5 | PASS | SKIPPED | SKIPPED | SKIPPED | SKIPPED | SKIPPED | +-------------------------------+--------------------+-------------------+------------------+-------------------------+-------------------+----------------------+ | Ubuntu 20.04 | PASS | SKIPPED | SKIPPED | SKIPPED | SKIPPED | SKIPPED | +-------------------------------+--------------------+-------------------+------------------+-------------------------+-------------------+----------------------+ | Ubuntu 22.04 | PASS | PASS | SKIPPED | SKIPPED | SKIPPED | SKIPPED | +-------------------------------+--------------------+-------------------+------------------+-------------------------+-------------------+----------------------+ | Ubuntu 24.04 | PASS | PASS | PASS | SKIPPED | SKIPPED | SKIPPED | +-------------------------------+--------------------+-------------------+------------------+-------------------------+-------------------+----------------------+ | Alpine Linux 3.22.0 | PASS | SKIPPED | SKIPPED | SKIPPED | SKIPPED | SKIPPED | +-------------------------------+--------------------+-------------------+------------------+-------------------------+-------------------+----------------------+ | Windows Server 2022 | SKIPPED | SKIPPED | SKIPPED | PASS | PASS | PASS | +-------------------------------+--------------------+-------------------+------------------+-------------------------+-------------------+----------------------+ CentOS Stream 9 Kernel: 5.15 Compiler: gcc gcc (GCC) 11.5.0 20240719 (Red Hat 11.5.0-7) CentOS Stream 10 Kernel: 5.15 Compiler: gcc gcc (GCC) 14.2.1 20250110 (Red Hat 14.2.1-8) Fedora Linux 40 Kernel: 5.15 Compiler: clang gcc (GCC) 14.2.1 20240912 (Red Hat 14.2.1-3) Debian GNU/Linux 12 Kernel: 5.15 Compiler: gcc gcc (Debian 12.2.0-14+deb12u1) 12.2.0 Fedora Linux 41 Kernel: 5.15 Compiler: clang gcc (GCC) 14.3.1 20250523 (Red Hat 14.3.1-1) openSUSE Leap 15.6 Kernel: 5.15 Compiler: gcc gcc (SUSE Linux) 7.5.0 Red Hat Enterprise Linux 8.10 Kernel: 5.15 Compiler: gcc gcc (GCC) 8.5.0 20210514 (Red Hat 8.5.0-22) FreeBSD 14.2 Kernel: 14.2-RELEASE Compiler: clang 18.1.6 Red Hat Enterprise Linux 9.5 Kernel: 5.15 Compiler: gcc gcc (GCC) 11.5.0 20240719 (Red Hat 11.5.0-2) Ubuntu 20.04 Kernel: 5.15 Compiler: gcc gcc (Ubuntu 9.4.0-1ubuntu1~20.04.2) 9.4.0 Ubuntu 22.04 Kernel: 5.15 Compiler: gcc gcc (Ubuntu 11.4.0-1ubuntu1~22.04) 11.4.0 Ubuntu 24.04 Kernel: 5.15 Compiler: gcc gcc (Ubuntu 13.3.0-6ubuntu2~24.04) 13.3.0 Alpine Linux 3.22.0 Kernel: 5.15 Compiler: gcc gcc (Alpine 14.2.0) 14.2.0 Windows Server 2022 Kernel: 10.0.20348.2031 Compiler: clang 15.0.7, gcc 14.1.0 (MinGW), and MSVC VS 19.39.33521 To view detailed results, visit: https://lab.dpdk.org/results/dashboard/patchsets/33639/ UNH-IOL DPDK Community Lab To manage your email subscriptions, visit: https://lab.dpdk.org/results/dashboard/preferences/subscriptions/