From mboxrd@z Thu Jan 1 00:00:00 1970 Return-Path: Received: from mails.dpdk.org (mails.dpdk.org [217.70.189.124]) by inbox.dpdk.org (Postfix) with ESMTP id 10BC846B4A for ; Fri, 11 Jul 2025 21:25:42 +0200 (CEST) Received: from mails.dpdk.org (localhost [127.0.0.1]) by mails.dpdk.org (Postfix) with ESMTP id DD6204013F; Fri, 11 Jul 2025 21:25:41 +0200 (CEST) Received: from mail-qv1-f100.google.com (mail-qv1-f100.google.com [209.85.219.100]) by mails.dpdk.org (Postfix) with ESMTP id DE1144013F for ; Fri, 11 Jul 2025 21:25:40 +0200 (CEST) Received: by mail-qv1-f100.google.com with SMTP id 6a1803df08f44-70478ba562aso37977216d6.1 for ; Fri, 11 Jul 2025 12:25:40 -0700 (PDT) DKIM-Signature: v=1; a=rsa-sha256; c=relaxed/relaxed; d=iol.unh.edu; s=unh-iol; t=1752261940; x=1752866740; darn=dpdk.org; h=references:in-reply-to:cc:to:from:subject:message-id:date:from:to :cc:subject:date:message-id:reply-to; bh=KvcYAD9xhL9sXIbe8d3Yu330TbZJVCyXRLUs7txnJRk=; b=aJOGwwTQQZCvYcqzB1oGr+gVqkseqQEk8NB6a208bmkNBZxGqM2KAxqX+jRC9/uxb3 3cBGN28Nom2trI3UDo5sjI9isR0tBIhhUtmF+EElMYh3mPs0WRm2amlzXJYMqEzGD+SM UEcsu1qlXvqhhLdGxv9TJZ8cgKJzfzfB/plNA= X-Google-DKIM-Signature: v=1; a=rsa-sha256; c=relaxed/relaxed; d=1e100.net; s=20230601; t=1752261940; x=1752866740; h=references:in-reply-to:cc:to:from:subject:message-id:date :x-gm-message-state:from:to:cc:subject:date:message-id:reply-to; bh=KvcYAD9xhL9sXIbe8d3Yu330TbZJVCyXRLUs7txnJRk=; b=xLMy5uZenB3jAFNfelTjQkcyFpTyJgwcf1UbZYsr08EP8Mgvsd5WbCYWMUU6Sj+gij /N6OmSS/NBR/1NRuM6dVFbg+hydu1wjcUtNZT7PQ4tGmsutn/VpW1ZxWC6PcAdzwTZ4T FnGkFRdZXA4ipBWR9ktc7axX3+rqhTllPPTp8a89SfKJ/DrPdxTvVuZPRfzTZqxNKHVL Nm7USfi3YLdzrIQ3Q2pFF41tkGpTZDtHWy+HVnCclJWsK89mCU6uXj2gcG2kBTliZkB8 ct1T94fG9WJhhylhDZgwLz+m9FSz7WZF2U/t7kBVd3NE9c7zKXsdcuTxXUAWc882/yRG MPZw== X-Gm-Message-State: AOJu0Yx0ZAi6gaB4a/VJC6RkQpYD1hupn6JJnmlrzzSk0NXhG/S0aXEM flugp4l81W2q6pNZX13vGA/TrF092Wx/ZQC7Sb8TqGCWtVUXJ5udUMmrFh5pA/piLiA9JT8qXqU R2YbjIn3+T9eeW+023T1eWsAi7ELDYXN1wiWohndz8uQ9 X-Gm-Gg: ASbGncv4F50HIgHMrOKaOKi+Tn9akbvdordjk8hklDvu96han1wZFhrpS2zc2oADb7U fnB/R9viCS0Jo1tZesFeX7FOG5FKb5paPSkvZuR5dNp3e2xijKYDxyq2GlCI5cREFPCngfCtY1X 0jIDk55nifK+iDs/Ot70Y+l6pIm0DXGyKVAT0qizcQ3eNtpWdaizXhSgmhIuj0DcOAsVU43VGHl 7uwaU7DmRCfXmwwEOKnMFdyWItuoFy2cB6QgEWQYhgMJ6LXIKObDRhSjuMXiahhUd2mB9F34WpC geA3m5MdDxQs4rIm5rX5UdBXiQ837nnvbspcj/a1EeDk2Z1SoOQwhJalTUuFKsnKoYZsYk7D X-Google-Smtp-Source: AGHT+IHOI/rUg6tZJ9ppJMkfT2sLX7lKLdH1ZoyNCvuC0k234HigEwIWwVTeyggzgSw2nMf38YNMeutSOQdm X-Received: by 2002:a0c:f095:0:b0:704:78e1:5938 with SMTP id 6a1803df08f44-70495aba6a5mr113371776d6.13.1752261940130; Fri, 11 Jul 2025 12:25:40 -0700 (PDT) Received: from postal.iol.unh.edu (postal.iol.unh.edu. [132.177.123.84]) by smtp-relay.gmail.com with ESMTPS id 6a1803df08f44-70497d35c2fsm2053696d6.33.2025.07.11.12.25.40 (version=TLS1_2 cipher=ECDHE-ECDSA-AES128-GCM-SHA256 bits=128/128); Fri, 11 Jul 2025 12:25:40 -0700 (PDT) X-Relaying-Domain: iol.unh.edu Date: Fri, 11 Jul 2025 12:25:40 -0700 (PDT) Message-ID: <68716534.050a0220.3cae41.be7fSMTPIN_ADDED_MISSING@mx.google.com> Received: from [172.21.0.5] (unknown [172.18.0.240]) by postal.iol.unh.edu (Postfix) with ESMTP id D73BE604D420; Fri, 11 Jul 2025 15:25:39 -0400 (EDT) Subject: |SUCCESS| pw155164-155166 [PATCH] [v3,3/3] doc: revise coding guidel From: dpdklab@iol.unh.edu To: Test Report Cc: dpdk-test-reports@iol.unh.edu In-Reply-To: <20250711172534.540416-3-dmarx@iol.unh.edu> References: <20250711172534.540416-3-dmarx@iol.unh.edu> Content-Type: text/plain X-BeenThere: test-report@dpdk.org X-Mailman-Version: 2.1.29 Precedence: list List-Id: automatic DPDK test reports List-Unsubscribe: , List-Archive: List-Post: List-Help: List-Subscribe: , Errors-To: test-report-bounces@dpdk.org Test-Label: iol-unit-arm64-testing Test-Status: SUCCESS http://dpdk.org/patch/155166 _Testing PASS_ Submitter: Dean Marx Date: Friday, July 11 2025 17:24:55 DPDK git baseline: Repo:dpdk Branch: master CommitID:9fe9c0b231c8da5435bfccb1963121b4277f961c 155164-155166 --> testing pass Upstream job id: Generic-Unit-Test-DPDK#354852 Test environment and result as below: +------------------------------+--------------+------------------------------+---------------------------+----------------+ | Environment | lpm_autotest | cryptodev_sw_snow3g_autotest | cryptodev_sw_zuc_autotest | dpdk_unit_test | +==============================+==============+==============================+===========================+================+ | Ubuntu 20.04 | PASS | SKIPPED | SKIPPED | PASS | +------------------------------+--------------+------------------------------+---------------------------+----------------+ | Debian 12 (arm) | SKIPPED | PASS | PASS | SKIPPED | +------------------------------+--------------+------------------------------+---------------------------+----------------+ | CentOS Stream 10 | SKIPPED | SKIPPED | SKIPPED | PASS | +------------------------------+--------------+------------------------------+---------------------------+----------------+ | CentOS Stream 9 | SKIPPED | SKIPPED | SKIPPED | PASS | +------------------------------+--------------+------------------------------+---------------------------+----------------+ | Debian GNU/Linux 12 | SKIPPED | SKIPPED | SKIPPED | PASS | +------------------------------+--------------+------------------------------+---------------------------+----------------+ | Fedora Linux 40 | SKIPPED | SKIPPED | SKIPPED | PASS | +------------------------------+--------------+------------------------------+---------------------------+----------------+ | Red Hat Enterprise Linux 9.5 | SKIPPED | SKIPPED | SKIPPED | PASS | +------------------------------+--------------+------------------------------+---------------------------+----------------+ | Ubuntu 24.04 | SKIPPED | SKIPPED | SKIPPED | PASS | +------------------------------+--------------+------------------------------+---------------------------+----------------+ | Fedora Linux 41 | SKIPPED | SKIPPED | SKIPPED | PASS | +------------------------------+--------------+------------------------------+---------------------------+----------------+ | Ubuntu 22.04 | SKIPPED | SKIPPED | SKIPPED | PASS | +------------------------------+--------------+------------------------------+---------------------------+----------------+ Ubuntu 20.04 Kernel: 5.4 Compiler: gcc gcc (Ubuntu 9.4.0-1ubuntu1~20.04.2) 9.4.0 Debian 12 (arm) Kernel: Depends on container host Compiler: gcc (Debian 12.2.0-14) 12.2.0 CentOS Stream 10 Kernel: 5.4 Compiler: gcc gcc (GCC) 14.2.1 20250110 (Red Hat 14.2.1-8) CentOS Stream 9 Kernel: 5.4 Compiler: gcc gcc (GCC) 11.5.0 20240719 (Red Hat 11.5.0-7) Debian GNU/Linux 12 Kernel: 5.4 Compiler: gcc gcc (Debian 12.2.0-14+deb12u1) 12.2.0 Fedora Linux 40 Kernel: 5.4 Compiler: clang gcc (GCC) 14.2.1 20240912 (Red Hat 14.2.1-3) Red Hat Enterprise Linux 9.5 Kernel: 5.4 Compiler: gcc gcc (GCC) 11.5.0 20240719 (Red Hat 11.5.0-2) Ubuntu 24.04 Kernel: 5.4 Compiler: gcc gcc (Ubuntu 13.3.0-6ubuntu2~24.04) 13.3.0 Fedora Linux 41 Kernel: 5.4 Compiler: gcc gcc (GCC) 14.3.1 20250523 (Red Hat 14.3.1-1) Ubuntu 22.04 Kernel: 5.4 Compiler: gcc gcc (Ubuntu 11.4.0-1ubuntu1~22.04) 11.4.0 To view detailed results, visit: https://lab.dpdk.org/results/dashboard/patchsets/33639/ UNH-IOL DPDK Community Lab To manage your email subscriptions, visit: https://lab.dpdk.org/results/dashboard/preferences/subscriptions/