From mboxrd@z Thu Jan 1 00:00:00 1970 Return-Path: Received: from mails.dpdk.org (mails.dpdk.org [217.70.189.124]) by inbox.dpdk.org (Postfix) with ESMTP id 04EE646B4A for ; Fri, 11 Jul 2025 21:37:30 +0200 (CEST) Received: from mails.dpdk.org (localhost [127.0.0.1]) by mails.dpdk.org (Postfix) with ESMTP id CD7DC4013F; Fri, 11 Jul 2025 21:37:29 +0200 (CEST) Received: from mail-oa1-f99.google.com (mail-oa1-f99.google.com [209.85.160.99]) by mails.dpdk.org (Postfix) with ESMTP id 67E604013F for ; Fri, 11 Jul 2025 21:37:28 +0200 (CEST) Received: by mail-oa1-f99.google.com with SMTP id 586e51a60fabf-2ef8df09ce9so1501787fac.1 for ; Fri, 11 Jul 2025 12:37:28 -0700 (PDT) DKIM-Signature: v=1; a=rsa-sha256; c=relaxed/relaxed; d=iol.unh.edu; s=unh-iol; t=1752262647; x=1752867447; darn=dpdk.org; h=references:in-reply-to:cc:to:from:subject:message-id:date:from:to :cc:subject:date:message-id:reply-to; bh=3P5sfgbdFJdQ+KOD2ViS5RS6kQgSS0N//ilq7BFnI/E=; b=e7CO1lzCap04VbNYIspiW1qAYDrVsps7CX/rX7Y8D/ZNWV7ggEmUlVFJWTW1uvA/cs 0CPgxATU2t48jhgzGsrt7ifvd1aENaEuf7vz2y6mZsPt+nWwHmDyqTefJIOs+clrK2AR tb3oBKAZYTuyTqxvJlFHKhaPM4/J615T1R8gE= X-Google-DKIM-Signature: v=1; a=rsa-sha256; c=relaxed/relaxed; d=1e100.net; s=20230601; t=1752262647; x=1752867447; h=references:in-reply-to:cc:to:from:subject:message-id:date :x-gm-message-state:from:to:cc:subject:date:message-id:reply-to; bh=3P5sfgbdFJdQ+KOD2ViS5RS6kQgSS0N//ilq7BFnI/E=; b=nJxAt6GzCwnktAZV2nuMFBatemdAxaL+rP89uYbs+L3PvCVd1zDJ2phVGQda37Cs3/ BttBjgh4f4Ss7Qut3QI8lzXSibBqblr/oIN+9JoGutyJ3SR9coxTBZhjfqe5TUJ9jTXk qKsgC42kwunSW61lJrjbc0xwetOibCZ52VjSfmK2Uua6mC9p7Tgo+cbJamRSuVJRo7Vt xighgi+1lBmBG3p8E89roZSsWcI64yc6jSKTQFFbV08oO0gDuO4UeoN9/02KLrKDSORl 1CwMxPuC/EhPwzoNS4bQUXyKdyEEYsnCcetA/86ZyX1fSnk/ETUGEC6M7gUYsEA2bf50 fe3g== X-Gm-Message-State: AOJu0Yy3MdcLNvKoQ3D76gj/fDsU2sqEJHrSHk0ZvaRpc3b4JDvgQ1yT 9ks453JcH3Sa6xKYOQR50HvfeCnm09+BaKv5e8I+MXRX53Npm/ajTpZ/TD+ZaE+Ro3py6F5aAzW slQSFtQ5iJ2FOLBDrsHs8xFX2npGFmWwaGQ/h6iEpaetH X-Gm-Gg: ASbGncvThzr+ZSIyDAgvLY+0jcPhAdJSAiYnZzIYSZqZWqrv3hceiO61lgJ5k8VZhv9 wY0PhDJpS0bXSi+dEoszXsEAz4VwWbjxPhsxGJUDLTtGt2p6Wh6Wj7NLVxWqcOJhVpv9QGIYJY9 WnBtioGCEObatzfGZ/o6v3G36bqIMDQfyDmeFHocmZGel5h9Zc0yp0XlBh3WvUr9CoeXUsc9fGf ME8jhiID4i+nujqdL00v7yf03LQQOH7T3s7Qt9yBnNXfUQ8tXYnmgy8oFtMY2M8hXPZCx8JKzSs 4EQ3CBYbM20IbvI4afuSzVDFO9vWOwQSTL1VjFIEQqHktNRcwCEFoyrboOb0moj0zpvOwoXJ X-Google-Smtp-Source: AGHT+IEZVMRqsIneRx0OKCJfHKn1CatWsfPb7p1cXmND7hEhE9WKsx5wgJTSEZLOPMq0kM29/oCX6Zevs/S/ X-Received: by 2002:a05:6870:d88f:b0:2ea:87d7:5a35 with SMTP id 586e51a60fabf-2ff271b1c3bmr3789970fac.36.1752262647476; Fri, 11 Jul 2025 12:37:27 -0700 (PDT) Received: from postal.iol.unh.edu (postal.iol.unh.edu. [132.177.123.84]) by smtp-relay.gmail.com with ESMTPS id 586e51a60fabf-2ff1123857bsm317624fac.14.2025.07.11.12.37.27 (version=TLS1_2 cipher=ECDHE-ECDSA-AES128-GCM-SHA256 bits=128/128); Fri, 11 Jul 2025 12:37:27 -0700 (PDT) X-Relaying-Domain: iol.unh.edu Date: Fri, 11 Jul 2025 12:37:27 -0700 (PDT) Message-ID: <687167f7.050a0220.7c884.1104SMTPIN_ADDED_MISSING@mx.google.com> Received: from [172.21.0.5] (unknown [172.18.0.240]) by postal.iol.unh.edu (Postfix) with ESMTP id 1FBEB604D420; Fri, 11 Jul 2025 15:37:27 -0400 (EDT) Subject: |SUCCESS| pw155161-155163 [PATCH] [3/3] common/sfc_efx/base: fix com From: dpdklab@iol.unh.edu To: Test Report Cc: dpdk-test-reports@iol.unh.edu In-Reply-To: <20250711144349.9236-4-ivan.malov@arknetworks.am> References: <20250711144349.9236-4-ivan.malov@arknetworks.am> Content-Type: text/plain X-BeenThere: test-report@dpdk.org X-Mailman-Version: 2.1.29 Precedence: list List-Id: automatic DPDK test reports List-Unsubscribe: , List-Archive: List-Post: List-Help: List-Subscribe: , Errors-To: test-report-bounces@dpdk.org Test-Label: iol-compile-amd64-testing Test-Status: SUCCESS http://dpdk.org/patch/155163 _Testing PASS_ Submitter: Ivan Malov Date: Friday, July 11 2025 14:43:49 DPDK git baseline: Repo:dpdk Branch: master CommitID:9fe9c0b231c8da5435bfccb1963121b4277f961c 155161-155163 --> testing pass Upstream job id: Generic-DPDK-Compile-Meson#408003 Test environment and result as below: +-------------------------------+--------------------+-------------------+------------------+-------------------------+-------------------+----------------------+ | Environment | dpdk_meson_compile | dpdk_compile_spdk | dpdk_compile_ovs | dpdk_llvm_clang_compile | dpdk_msvc_compile | dpdk_mingw64_compile | +===============================+====================+===================+==================+=========================+===================+======================+ | Fedora Linux 40 | PASS | PASS | SKIPPED | SKIPPED | SKIPPED | SKIPPED | +-------------------------------+--------------------+-------------------+------------------+-------------------------+-------------------+----------------------+ | CentOS Stream 9 | PASS | PASS | SKIPPED | SKIPPED | SKIPPED | SKIPPED | +-------------------------------+--------------------+-------------------+------------------+-------------------------+-------------------+----------------------+ | Debian GNU/Linux 12 | PASS | PASS | SKIPPED | SKIPPED | SKIPPED | SKIPPED | +-------------------------------+--------------------+-------------------+------------------+-------------------------+-------------------+----------------------+ | CentOS Stream 10 | PASS | SKIPPED | SKIPPED | SKIPPED | SKIPPED | SKIPPED | +-------------------------------+--------------------+-------------------+------------------+-------------------------+-------------------+----------------------+ | openSUSE Leap 15.6 | PASS | SKIPPED | SKIPPED | SKIPPED | SKIPPED | SKIPPED | +-------------------------------+--------------------+-------------------+------------------+-------------------------+-------------------+----------------------+ | Red Hat Enterprise Linux 8.10 | PASS | SKIPPED | SKIPPED | SKIPPED | SKIPPED | SKIPPED | +-------------------------------+--------------------+-------------------+------------------+-------------------------+-------------------+----------------------+ | Fedora Linux 41 | PASS | PASS | PASS | SKIPPED | SKIPPED | SKIPPED | +-------------------------------+--------------------+-------------------+------------------+-------------------------+-------------------+----------------------+ | Ubuntu 20.04 | PASS | SKIPPED | SKIPPED | SKIPPED | SKIPPED | SKIPPED | +-------------------------------+--------------------+-------------------+------------------+-------------------------+-------------------+----------------------+ | Red Hat Enterprise Linux 9.5 | PASS | SKIPPED | SKIPPED | SKIPPED | SKIPPED | SKIPPED | +-------------------------------+--------------------+-------------------+------------------+-------------------------+-------------------+----------------------+ | FreeBSD 14.2 | PASS | SKIPPED | SKIPPED | SKIPPED | SKIPPED | SKIPPED | +-------------------------------+--------------------+-------------------+------------------+-------------------------+-------------------+----------------------+ | Ubuntu 24.04 | PASS | PASS | PASS | SKIPPED | SKIPPED | SKIPPED | +-------------------------------+--------------------+-------------------+------------------+-------------------------+-------------------+----------------------+ | Ubuntu 22.04 | PASS | PASS | SKIPPED | SKIPPED | SKIPPED | SKIPPED | +-------------------------------+--------------------+-------------------+------------------+-------------------------+-------------------+----------------------+ | Alpine Linux 3.22.0 | PASS | SKIPPED | SKIPPED | SKIPPED | SKIPPED | SKIPPED | +-------------------------------+--------------------+-------------------+------------------+-------------------------+-------------------+----------------------+ | Windows Server 2022 | SKIPPED | SKIPPED | SKIPPED | PASS | PASS | PASS | +-------------------------------+--------------------+-------------------+------------------+-------------------------+-------------------+----------------------+ Fedora Linux 40 Kernel: 5.15 Compiler: clang gcc (GCC) 14.2.1 20240912 (Red Hat 14.2.1-3) CentOS Stream 9 Kernel: 5.15 Compiler: gcc gcc (GCC) 11.5.0 20240719 (Red Hat 11.5.0-7) Debian GNU/Linux 12 Kernel: 5.15 Compiler: gcc gcc (Debian 12.2.0-14+deb12u1) 12.2.0 CentOS Stream 10 Kernel: 5.15 Compiler: gcc gcc (GCC) 14.2.1 20250110 (Red Hat 14.2.1-8) openSUSE Leap 15.6 Kernel: 5.15 Compiler: gcc gcc (SUSE Linux) 7.5.0 Red Hat Enterprise Linux 8.10 Kernel: 5.15 Compiler: gcc gcc (GCC) 8.5.0 20210514 (Red Hat 8.5.0-22) Fedora Linux 41 Kernel: 5.15 Compiler: clang gcc (GCC) 14.3.1 20250523 (Red Hat 14.3.1-1) Ubuntu 20.04 Kernel: 5.15 Compiler: gcc gcc (Ubuntu 9.4.0-1ubuntu1~20.04.2) 9.4.0 Red Hat Enterprise Linux 9.5 Kernel: 5.15 Compiler: gcc gcc (GCC) 11.5.0 20240719 (Red Hat 11.5.0-2) FreeBSD 14.2 Kernel: 14.2-RELEASE Compiler: clang 18.1.6 Ubuntu 24.04 Kernel: 5.15 Compiler: gcc gcc (Ubuntu 13.3.0-6ubuntu2~24.04) 13.3.0 Ubuntu 22.04 Kernel: 5.15 Compiler: gcc gcc (Ubuntu 11.4.0-1ubuntu1~22.04) 11.4.0 Alpine Linux 3.22.0 Kernel: 5.15 Compiler: gcc gcc (Alpine 14.2.0) 14.2.0 Windows Server 2022 Kernel: 10.0.20348.2031 Compiler: clang 15.0.7, gcc 14.1.0 (MinGW), and MSVC VS 19.39.33521 To view detailed results, visit: https://lab.dpdk.org/results/dashboard/patchsets/33638/ UNH-IOL DPDK Community Lab To manage your email subscriptions, visit: https://lab.dpdk.org/results/dashboard/preferences/subscriptions/