From mboxrd@z Thu Jan 1 00:00:00 1970 Return-Path: Received: from mails.dpdk.org (mails.dpdk.org [217.70.189.124]) by inbox.dpdk.org (Postfix) with ESMTP id A51EE46B4A for ; Fri, 11 Jul 2025 21:45:39 +0200 (CEST) Received: from mails.dpdk.org (localhost [127.0.0.1]) by mails.dpdk.org (Postfix) with ESMTP id 7ED974013F; Fri, 11 Jul 2025 21:45:39 +0200 (CEST) Received: from mail-io1-f100.google.com (mail-io1-f100.google.com [209.85.166.100]) by mails.dpdk.org (Postfix) with ESMTP id 8010B4013F for ; Fri, 11 Jul 2025 21:45:38 +0200 (CEST) Received: by mail-io1-f100.google.com with SMTP id ca18e2360f4ac-876ae3f7768so202716239f.0 for ; Fri, 11 Jul 2025 12:45:38 -0700 (PDT) DKIM-Signature: v=1; a=rsa-sha256; c=relaxed/relaxed; d=iol.unh.edu; s=unh-iol; t=1752263138; x=1752867938; darn=dpdk.org; h=references:in-reply-to:cc:to:from:subject:message-id:date:from:to :cc:subject:date:message-id:reply-to; bh=IodQtklRFRIe8/XciEiW0pQqeIXMmteF82VszWb9dno=; b=XR9GX7c79q3VJH6/B3I7djgjVAy0C7fKod0Nafsp6TCmGrJrWslbhfvXH4bpRp3HsK Uy+99whSPrHtsTPpOUHhMQQiThPTZUSPJc2DBdYIht6649S0dVEn2AcrQFIMXIfOv81f p8ssw+C+joloQAzwPzMBuewV2RwoY/Dr1PyKw= X-Google-DKIM-Signature: v=1; a=rsa-sha256; c=relaxed/relaxed; d=1e100.net; s=20230601; t=1752263138; x=1752867938; h=references:in-reply-to:cc:to:from:subject:message-id:date :x-gm-message-state:from:to:cc:subject:date:message-id:reply-to; bh=IodQtklRFRIe8/XciEiW0pQqeIXMmteF82VszWb9dno=; b=xQ5Iq+WnZy2zZVutccI8zSUxGxN5C8CfE478K8EE6lR9OjmLiSl+mSYwAlVnoNYiMx VpWPTpsfZHpEP0t7XcEdRvqjCKb5WPWXs6v4Yigio6AJTHUe9AUtpEvjlSayJZ+3Xv7F 4r2My28LPOyMdl06djQcFE0MnnDkFPoCicI54NtBt6uKpwoQXBcrbRMmWH1IcN4OIslp dRwUvfIih0Cb+EJQWNf1F3E95gDi/0S6hbVmGwF996xC7PJvTTNevjb8QHik9oLac2O8 Ey/CA0soeRxmU49XKex47nnrC8+eGip/wz2i5WM6qMbkDdA8qLaBKu8DUBJUQM98G6gb VeSQ== X-Gm-Message-State: AOJu0YyBn1n8eYolxikyUKgqXfsDwj/NcEpU6U0ekgAgL703Qxu3cbuu z3UC6Ep/RMsAldt1zi/9bfy69V0MRyaY/51KIY2+IKayII9ogPzrdQd0OTGj5hYnf64Dy8mcGoe Zn3gN4F8Oy/Lxga6VlFfzbOknC7c7zaq5QtGq6Dyz6q20 X-Gm-Gg: ASbGncsdtFtkW8nsav7fCo/YYLQ0PQ3tQofZTXNdkUXVHuYUwqhmTeMo0dsJ0Y4/XKv NGQKqWlzdAMpQS93eeCivoqXt/0L1+alzl22IlwC8I1Mbq40I2Ni8nHXiwuCtwmwbAP/FgOq5hY 5srwkAtmwG3wnqw3Iiw2xpFwItYhCm4c+gqBRv3nj7tXFsB1K4mfInFEvvbY+OHIEZhgCcdbEGf Olsl6Gptkabyz09f6IoLUhPvjf0GnAKLMTntP4s8b+IXyzl+esydrAYYbhZ6YYZAcXAzqx4GRbv 4g7qPs1GTnMw69U80LyLzx7lJqvqgwgkpR/tEc5jLsPqnwSXjsWWSrmG3PWQ2kY5hm0DwQQf X-Google-Smtp-Source: AGHT+IEjWF2nk9QEeCTo5tFVMGcfHeOLkyoao0Hiog1Dp3mKVkA4aTtuVy+PJKV7p9nxW5jHUWzccjmiZiUc X-Received: by 2002:a05:6602:6b0d:b0:876:8bf2:e4d2 with SMTP id ca18e2360f4ac-879787a2806mr577538739f.2.1752263137669; Fri, 11 Jul 2025 12:45:37 -0700 (PDT) Received: from postal.iol.unh.edu (postal.iol.unh.edu. [132.177.123.84]) by smtp-relay.gmail.com with ESMTPS id 8926c6da1cb9f-5055698468csm203404173.52.2025.07.11.12.45.37 (version=TLS1_2 cipher=ECDHE-ECDSA-AES128-GCM-SHA256 bits=128/128); Fri, 11 Jul 2025 12:45:37 -0700 (PDT) X-Relaying-Domain: iol.unh.edu Date: Fri, 11 Jul 2025 12:45:37 -0700 (PDT) Message-ID: <687169e1.050a0220.34496b.c0fbSMTPIN_ADDED_MISSING@mx.google.com> Received: from [172.21.0.5] (unknown [172.18.0.240]) by postal.iol.unh.edu (Postfix) with ESMTP id 2AC11604D420; Fri, 11 Jul 2025 15:45:37 -0400 (EDT) Subject: |SUCCESS| pw155160 [PATCH] maintainers: update for ethdev library From: dpdklab@iol.unh.edu To: Test Report Cc: dpdk-test-reports@iol.unh.edu In-Reply-To: <20250711144326.1288907-1-thomas@monjalon.net> References: <20250711144326.1288907-1-thomas@monjalon.net> Content-Type: text/plain X-BeenThere: test-report@dpdk.org X-Mailman-Version: 2.1.29 Precedence: list List-Id: automatic DPDK test reports List-Unsubscribe: , List-Archive: List-Post: List-Help: List-Subscribe: , Errors-To: test-report-bounces@dpdk.org Test-Label: iol-abi-testing Test-Status: SUCCESS http://dpdk.org/patch/155160 _Testing PASS_ Submitter: Thomas Monjalon Date: Friday, July 11 2025 14:43:25 DPDK git baseline: Repo:dpdk Branch: master CommitID:9fe9c0b231c8da5435bfccb1963121b4277f961c 155160 --> testing pass Upstream job id: Generic-DPDK-Compile-ABI#134083 Test environment and result as below: +-------------------------------+----------+ | Environment | abi_test | +===============================+==========+ | CentOS Stream 10 | PASS | +-------------------------------+----------+ | Fedora Linux 40 | PASS | +-------------------------------+----------+ | CentOS Stream 9 | PASS | +-------------------------------+----------+ | Fedora Linux 41 | PASS | +-------------------------------+----------+ | Ubuntu 24.04 | PASS | +-------------------------------+----------+ | Ubuntu 22.04 | PASS | +-------------------------------+----------+ | Red Hat Enterprise Linux 9.5 | PASS | +-------------------------------+----------+ | Red Hat Enterprise Linux 8.10 | PASS | +-------------------------------+----------+ | openSUSE Leap 15.6 | PASS | +-------------------------------+----------+ CentOS Stream 10 Kernel: 5.15 Compiler: gcc gcc (GCC) 14.2.1 20250110 (Red Hat 14.2.1-8) Fedora Linux 40 Kernel: 5.15 Compiler: gcc gcc (GCC) 14.2.1 20240912 (Red Hat 14.2.1-3) CentOS Stream 9 Kernel: 5.15 Compiler: gcc gcc (GCC) 11.5.0 20240719 (Red Hat 11.5.0-7) Fedora Linux 41 Kernel: 5.15 Compiler: clang gcc (GCC) 14.3.1 20250523 (Red Hat 14.3.1-1) Ubuntu 24.04 Kernel: 5.15 Compiler: gcc gcc (Ubuntu 13.3.0-6ubuntu2~24.04) 13.3.0 Ubuntu 22.04 Kernel: 5.15 Compiler: gcc gcc (Ubuntu 11.4.0-1ubuntu1~22.04) 11.4.0 Red Hat Enterprise Linux 9.5 Kernel: 5.15 Compiler: gcc gcc (GCC) 11.5.0 20240719 (Red Hat 11.5.0-2) Red Hat Enterprise Linux 8.10 Kernel: 5.15 Compiler: gcc gcc (GCC) 8.5.0 20210514 (Red Hat 8.5.0-22) openSUSE Leap 15.6 Kernel: 5.15 Compiler: gcc gcc (SUSE Linux) 7.5.0 To view detailed results, visit: https://lab.dpdk.org/results/dashboard/patchsets/33637/ UNH-IOL DPDK Community Lab To manage your email subscriptions, visit: https://lab.dpdk.org/results/dashboard/preferences/subscriptions/