From mboxrd@z Thu Jan 1 00:00:00 1970 Return-Path: Received: from mails.dpdk.org (mails.dpdk.org [217.70.189.124]) by inbox.dpdk.org (Postfix) with ESMTP id CFAF546B4A for ; Fri, 11 Jul 2025 21:47:24 +0200 (CEST) Received: from mails.dpdk.org (localhost [127.0.0.1]) by mails.dpdk.org (Postfix) with ESMTP id AB9CB4013F; Fri, 11 Jul 2025 21:47:24 +0200 (CEST) Received: from mail-il1-f227.google.com (mail-il1-f227.google.com [209.85.166.227]) by mails.dpdk.org (Postfix) with ESMTP id 09D8A4013F for ; Fri, 11 Jul 2025 21:47:22 +0200 (CEST) Received: by mail-il1-f227.google.com with SMTP id e9e14a558f8ab-3df303e45d3so7998245ab.0 for ; Fri, 11 Jul 2025 12:47:22 -0700 (PDT) DKIM-Signature: v=1; a=rsa-sha256; c=relaxed/relaxed; d=iol.unh.edu; s=unh-iol; t=1752263242; x=1752868042; darn=dpdk.org; h=references:in-reply-to:cc:to:from:subject:message-id:date:from:to :cc:subject:date:message-id:reply-to; bh=4AS2BE/jTa5qQxUfRLhtax1ugyTZOSPlhIudqg9H7mQ=; b=DpxZz7Ti27BkJrq779jfXPlzvky/IPKXRPPBMBOhsigUcqygA0S2FMWP9I8o1Xl4GR GAClHmzVYnxGedp/ELgjM0vxrJN/LpK4wnPArG05qVAIdrPnAUPdv+WAGIZx67VDav8o +Z9ZE4TwP7gl94SIqtXZAEaRNCbju8+bLY1iw= X-Google-DKIM-Signature: v=1; a=rsa-sha256; c=relaxed/relaxed; d=1e100.net; s=20230601; t=1752263242; x=1752868042; h=references:in-reply-to:cc:to:from:subject:message-id:date :x-gm-message-state:from:to:cc:subject:date:message-id:reply-to; bh=4AS2BE/jTa5qQxUfRLhtax1ugyTZOSPlhIudqg9H7mQ=; b=nchxrkcvcUcXmHAl3B38Cl03AMN+RgoSj6FWwOIi9b9bCGaoVs8XMdCqNcoWayN6cK rJLEZiTsCq9TQUkerttm6/DYle2lsbX1Sio+dtSOQW7Uzg/X9ypaMHICRtT4nhHKYO1d BKVsqSDcztbeB2bXLuCAdcG1h6CJCCyuuV/cUURUaqWA4F16jZVZJqfeD0sQvmgMC/sP S3WFuqi5gom5kQrVwKAeMlrUHet+maoDS2ZxAZrod7f/TpDRKTOl4ovyjd4H1pQA4wXU XAQOvs4fWNbk7z2PxjpuMI0gRSrMxBDF3tv1K/ErxwE7Damv9KrZJJU6D6T/AkMGHTIg Aobg== X-Gm-Message-State: AOJu0YxgvxKYDMpErA7SLeH/Dg3rr64/ejwE6xwveKYfpGROqp8Qim7e EBWnbeEQk8kFJrvO+4Ic/0qhhn1NTS3XkOX58Q3T3cN9Tdg/RMksDqG93YhuXHokka2kSoebhdP X+7M3f3IRD5v4Enk+Td0nsg8g2xvLAJkJhZl75SfDZ0vsPW5HWHqoPoxFstJM X-Gm-Gg: ASbGnct5DFcB89nS/orHPjSgse/5CBENoUD6ksnJo0oBd9flb4W/v/PErUyIXm46yWd WGuJ7TXgPsRyfBhFebl6x739t+c/rRmJoeWFP7SbYjVMiLurYA48jsOgHK2vm3SybYO5/24LTkP yX2jBE/FUp3FxGSM+rbjJw8D93GnEFJ3S4W0lSsEHuB/r7E9m9C/ZtrLithPFCtfF91uyEE0h7T mNHdUTIYCHfBgaoJiyiaR3BwkM05sgT0RfajR3/2q4Hp1dLofjWW6c7gTR6qZcTNrrG9w/WC8aS or1qAh1ZHykjuPrktO1n61Q9wtonSBPCqCrZekj8pKSasqBKbA== X-Google-Smtp-Source: AGHT+IEVxIrC+HnMqB15eJ/Q3pqWnpV5R0Bz9+gV6V9xvM90TPlSKTrxvr/daCQ5UazSes2XetbQhkEwa8FK X-Received: by 2002:a05:6e02:330e:b0:3df:43ac:af5a with SMTP id e9e14a558f8ab-3e25325377bmr62713385ab.2.1752263242245; Fri, 11 Jul 2025 12:47:22 -0700 (PDT) Received: from postal.iol.unh.edu (postal.iol.unh.edu. [2606:4100:3880:1234::84]) by smtp-relay.gmail.com with ESMTPS id e9e14a558f8ab-3e246213e8dsm2840645ab.47.2025.07.11.12.47.22 (version=TLS1_2 cipher=ECDHE-ECDSA-AES128-GCM-SHA256 bits=128/128); Fri, 11 Jul 2025 12:47:22 -0700 (PDT) X-Relaying-Domain: iol.unh.edu Date: Fri, 11 Jul 2025 12:47:22 -0700 (PDT) Message-ID: <68716a4a.050a0220.34b302.f404SMTPIN_ADDED_MISSING@mx.google.com> Received: from [172.21.0.5] (unknown [172.18.0.240]) by postal.iol.unh.edu (Postfix) with ESMTP id C1E3060003E7; Fri, 11 Jul 2025 15:47:21 -0400 (EDT) Subject: |SUCCESS| pw155160 [PATCH] maintainers: update for ethdev library From: dpdklab@iol.unh.edu To: Test Report Cc: dpdk-test-reports@iol.unh.edu In-Reply-To: <20250711144326.1288907-1-thomas@monjalon.net> References: <20250711144326.1288907-1-thomas@monjalon.net> Content-Type: text/plain X-BeenThere: test-report@dpdk.org X-Mailman-Version: 2.1.29 Precedence: list List-Id: automatic DPDK test reports List-Unsubscribe: , List-Archive: List-Post: List-Help: List-Subscribe: , Errors-To: test-report-bounces@dpdk.org Test-Label: iol-compile-arm64-testing Test-Status: SUCCESS http://dpdk.org/patch/155160 _Testing PASS_ Submitter: Thomas Monjalon Date: Friday, July 11 2025 14:43:25 DPDK git baseline: Repo:dpdk Branch: master CommitID:9fe9c0b231c8da5435bfccb1963121b4277f961c 155160 --> testing pass Upstream job id: Generic-DPDK-Compile-Meson#408057 Test environment and result as below: +------------------------------+--------------------+ | Environment | dpdk_meson_compile | +==============================+====================+ | Red Hat Enterprise Linux 9.5 | PASS | +------------------------------+--------------------+ | Ubuntu 20.04 | PASS | +------------------------------+--------------------+ | Debian GNU/Linux 12 | PASS | +------------------------------+--------------------+ | Fedora Linux 40 | PASS | +------------------------------+--------------------+ | Ubuntu 22.04 | PASS | +------------------------------+--------------------+ | Fedora Linux 41 | PASS | +------------------------------+--------------------+ | CentOS Stream 9 | PASS | +------------------------------+--------------------+ | CentOS Stream 10 | PASS | +------------------------------+--------------------+ | Ubuntu 24.04 | PASS | +------------------------------+--------------------+ Red Hat Enterprise Linux 9.5 Kernel: 5.4 Compiler: gcc gcc (GCC) 11.5.0 20240719 (Red Hat 11.5.0-2) Ubuntu 20.04 Kernel: 5.15 Compiler: aarch64-linux-gnu-gcc gcc (Ubuntu 9.4.0-1ubuntu1~20.04.2) 9.4.0 Debian GNU/Linux 12 Kernel: 5.4 Compiler: gcc gcc (Debian 12.2.0-14+deb12u1) 12.2.0 Fedora Linux 40 Kernel: 5.4 Compiler: gcc gcc (GCC) 14.2.1 20240912 (Red Hat 14.2.1-3) Ubuntu 22.04 Kernel: 5.4 Compiler: gcc gcc (Ubuntu 11.4.0-1ubuntu1~22.04) 11.4.0 Fedora Linux 41 Kernel: 5.4 Compiler: clang gcc (GCC) 14.3.1 20250523 (Red Hat 14.3.1-1) CentOS Stream 9 Kernel: 5.4 Compiler: gcc gcc (GCC) 11.5.0 20240719 (Red Hat 11.5.0-7) CentOS Stream 10 Kernel: 5.4 Compiler: gcc gcc (GCC) 14.2.1 20250110 (Red Hat 14.2.1-8) Ubuntu 24.04 Kernel: 5.4 Compiler: gcc gcc (Ubuntu 13.3.0-6ubuntu2~24.04) 13.3.0 To view detailed results, visit: https://lab.dpdk.org/results/dashboard/patchsets/33637/ UNH-IOL DPDK Community Lab To manage your email subscriptions, visit: https://lab.dpdk.org/results/dashboard/preferences/subscriptions/