From mboxrd@z Thu Jan 1 00:00:00 1970 Return-Path: Received: from mails.dpdk.org (mails.dpdk.org [217.70.189.124]) by inbox.dpdk.org (Postfix) with ESMTP id 573E646B4A for ; Fri, 11 Jul 2025 21:53:32 +0200 (CEST) Received: from mails.dpdk.org (localhost [127.0.0.1]) by mails.dpdk.org (Postfix) with ESMTP id 3CB3F4013F; Fri, 11 Jul 2025 21:53:32 +0200 (CEST) Received: from mail-yb1-f225.google.com (mail-yb1-f225.google.com [209.85.219.225]) by mails.dpdk.org (Postfix) with ESMTP id E91304013F for ; Fri, 11 Jul 2025 21:53:30 +0200 (CEST) Received: by mail-yb1-f225.google.com with SMTP id 3f1490d57ef6-e82314f9a51so2026413276.0 for ; Fri, 11 Jul 2025 12:53:30 -0700 (PDT) DKIM-Signature: v=1; a=rsa-sha256; c=relaxed/relaxed; d=iol.unh.edu; s=unh-iol; t=1752263610; x=1752868410; darn=dpdk.org; h=references:in-reply-to:cc:to:from:subject:message-id:date:from:to :cc:subject:date:message-id:reply-to; bh=d6IpsxnyHOjyxb2AvrDUBdaMxoEsuN/3BhcbWymt2uc=; b=URZ2Ox3/1g99IYvVRuCosTt51quy7TnQHbIY8KMJFr8JGXuMWaEMvKTQqXV5KBQgMI 2aFm3YBpq7emQEkOh8n0cEqqWdEBbI0QEoGh/eCLXvGFf5VcigFaQFhy9TPW0vsl5H+g G6YkGQOoDvp81Jdyc4sz7U7j2Bz2g+R+fZT9s= X-Google-DKIM-Signature: v=1; a=rsa-sha256; c=relaxed/relaxed; d=1e100.net; s=20230601; t=1752263610; x=1752868410; h=references:in-reply-to:cc:to:from:subject:message-id:date :x-gm-message-state:from:to:cc:subject:date:message-id:reply-to; bh=d6IpsxnyHOjyxb2AvrDUBdaMxoEsuN/3BhcbWymt2uc=; b=mN8HSl67oABq/5BoAMvYes/T3AjdoBFl2Wi1ozLksGGtlP4mvpJiKWiJqxDz72fyDG gt4R3XTRW3lDFBbgxtfmuTuhMkfEw0v4sce+SPGhcYT6yszhHIelBMMqF8yRbWfnUqTv j8j7WiUo8bIDBGH6yYCkXcKAjM4TmFs+Djx3rImQYVTypevDhubWIlTW8QKD79KMefLd Rs91ngQcrkq64dV2H2X79uazMO2EuLpQjAwkCt9Jg42AloYNeHjLixnKuVUeGkzdIL/p db2yjtmetbUWbbZMjW0YfuKlbgfZepvUQBZqb0aH0s3GpMfx5qckqoX9qvdVfBtL7MoX 9GzA== X-Gm-Message-State: AOJu0YwREcax+0ClyjK+tlJVkAkS35cPTc5iiTaizWHuNByNJrdqj4XH Tjv5VEuzvupsD97aXBk79cyGOh0DQDN5G5xH3RZWeNqD1U1ud3gvL44GP+lZwX8G9USdvgGBFGR DJEYThKxVDtpuJcKsREKGma9kSFy7a3Fw9YSGh4HLey9xnFLCwGMlgyvOQ+P/ X-Gm-Gg: ASbGncueaZcji0i68xTORnTPCqVD57ep6UDDELcRHYF+7yrQhmnYhQtHyLk8Um5gdPu +UejP2pwQ9Iy8jlo4XAo4tPdigyFHQql8q+Gj3agMb56FRVlHwkLbJ0cl3Msm5w5Cv3YEJK6+9V Qzg9S+vR/yf9jOhUis4t7d22rE34AePONBsDVrh2LW0v+wJmwzG6gUxVvwU3aagUAUL28b4czHN CXMmaigYaqoRbeYKRP3tTvXgQWYYJ2Ejp9s196UwVhsSpdhGyiizOtbIP5NZPbsWuUiyUi7kzr4 7xqhOCb/Si6czBd8lMo2v6lk/ktpNEFcWJP03+Jff8AbFUAuEg== X-Google-Smtp-Source: AGHT+IHvCdIoypsD0TzVB2qOW1OuEibT/xcjisvPXgHX26GIW92dgHNiDh+OAsV5snTQy3UobeV9Vtl2S8xs X-Received: by 2002:a05:6902:4583:b0:e81:b38f:6dec with SMTP id 3f1490d57ef6-e8b85b22697mr3904988276.34.1752263610086; Fri, 11 Jul 2025 12:53:30 -0700 (PDT) Received: from postal.iol.unh.edu (postal.iol.unh.edu. [2606:4100:3880:1234::84]) by smtp-relay.gmail.com with ESMTPS id 3f1490d57ef6-e8b7afe9a88sm217659276.21.2025.07.11.12.53.30 (version=TLS1_2 cipher=ECDHE-ECDSA-AES128-GCM-SHA256 bits=128/128); Fri, 11 Jul 2025 12:53:30 -0700 (PDT) X-Relaying-Domain: iol.unh.edu Date: Fri, 11 Jul 2025 12:53:30 -0700 (PDT) Message-ID: <68716bba.250a0220.5438e.c0a5SMTPIN_ADDED_MISSING@mx.google.com> Received: from [172.21.0.5] (unknown [172.18.0.240]) by postal.iol.unh.edu (Postfix) with ESMTP id BBC926050A61; Fri, 11 Jul 2025 15:53:29 -0400 (EDT) Subject: |SUCCESS| pw155161-155163 [PATCH] [3/3] common/sfc_efx/base: fix com From: dpdklab@iol.unh.edu To: Test Report Cc: dpdk-test-reports@iol.unh.edu In-Reply-To: <20250711144349.9236-4-ivan.malov@arknetworks.am> References: <20250711144349.9236-4-ivan.malov@arknetworks.am> Content-Type: text/plain X-BeenThere: test-report@dpdk.org X-Mailman-Version: 2.1.29 Precedence: list List-Id: automatic DPDK test reports List-Unsubscribe: , List-Archive: List-Post: List-Help: List-Subscribe: , Errors-To: test-report-bounces@dpdk.org Test-Label: iol-abi-testing Test-Status: SUCCESS http://dpdk.org/patch/155163 _Testing PASS_ Submitter: Ivan Malov Date: Friday, July 11 2025 14:43:49 DPDK git baseline: Repo:dpdk Branch: master CommitID:9fe9c0b231c8da5435bfccb1963121b4277f961c 155161-155163 --> testing pass Upstream job id: Generic-DPDK-Compile-ABI#134073 Test environment and result as below: +-------------------------------+----------+ | Environment | abi_test | +===============================+==========+ | CentOS Stream 10 | PASS | +-------------------------------+----------+ | CentOS Stream 9 | PASS | +-------------------------------+----------+ | Debian GNU/Linux 12 | PASS | +-------------------------------+----------+ | Fedora Linux 40 | PASS | +-------------------------------+----------+ | Fedora Linux 41 | PASS | +-------------------------------+----------+ | Red Hat Enterprise Linux 8.10 | PASS | +-------------------------------+----------+ | openSUSE Leap 15.6 | PASS | +-------------------------------+----------+ | Red Hat Enterprise Linux 9.5 | PASS | +-------------------------------+----------+ | Ubuntu 22.04 | PASS | +-------------------------------+----------+ | Ubuntu 24.04 | PASS | +-------------------------------+----------+ CentOS Stream 10 Kernel: 5.15 Compiler: gcc gcc (GCC) 14.2.1 20250110 (Red Hat 14.2.1-8) CentOS Stream 9 Kernel: 5.15 Compiler: gcc gcc (GCC) 11.5.0 20240719 (Red Hat 11.5.0-7) Debian GNU/Linux 12 Kernel: 5.15 Compiler: gcc gcc (Debian 12.2.0-14+deb12u1) 12.2.0 Fedora Linux 40 Kernel: 5.15 Compiler: clang gcc (GCC) 14.2.1 20240912 (Red Hat 14.2.1-3) Fedora Linux 41 Kernel: 5.15 Compiler: clang gcc (GCC) 14.3.1 20250523 (Red Hat 14.3.1-1) Red Hat Enterprise Linux 8.10 Kernel: 5.15 Compiler: gcc gcc (GCC) 8.5.0 20210514 (Red Hat 8.5.0-22) openSUSE Leap 15.6 Kernel: 5.15 Compiler: gcc gcc (SUSE Linux) 7.5.0 Red Hat Enterprise Linux 9.5 Kernel: 5.15 Compiler: gcc gcc (GCC) 11.5.0 20240719 (Red Hat 11.5.0-2) Ubuntu 22.04 Kernel: 5.15 Compiler: gcc gcc (Ubuntu 11.4.0-1ubuntu1~22.04) 11.4.0 Ubuntu 24.04 Kernel: 5.15 Compiler: gcc gcc (Ubuntu 13.3.0-6ubuntu2~24.04) 13.3.0 To view detailed results, visit: https://lab.dpdk.org/results/dashboard/patchsets/33638/ UNH-IOL DPDK Community Lab To manage your email subscriptions, visit: https://lab.dpdk.org/results/dashboard/preferences/subscriptions/