From mboxrd@z Thu Jan 1 00:00:00 1970 Return-Path: Received: from mails.dpdk.org (mails.dpdk.org [217.70.189.124]) by inbox.dpdk.org (Postfix) with ESMTP id 5EC9E46B4B for ; Fri, 11 Jul 2025 22:04:54 +0200 (CEST) Received: from mails.dpdk.org (localhost [127.0.0.1]) by mails.dpdk.org (Postfix) with ESMTP id 3120B4013F; Fri, 11 Jul 2025 22:04:54 +0200 (CEST) Received: from mail-pl1-f226.google.com (mail-pl1-f226.google.com [209.85.214.226]) by mails.dpdk.org (Postfix) with ESMTP id 348F14013F for ; Fri, 11 Jul 2025 22:04:52 +0200 (CEST) Received: by mail-pl1-f226.google.com with SMTP id d9443c01a7336-235f9e87f78so25030625ad.2 for ; Fri, 11 Jul 2025 13:04:52 -0700 (PDT) DKIM-Signature: v=1; a=rsa-sha256; c=relaxed/relaxed; d=iol.unh.edu; s=unh-iol; t=1752264291; x=1752869091; darn=dpdk.org; h=references:in-reply-to:cc:to:from:subject:message-id:date:from:to :cc:subject:date:message-id:reply-to; bh=Q+By0IKnO87+T+SErHtclZow/l8AWr95Z8+37ezvP2U=; b=QKQqplfivA4VM8QrP8qvbO23K8WEC7nH5JOcDQQBYe2Mh6bL/gzbavStLA5wDyaL/d qlrdax5ewfEqMU2jdSB8yWcNS6iFZxgvVx+DtAu2GIGwf2o4TkbzXi6ptxGoAkpnGD/+ NB3AWgtFhvGLXjWwN0z4amzrJP6F6/fBJeic4= X-Google-DKIM-Signature: v=1; a=rsa-sha256; c=relaxed/relaxed; d=1e100.net; s=20230601; t=1752264291; x=1752869091; h=references:in-reply-to:cc:to:from:subject:message-id:date :x-gm-message-state:from:to:cc:subject:date:message-id:reply-to; bh=Q+By0IKnO87+T+SErHtclZow/l8AWr95Z8+37ezvP2U=; b=MrcdG8Ip5mQBJUt3WQZbe9MpQfYgCFA6L5UMIjg56GlwXMqeemkyxNLJnxejpyQbyK gpS0VTpf2q9yCGdJgTk8RL4lhEUO3aRMwJGcTXGVqw/1b1jF9SdeqHdkaQ1z57ZpaMt9 n3lppcFNSwqGlyTHnrWU41hJrH1qTYN2QUTOT2WiWdlyL5qvnML0LTsGEOBeKUTxL0OO 1XVqh5GU3Q/ohmsZPjL8gceXYo3yvCl+yh7ZP29s5d/yZ6p15zR+Cz9TgY9Rm2ZJiql5 IPfSWaBW64tixZgmbUPAyTqw+6x1UzZGdrjSPY7DLVpdbyGofLLfxwDDfjynLmFALVZ7 5a5Q== X-Gm-Message-State: AOJu0YzisvSBAzH4LCG+e0KIjPHtPlMJ46ftmIXpHSSHGpYmjQTFpE+D 7lG1pza734Od5kImiJsgfwUFrzdDlHEjumxJmVShQPZjyJmL3dpbPYyzktxzKZVqhu0Qn5jObL9 4HLR7EwBRykAmKbdwKHL2I5V+yPbq3NjNlKuMEVKDRz0V X-Gm-Gg: ASbGncuT/XdOmabeAjdkFZN0Vc98yjLs3nfdDQaoZCwH7bc3IEwjLjTVRBK6HLcGzrh PuVGydbcabGrA0V9L/qQ/79/C9C7P3Ooj0bOCqQ6WBIg3Ux25u9MwXXCPQ71RO4wASUAvEcca2l jSdJxRa507ytGEJVReHLi354ZWrBO/BwrHePjtDZbQabzgNLZzyUkDjokSEUTMu0+2+9IgTdcj7 DSLVCggLenX+zYwpVGGjC4o58199DLM2r3mqy5ptum8ejRFU6mKtMITua2XE5e7Jk8m+TP8yWpM vAo5088BrVs7n4n+Vy9afxVtlOIvl895Hb+Re5DnMnz0rToN6cXbmh0ZQPt8mVf8gm2RaHmz X-Google-Smtp-Source: AGHT+IFb0jrlt67q1GK1aY8LFSKmjpSJGIxeid2hgHcHgfdEtY6OnQOiIu98rKc3IC5Xc1Ra2S0mNuPp6WxT X-Received: by 2002:a17:902:d587:b0:235:27b6:a891 with SMTP id d9443c01a7336-23dede7d510mr62086765ad.28.1752264291038; Fri, 11 Jul 2025 13:04:51 -0700 (PDT) Received: from postal.iol.unh.edu (postal.iol.unh.edu. [132.177.123.84]) by smtp-relay.gmail.com with ESMTPS id d9443c01a7336-23de42a35ebsm2346975ad.41.2025.07.11.13.04.50 (version=TLS1_2 cipher=ECDHE-ECDSA-AES128-GCM-SHA256 bits=128/128); Fri, 11 Jul 2025 13:04:51 -0700 (PDT) X-Relaying-Domain: iol.unh.edu Date: Fri, 11 Jul 2025 13:04:51 -0700 (PDT) Message-ID: <68716e63.170a0220.2cc182.c7c8SMTPIN_ADDED_MISSING@mx.google.com> Received: from [172.21.0.5] (unknown [172.18.0.240]) by postal.iol.unh.edu (Postfix) with ESMTP id F1D4C604D421; Fri, 11 Jul 2025 16:04:49 -0400 (EDT) Subject: |SUCCESS| pw155164-155166 [PATCH] [v3,3/3] doc: revise coding guidel From: dpdklab@iol.unh.edu To: Test Report Cc: dpdk-test-reports@iol.unh.edu In-Reply-To: <20250711172534.540416-3-dmarx@iol.unh.edu> References: <20250711172534.540416-3-dmarx@iol.unh.edu> Content-Type: text/plain X-BeenThere: test-report@dpdk.org X-Mailman-Version: 2.1.29 Precedence: list List-Id: automatic DPDK test reports List-Unsubscribe: , List-Archive: List-Post: List-Help: List-Subscribe: , Errors-To: test-report-bounces@dpdk.org Test-Label: iol-abi-testing Test-Status: SUCCESS http://dpdk.org/patch/155166 _Testing PASS_ Submitter: Dean Marx Date: Friday, July 11 2025 17:24:55 DPDK git baseline: Repo:dpdk Branch: master CommitID:9fe9c0b231c8da5435bfccb1963121b4277f961c 155164-155166 --> testing pass Upstream job id: Generic-DPDK-Compile-ABI#134090 Test environment and result as below: +-------------------------------+----------+ | Environment | abi_test | +===============================+==========+ | CentOS Stream 9 | PASS | +-------------------------------+----------+ | CentOS Stream 10 | PASS | +-------------------------------+----------+ | Debian GNU/Linux 12 | PASS | +-------------------------------+----------+ | Fedora Linux 41 | PASS | +-------------------------------+----------+ | Fedora Linux 40 | PASS | +-------------------------------+----------+ | Red Hat Enterprise Linux 8.10 | PASS | +-------------------------------+----------+ | Red Hat Enterprise Linux 9.5 | PASS | +-------------------------------+----------+ | openSUSE Leap 15.6 | PASS | +-------------------------------+----------+ | Ubuntu 24.04 | PASS | +-------------------------------+----------+ | Ubuntu 22.04 | PASS | +-------------------------------+----------+ CentOS Stream 9 Kernel: 5.15 Compiler: gcc gcc (GCC) 11.5.0 20240719 (Red Hat 11.5.0-7) CentOS Stream 10 Kernel: 5.15 Compiler: gcc gcc (GCC) 14.2.1 20250110 (Red Hat 14.2.1-8) Debian GNU/Linux 12 Kernel: 5.15 Compiler: gcc gcc (Debian 12.2.0-14+deb12u1) 12.2.0 Fedora Linux 41 Kernel: 5.15 Compiler: gcc gcc (GCC) 14.3.1 20250523 (Red Hat 14.3.1-1) Fedora Linux 40 Kernel: 5.15 Compiler: gcc gcc (GCC) 14.2.1 20240912 (Red Hat 14.2.1-3) Red Hat Enterprise Linux 8.10 Kernel: 5.15 Compiler: gcc gcc (GCC) 8.5.0 20210514 (Red Hat 8.5.0-22) Red Hat Enterprise Linux 9.5 Kernel: 5.15 Compiler: gcc gcc (GCC) 11.5.0 20240719 (Red Hat 11.5.0-2) openSUSE Leap 15.6 Kernel: 5.15 Compiler: gcc gcc (SUSE Linux) 7.5.0 Ubuntu 24.04 Kernel: 5.15 Compiler: gcc gcc (Ubuntu 13.3.0-6ubuntu2~24.04) 13.3.0 Ubuntu 22.04 Kernel: 5.15 Compiler: gcc gcc (Ubuntu 11.4.0-1ubuntu1~22.04) 11.4.0 To view detailed results, visit: https://lab.dpdk.org/results/dashboard/patchsets/33639/ UNH-IOL DPDK Community Lab To manage your email subscriptions, visit: https://lab.dpdk.org/results/dashboard/preferences/subscriptions/