From mboxrd@z Thu Jan 1 00:00:00 1970 Return-Path: Received: from mails.dpdk.org (mails.dpdk.org [217.70.189.124]) by inbox.dpdk.org (Postfix) with ESMTP id BD5C546B4B for ; Fri, 11 Jul 2025 23:09:54 +0200 (CEST) Received: from mails.dpdk.org (localhost [127.0.0.1]) by mails.dpdk.org (Postfix) with ESMTP id B25114013F; Fri, 11 Jul 2025 23:09:54 +0200 (CEST) Received: from mail-pl1-f226.google.com (mail-pl1-f226.google.com [209.85.214.226]) by mails.dpdk.org (Postfix) with ESMTP id 252AF4013F for ; Fri, 11 Jul 2025 23:09:54 +0200 (CEST) Received: by mail-pl1-f226.google.com with SMTP id d9443c01a7336-2352400344aso24240825ad.2 for ; Fri, 11 Jul 2025 14:09:54 -0700 (PDT) DKIM-Signature: v=1; a=rsa-sha256; c=relaxed/relaxed; d=iol.unh.edu; s=unh-iol; t=1752268193; x=1752872993; darn=dpdk.org; h=references:in-reply-to:cc:to:from:subject:message-id:date:from:to :cc:subject:date:message-id:reply-to; bh=rf5zwMcZqru7I88wt0GpE88nfSTgUO5dYtFQhrwJZfk=; b=Ups5IDQvG+i7AumhVcq+eJa4SV9X3jkddM0pFbImLCIyzP+eRGtFzX6vU+go8/bJi/ ZIft2AVW9mQjP/FOUmJmz2D0mTqTyMhQbtg7o8kKIrIr7w/YudIn3XWuMDYdT7Iz8Siy GM5RAAhzsp2pS7Yq3HlEo6jjDQsmCsZe0Ai+Q= X-Google-DKIM-Signature: v=1; a=rsa-sha256; c=relaxed/relaxed; d=1e100.net; s=20230601; t=1752268193; x=1752872993; h=references:in-reply-to:cc:to:from:subject:message-id:date :x-gm-message-state:from:to:cc:subject:date:message-id:reply-to; bh=rf5zwMcZqru7I88wt0GpE88nfSTgUO5dYtFQhrwJZfk=; b=lZ01pBFUk9ne4TxykHw0ZnNI5h4gBi2HkBW6fAC55zJtb78kN4LGXI9uzRSCa97vac +3IcebZwa94KDmitYL6zDh67WJj89fN3JwO0VoklFeJog7S5548AR/YklPO/SaCzlzX+ 6Rpd03znMyV9U91SVqJRKhIs3JhZWUEMNZIiuvYnqr1O5hWVK+BEs/MPgJQWbKCq4qKe BfuhfxdRb3TYktct0lQTnGXPmtHxpXz32ZedwB1PRxBw/qkte+ulwQ+SOlXU4c17Ugv2 qsPuWMrR6Ey8NOfqI0WNuLR7IoVTThL6IG2DSkP+uTHu8g8/FDnSahcw8bfuB2ueN4zh NzQw== X-Gm-Message-State: AOJu0Yy1LYkfrmIKjU3AUawhtlSg+ceisl3n5X3mdq0mpPyxp9ZAXNLK JsrqPyvX9dr9WM0WaotA7sRaZFb4keQriTmo2SGgTAY8sGBm3wi7oujiORvfSA8ugTjmSVL7lYy HjoJBrxtAA+po3cGjaM4shvWeaQ6gqMYazW0LjBspcVxrPDfejC8NeSqixgwD X-Gm-Gg: ASbGncu+Z90cQvNJdXJN6zaosbkrCYXNSYhhUTuLwzdMexiejtJPicvLMgirtcHSgro 7WQXUKvS4oMM6NkLjDNpRMHyKI8+FbkQR6k1Jaw8VYsi9O7xEPa5LStk8cFTCFdRC+r0tPhFnHR EEK92FEUx9fnWNXt5s609ff9Sp5UgttN7mXJzeeQQjuTiEhZOLlLDDsjK5ely+5O4lcK8BfCWQE ME3rxsDeaT9LNNHWCuGjvAF1dXpizIFygeePEdzHHrYvubANol55xnTt2huKT2R7spm4L3XzMQb K0i4gGvO+YTNghWcWrdfdX/6U33q1nVfWAWBD4pCjtsdp2Fz6Q== X-Google-Smtp-Source: AGHT+IGjvYe8LL5kIIR465qmKXLwf2iAjVO+0b7d/WiEnDT3MAzHsQQs4JjURYyor6rcRDBCztVXMRPSqCfy X-Received: by 2002:a17:903:1c5:b0:234:9497:69e3 with SMTP id d9443c01a7336-23df08e59d9mr44583875ad.25.1752268193214; Fri, 11 Jul 2025 14:09:53 -0700 (PDT) Received: from postal.iol.unh.edu (postal.iol.unh.edu. [2606:4100:3880:1234::84]) by smtp-relay.gmail.com with ESMTPS id d9443c01a7336-23de432f266sm2516085ad.88.2025.07.11.14.09.53 (version=TLS1_2 cipher=ECDHE-ECDSA-AES128-GCM-SHA256 bits=128/128); Fri, 11 Jul 2025 14:09:53 -0700 (PDT) X-Relaying-Domain: iol.unh.edu Date: Fri, 11 Jul 2025 14:09:53 -0700 (PDT) Message-ID: <68717da1.170a0220.4ebfb.da5dSMTPIN_ADDED_MISSING@mx.google.com> Received: from [172.21.0.6] (unknown [172.18.0.240]) by postal.iol.unh.edu (Postfix) with ESMTP id A6EF9604D420; Fri, 11 Jul 2025 17:09:52 -0400 (EDT) Subject: |SUCCESS| pw155164-155166 [PATCH] [v3,3/3] doc: revise coding guidel From: dpdklab@iol.unh.edu To: Test Report Cc: dpdk-test-reports@iol.unh.edu In-Reply-To: <20250711172534.540416-3-dmarx@iol.unh.edu> References: <20250711172534.540416-3-dmarx@iol.unh.edu> Content-Type: text/plain X-BeenThere: test-report@dpdk.org X-Mailman-Version: 2.1.29 Precedence: list List-Id: automatic DPDK test reports List-Unsubscribe: , List-Archive: List-Post: List-Help: List-Subscribe: , Errors-To: test-report-bounces@dpdk.org Test-Label: iol-compile-arm64-testing Test-Status: SUCCESS http://dpdk.org/patch/155166 _Testing PASS_ Submitter: Dean Marx Date: Friday, July 11 2025 17:24:55 DPDK git baseline: Repo:dpdk Branch: master CommitID:9fe9c0b231c8da5435bfccb1963121b4277f961c 155164-155166 --> testing pass Upstream job id: Generic-DPDK-Compile-Meson#408071 Test environment and result as below: +------------------------------+--------------------+ | Environment | dpdk_meson_compile | +==============================+====================+ | Red Hat Enterprise Linux 9.5 | PASS | +------------------------------+--------------------+ | Ubuntu 20.04 | PASS | +------------------------------+--------------------+ | Debian GNU/Linux 12 | PASS | +------------------------------+--------------------+ | Fedora Linux 40 | PASS | +------------------------------+--------------------+ | Fedora Linux 41 | PASS | +------------------------------+--------------------+ | Ubuntu 22.04 | PASS | +------------------------------+--------------------+ | Ubuntu 24.04 | PASS | +------------------------------+--------------------+ | CentOS Stream 9 | PASS | +------------------------------+--------------------+ | CentOS Stream 10 | PASS | +------------------------------+--------------------+ Red Hat Enterprise Linux 9.5 Kernel: 5.4 Compiler: gcc gcc (GCC) 11.5.0 20240719 (Red Hat 11.5.0-2) Ubuntu 20.04 Kernel: 5.15 Compiler: aarch64-linux-gnu-gcc gcc (Ubuntu 9.4.0-1ubuntu1~20.04.2) 9.4.0 Debian GNU/Linux 12 Kernel: 5.4 Compiler: gcc gcc (Debian 12.2.0-14+deb12u1) 12.2.0 Fedora Linux 40 Kernel: 5.4 Compiler: gcc gcc (GCC) 14.2.1 20240912 (Red Hat 14.2.1-3) Fedora Linux 41 Kernel: 5.4 Compiler: gcc gcc (GCC) 14.3.1 20250523 (Red Hat 14.3.1-1) Ubuntu 22.04 Kernel: 5.4 Compiler: gcc gcc (Ubuntu 11.4.0-1ubuntu1~22.04) 11.4.0 Ubuntu 24.04 Kernel: 5.4 Compiler: gcc gcc (Ubuntu 13.3.0-6ubuntu2~24.04) 13.3.0 CentOS Stream 9 Kernel: 5.4 Compiler: gcc gcc (GCC) 11.5.0 20240719 (Red Hat 11.5.0-7) CentOS Stream 10 Kernel: 5.4 Compiler: gcc gcc (GCC) 14.2.1 20250110 (Red Hat 14.2.1-8) To view detailed results, visit: https://lab.dpdk.org/results/dashboard/patchsets/33639/ UNH-IOL DPDK Community Lab To manage your email subscriptions, visit: https://lab.dpdk.org/results/dashboard/preferences/subscriptions/