From mboxrd@z Thu Jan 1 00:00:00 1970 Return-Path: Received: from mails.dpdk.org (mails.dpdk.org [217.70.189.124]) by inbox.dpdk.org (Postfix) with ESMTP id 4D63B46B4C for ; Sat, 12 Jul 2025 02:58:54 +0200 (CEST) Received: from mails.dpdk.org (localhost [127.0.0.1]) by mails.dpdk.org (Postfix) with ESMTP id 3F6974013F; Sat, 12 Jul 2025 02:58:54 +0200 (CEST) Received: from mail-pf1-f226.google.com (mail-pf1-f226.google.com [209.85.210.226]) by mails.dpdk.org (Postfix) with ESMTP id D767B4013F for ; Sat, 12 Jul 2025 02:58:52 +0200 (CEST) Received: by mail-pf1-f226.google.com with SMTP id d2e1a72fcca58-7481600130eso3255042b3a.3 for ; Fri, 11 Jul 2025 17:58:52 -0700 (PDT) DKIM-Signature: v=1; a=rsa-sha256; c=relaxed/relaxed; d=iol.unh.edu; s=unh-iol; t=1752281932; x=1752886732; darn=dpdk.org; h=cc:to:from:subject:message-id:date:from:to:cc:subject:date :message-id:reply-to; bh=KmvpUtbf5UES0cJhE96zVzbv5CDk/m//87WlatJrcx4=; b=a0Psk0q72hrSsnzaXEYG3J8r0QE5ToP8ZzSY/eLe89DMZDGOf5X1iqiRUCR73w9JPY A8ru8zvpHPhemttCBTuB8R9KKildfetykWzL7nGPTH/DgABdpN/ZsBOde5QeJj6NMdhh WLtX5BjkoLvHMrKKqGBt4Nkom1pvZBn55oorY= X-Google-DKIM-Signature: v=1; a=rsa-sha256; c=relaxed/relaxed; d=1e100.net; s=20230601; t=1752281932; x=1752886732; h=cc:to:from:subject:message-id:date:x-gm-message-state:from:to:cc :subject:date:message-id:reply-to; bh=KmvpUtbf5UES0cJhE96zVzbv5CDk/m//87WlatJrcx4=; b=nGYxgDZnOqJrgZFkzrsdRQ/yMKXBQe72TSMclZJLy6mHq71UMDy2+BaRRlASarFKbg NMT/OLm5LTSdieXdR5seDvH9FSj+jPU7A15hL6Wx9aIlxq7lPhT1nYAFBYes3QA6EKyo xQ+w+k+H0u0aoLaWtnL/qfErZPpuk3w638/2k8r3fPAoljWEkOg1Rds8uuZtkLJ70//D fKB1SIf5yF7z3xORqSVNIAV1rFJ+vrFdZ1mzIfeQE4L+mk6SU9nxGZWcS4I1skaH76KC gkJBnW/t7MZTvOscNTKBL3FCpYReazO1nb6y+51Hl6+WQbwhMUBq71Ye4tNQSuD/DzrP ja4Q== X-Gm-Message-State: AOJu0YwW26CVE4iuHN3pG/DzwfZOnmTz2EvFcFlDVQdLsf1k0+lHNsHQ z0YxoOYhaeE3DJy5fzR5TOoUOWB0ccEQYgMLeRlJgQIYhvaU2SDwfoWv/5PVux7/1FQaOjYdlbG jf6e6C7TPU9pS2kGAzTKfQapLGTWMegAnTdp9Lta7/HqP X-Gm-Gg: ASbGncs2ou43/OMaI0W/XoIplxNqZgU6HyVSHChYpJNsdXXDRh7zoipnMPzp8Nfh2qr 1oCQKXvueJfbpeHUdeWHAXoQ7DYs6Asg93yimBvu03fv2nX8qGfETR/TT84lhYb7y/MnKmANPJN 2QYSFa+IinmUcy3zv3Ga+OD2XcI/WzUJEwgVd3CDwwNuM/t5whzW3oTXMPMEoyLHn9AtuYgbwbi QQlgTS2YZYmF28UtzcISHKEhdK1QsepqrlNjC4w960XgLOBf70UwzqEj9+4PKce2pQnjm5ypA0u cJmxY2WU9S1rTuxSFfDIjdqNWIfHsAeVZhbw2Dgrqyy/Rz9HYW0bWnSrUedwRFwBZPSWCH4c X-Google-Smtp-Source: AGHT+IFk16z2tlEciv6Qm5yRh0WeoycrCj/OmEBmgJH11WcB6xVdeRBY7PwKRjLkelQ6jeiZxMaWaN5O9a0J X-Received: by 2002:a05:6a00:391e:b0:748:311a:8aef with SMTP id d2e1a72fcca58-74ee284c6f9mr7144080b3a.12.1752281931892; Fri, 11 Jul 2025 17:58:51 -0700 (PDT) Received: from postal.iol.unh.edu (postal.iol.unh.edu. [132.177.123.84]) by smtp-relay.gmail.com with ESMTPS id d2e1a72fcca58-74eb9e37134sm296985b3a.10.2025.07.11.17.58.51 (version=TLS1_2 cipher=ECDHE-ECDSA-AES128-GCM-SHA256 bits=128/128); Fri, 11 Jul 2025 17:58:51 -0700 (PDT) X-Relaying-Domain: iol.unh.edu Date: Fri, 11 Jul 2025 17:58:51 -0700 (PDT) Message-ID: <6871b34b.050a0220.35757.00d7SMTPIN_ADDED_MISSING@mx.google.com> Received: from [172.21.0.6] (unknown [172.18.0.240]) by postal.iol.unh.edu (Postfix) with ESMTP id 05D6A6051830; Fri, 11 Jul 2025 20:58:51 -0400 (EDT) Subject: |SUCCESS| [GIT MASTER] 9fe9c0b231c8da5435bfccb1963121b4277f961c From: dpdklab@iol.unh.edu To: Test Report Cc: dpdk-test-reports@iol.unh.edu Content-Type: text/plain X-BeenThere: test-report@dpdk.org X-Mailman-Version: 2.1.29 Precedence: list List-Id: automatic DPDK test reports List-Unsubscribe: , List-Archive: List-Post: List-Help: List-Subscribe: , Errors-To: test-report-bounces@dpdk.org _Testing PASS_ Branch: dpdk 9fe9c0b231c8da5435bfccb1963121b4277f961c --> testing pass Upstream job id: Generic-Unit-Test-DPDK#354903 Test environment and result as below: +-------------------------------+----------------+ | Environment | dpdk_unit_test | +===============================+================+ | CentOS Stream 10 | PASS | +-------------------------------+----------------+ | Arch Linux 20250613.0.365270 | PASS | +-------------------------------+----------------+ | CentOS Stream 9 | PASS | +-------------------------------+----------------+ | Debian GNU/Linux 12 | PASS | +-------------------------------+----------------+ | Fedora Linux 40 | PASS | +-------------------------------+----------------+ | Ubuntu 22.04 | PASS | +-------------------------------+----------------+ | Fedora Linux 41 | PASS | +-------------------------------+----------------+ | Red Hat Enterprise Linux 9.5 | PASS | +-------------------------------+----------------+ | Red Hat Enterprise Linux 8.10 | PASS | +-------------------------------+----------------+ | Ubuntu 24.04 | PASS | +-------------------------------+----------------+ | Ubuntu 20.04 | PASS | +-------------------------------+----------------+ | Windows Server 2022 | PASS | +-------------------------------+----------------+ CentOS Stream 10 Kernel: 5.15 Compiler: gcc gcc (GCC) 14.2.1 20250110 (Red Hat 14.2.1-8) Arch Linux 20250613.0.365270 Kernel: 5.15 Compiler: gcc gcc (GCC) 15.1.1 20250425 CentOS Stream 9 Kernel: 5.15 Compiler: gcc gcc (GCC) 11.5.0 20240719 (Red Hat 11.5.0-7) Debian GNU/Linux 12 Kernel: 5.15 Compiler: gcc gcc (Debian 12.2.0-14+deb12u1) 12.2.0 Fedora Linux 40 Kernel: 5.15 Compiler: gcc gcc (GCC) 14.2.1 20240912 (Red Hat 14.2.1-3) Ubuntu 22.04 Kernel: 5.15 Compiler: gcc gcc (Ubuntu 11.4.0-1ubuntu1~22.04) 11.4.0 Fedora Linux 41 Kernel: 5.15 Compiler: gcc gcc (GCC) 14.3.1 20250523 (Red Hat 14.3.1-1) Red Hat Enterprise Linux 9.5 Kernel: 5.15 Compiler: gcc gcc (GCC) 11.5.0 20240719 (Red Hat 11.5.0-2) Red Hat Enterprise Linux 8.10 Kernel: 5.15 Compiler: gcc gcc (GCC) 8.5.0 20210514 (Red Hat 8.5.0-22) Ubuntu 24.04 Kernel: 5.15 Compiler: gcc gcc (Ubuntu 13.3.0-6ubuntu2~24.04) 13.3.0 Ubuntu 20.04 Kernel: 5.15 Compiler: gcc gcc (Ubuntu 9.4.0-1ubuntu1~20.04.2) 9.4.0 Windows Server 2022 Kernel: 10.0.20348.2031 Compiler: clang 15.0.7, gcc 14.1.0 (MinGW), and MSVC VS 19.39.33521 To view detailed results, visit: https://lab.dpdk.org/results/dashboard/tarballs/34243/ UNH-IOL DPDK Community Lab To manage your email subscriptions, visit: https://lab.dpdk.org/results/dashboard/preferences/subscriptions/