From mboxrd@z Thu Jan 1 00:00:00 1970 Return-Path: Received: from mails.dpdk.org (mails.dpdk.org [217.70.189.124]) by inbox.dpdk.org (Postfix) with ESMTP id E887E46B4C for ; Sat, 12 Jul 2025 03:17:42 +0200 (CEST) Received: from mails.dpdk.org (localhost [127.0.0.1]) by mails.dpdk.org (Postfix) with ESMTP id E23844013F; Sat, 12 Jul 2025 03:17:42 +0200 (CEST) Received: from mail-pl1-f226.google.com (mail-pl1-f226.google.com [209.85.214.226]) by mails.dpdk.org (Postfix) with ESMTP id 16E034013F for ; Sat, 12 Jul 2025 03:17:41 +0200 (CEST) Received: by mail-pl1-f226.google.com with SMTP id d9443c01a7336-234d3261631so21910195ad.1 for ; Fri, 11 Jul 2025 18:17:41 -0700 (PDT) DKIM-Signature: v=1; a=rsa-sha256; c=relaxed/relaxed; d=iol.unh.edu; s=unh-iol; t=1752283060; x=1752887860; darn=dpdk.org; h=cc:to:from:subject:message-id:date:from:to:cc:subject:date :message-id:reply-to; bh=3Rkk4M01OQ0sYPapaamg5fZFzlm3NNrUgkIBQfOl6KI=; b=MVWy85xXuNEMSciZHQ+6VKTkfhVTuu9y2oRQvz1P/Vz39h2a24++lG62AgGMkJXaSZ YdOQTciPw4aWLpamZcsesGp+tOzMmkh5YP8bW8UaR1XiCRFgKrlOwZwv3x5WeVdVzSL9 mC8evtHoDEDGXgrQ280Gmbazrdqg48E6aTpj8= X-Google-DKIM-Signature: v=1; a=rsa-sha256; c=relaxed/relaxed; d=1e100.net; s=20230601; t=1752283060; x=1752887860; h=cc:to:from:subject:message-id:date:x-gm-message-state:from:to:cc :subject:date:message-id:reply-to; bh=3Rkk4M01OQ0sYPapaamg5fZFzlm3NNrUgkIBQfOl6KI=; b=jXwEjqba1qDrMAc4SnzG9Zv2G/iKqWP52iKIreheU87dRR6k88MqYKB9AZcXh4RzMS RFm62G2jrKiJfb3EKJvl/03gt1eHm3n609V7SgK3qdWJ5aQitwGkWMvoqo9oX+4aC5gL 1wuhERmh62oaXh76+uAW4S1GIS7B7oOjj+Umz7vOLfx4C8HbBJ+fkBLujBXmci3D/xBX d8GZjt/crffEBOJACm0UKoMjxI4ooUGUQZjGgwmhoTw6cAPAsDykFeTliCVTWynINz0T CE+se1wGiU5mLYWub3xRN/DygLm8CLbEH1xVvpwTjY0a8Y33Tu/RrnjQc1Ic/Q1+q3vz TXKw== X-Gm-Message-State: AOJu0Yyfa/xmCGn/sfbaqXgxyxtXb3sACltBLguJ1UIW0wfwTULEdhOh ZjG6KlfKj3jdPM7S+fdhE3KUneBCtIA1yhDaIB/5YfvPdltyLnivn+3hhlKNf2XZX+C9CYGBdE3 CmZamm9seYp43RsUjwv8gEWFqnC58UteebjbNp11Z7O8xKMgwPrlAhh3r8b56 X-Gm-Gg: ASbGnct2FxRd+Yj1CMMtCQBz1GuyqKVXrYoszQfzQDcsHBLDrVOCvlDmZPpiqvQreKQ DUKsg13kHlZNQPrFK38xEPgCzydVFn7V3UusmS+Tk6gMODzTSG2G8yYR3xxv2Jhng7hlilDsLNV n+PFWMDg/EN/JoP2ShnWBb2X9qVb5xiU3+VEzZxaryV5p9218arI/hUJ17XsrEAliYnes/OOqQM dDmJ6UkML4cbwy7jIJKhT9lcGysslRmj2UaDQuRVwLjdqIA8j+UTdlF89mruHcRKFy0IffQnKpl VQkRhvbMl+OlZkolTg/khPmgr+kofUM3gvj5onmU3xl0qjZZRw== X-Google-Smtp-Source: AGHT+IG0KEt9NP3PeU0UqHZ6f1uhO0fkz/TJUKc3crw+XeVs2ifMYie0lafT8UeOQLbg5ch3rKUPAl/7yNgy X-Received: by 2002:a17:903:1b2b:b0:234:f6ba:e681 with SMTP id d9443c01a7336-23dede2e884mr85124535ad.5.1752283060001; Fri, 11 Jul 2025 18:17:40 -0700 (PDT) Received: from postal.iol.unh.edu (postal.iol.unh.edu. [2606:4100:3880:1234::84]) by smtp-relay.gmail.com with ESMTPS id d9443c01a7336-23de4266a1fsm2614885ad.3.2025.07.11.18.17.39 (version=TLS1_2 cipher=ECDHE-ECDSA-AES128-GCM-SHA256 bits=128/128); Fri, 11 Jul 2025 18:17:39 -0700 (PDT) X-Relaying-Domain: iol.unh.edu Date: Fri, 11 Jul 2025 18:17:39 -0700 (PDT) Message-ID: <6871b7b3.170a0220.1e6169.e369SMTPIN_ADDED_MISSING@mx.google.com> Received: from [172.21.0.6] (unknown [172.18.0.240]) by postal.iol.unh.edu (Postfix) with ESMTP id 253FD6051830; Fri, 11 Jul 2025 21:17:39 -0400 (EDT) Subject: |SUCCESS| [GIT MASTER] 9fe9c0b231c8da5435bfccb1963121b4277f961c From: dpdklab@iol.unh.edu To: Test Report Cc: dpdk-test-reports@iol.unh.edu Content-Type: text/plain X-BeenThere: test-report@dpdk.org X-Mailman-Version: 2.1.29 Precedence: list List-Id: automatic DPDK test reports List-Unsubscribe: , List-Archive: List-Post: List-Help: List-Subscribe: , Errors-To: test-report-bounces@dpdk.org _Testing PASS_ Branch: dpdk 9fe9c0b231c8da5435bfccb1963121b4277f961c --> testing pass Upstream job id: Generic-DPDK-Compile-ABI#134110 Test environment and result as below: +-------------------------------+----------+ | Environment | abi_test | +===============================+==========+ | Red Hat Enterprise Linux 9.5 | PASS | +-------------------------------+----------+ | Fedora Linux 41 | PASS | +-------------------------------+----------+ | Fedora Linux 40 | PASS | +-------------------------------+----------+ | CentOS Stream 9 | PASS | +-------------------------------+----------+ | CentOS Stream 10 | PASS | +-------------------------------+----------+ | Debian GNU/Linux 12 | PASS | +-------------------------------+----------+ | openSUSE Leap 15.6 | PASS | +-------------------------------+----------+ | Arch Linux 20250613.0.365270 | PASS | +-------------------------------+----------+ | Ubuntu 24.04 | PASS | +-------------------------------+----------+ | Ubuntu 22.04 | PASS | +-------------------------------+----------+ | Red Hat Enterprise Linux 8.10 | PASS | +-------------------------------+----------+ Red Hat Enterprise Linux 9.5 Kernel: 5.15 Compiler: gcc gcc (GCC) 11.5.0 20240719 (Red Hat 11.5.0-2) Fedora Linux 41 Kernel: 5.15 Compiler: gcc gcc (GCC) 14.3.1 20250523 (Red Hat 14.3.1-1) Fedora Linux 40 Kernel: 5.15 Compiler: gcc gcc (GCC) 14.2.1 20240912 (Red Hat 14.2.1-3) CentOS Stream 9 Kernel: 5.15 Compiler: gcc gcc (GCC) 11.5.0 20240719 (Red Hat 11.5.0-7) CentOS Stream 10 Kernel: 5.15 Compiler: gcc gcc (GCC) 14.2.1 20250110 (Red Hat 14.2.1-8) Debian GNU/Linux 12 Kernel: 5.15 Compiler: gcc gcc (Debian 12.2.0-14+deb12u1) 12.2.0 openSUSE Leap 15.6 Kernel: 5.15 Compiler: gcc gcc (SUSE Linux) 7.5.0 Arch Linux 20250613.0.365270 Kernel: 5.15 Compiler: gcc gcc (GCC) 15.1.1 20250425 Ubuntu 24.04 Kernel: 5.15 Compiler: gcc gcc (Ubuntu 13.3.0-6ubuntu2~24.04) 13.3.0 Ubuntu 22.04 Kernel: 5.15 Compiler: gcc gcc (Ubuntu 11.4.0-1ubuntu1~22.04) 11.4.0 Red Hat Enterprise Linux 8.10 Kernel: 5.15 Compiler: gcc gcc (GCC) 8.5.0 20210514 (Red Hat 8.5.0-22) To view detailed results, visit: https://lab.dpdk.org/results/dashboard/tarballs/34243/ UNH-IOL DPDK Community Lab To manage your email subscriptions, visit: https://lab.dpdk.org/results/dashboard/preferences/subscriptions/