From mboxrd@z Thu Jan 1 00:00:00 1970 Return-Path: Received: from mails.dpdk.org (mails.dpdk.org [217.70.189.124]) by inbox.dpdk.org (Postfix) with ESMTP id B967A46B4C for ; Sat, 12 Jul 2025 03:25:34 +0200 (CEST) Received: from mails.dpdk.org (localhost [127.0.0.1]) by mails.dpdk.org (Postfix) with ESMTP id 98BA44013F; Sat, 12 Jul 2025 03:25:34 +0200 (CEST) Received: from mail-oa1-f99.google.com (mail-oa1-f99.google.com [209.85.160.99]) by mails.dpdk.org (Postfix) with ESMTP id C37404013F for ; Sat, 12 Jul 2025 03:25:32 +0200 (CEST) Received: by mail-oa1-f99.google.com with SMTP id 586e51a60fabf-2ef461b9daeso1739965fac.2 for ; Fri, 11 Jul 2025 18:25:32 -0700 (PDT) DKIM-Signature: v=1; a=rsa-sha256; c=relaxed/relaxed; d=iol.unh.edu; s=unh-iol; t=1752283532; x=1752888332; darn=dpdk.org; h=cc:to:from:subject:message-id:date:from:to:cc:subject:date :message-id:reply-to; bh=CzXLCFF10+0Skg0t+gIcdCuYSdze50oB13x9eA8gVNc=; b=J3i+/KxJt1AVBFc1p67Fpg9RBGO/XS3+4oos6qtBO8GaBA+YIModhbhcJ+ov34hooa duCt9jc/ErcoEd7m4mX35ihUdxwbw3pKzX5B64bT5c5Be6RzjgoI1jBWRaxOsyQVZTaP y44IfwksiLY6EWW5chFsLJfAJOVZUYSXrZgRU= X-Google-DKIM-Signature: v=1; a=rsa-sha256; c=relaxed/relaxed; d=1e100.net; s=20230601; t=1752283532; x=1752888332; h=cc:to:from:subject:message-id:date:x-gm-message-state:from:to:cc :subject:date:message-id:reply-to; bh=CzXLCFF10+0Skg0t+gIcdCuYSdze50oB13x9eA8gVNc=; b=eeVE0rJ3qH16+ky1izXBQazEH5NgXPh7jpwPaSsxHpb4H9VZjvnd3mc7AZOqvSlNpw qNnUjjDVW1Sw7r2obr8Sxg0uukvGY997PBUpV6rPMLfoAIN63GuGwPQCn/ISj/HUYZjZ iCiuxH/XarZXZ6K9UE+vMlNRrDy5vdFI4Hd0kHU91YGbbwGoPBsriXLls52lD4ljXtOv +22/pAk+Isz2/7x+dNgX5FRRP2R8souDgNYotMSqdtHoO+tQpnUri4v1ym59trO3Z9xI 8ftja1b43c+eQWLcQz/PWz3C0h6je70hayu2oZL1FYvsGat7C7hcibssgS8ibDIvZ5xc bDlg== X-Gm-Message-State: AOJu0YyfzqWicqPGiiW3E7pB2IHFu7JzEyDa3GFjISicH4GObucBeTP4 OnpXnoAjHpP9hi/BOwBhwQNO+if3awFV/iUqt3yZHPq8jAG6KyR3m0ezHYlPhXLKZMORNrutTBD Uy82HsysyoqufSLwk+qtNNZ3VocOWvfZwrl8ZICoAi3RrLCQOX9OS7enVtjmX X-Gm-Gg: ASbGncs4crDWC8dHT6/EYp8kvwwR2PlGWB4LTe6B7QwfZEY6xBqnu1dKC1ggB0SQ9oS PEckobc9giYkKMCm92/IpGMcWWVJUXUjMfG4SgDOGDRcXK2qH9sIUXQu+hOupQw48vOjjbBogQh CdgaX8ugmiHVc5axOJx4LU7KEBKp6crkTMgo30Y5R94oJUrQTT23yElO2jc0uwmmkudBJ1F9qPy l9XNCxB3NFl2vfM2lvUHP62cjeahoI9AvlWA2k/2gMNBuBFOWNHWsRZZOJa3wgXwHfMMzU/Zvl7 8nGLYcaJ/95veId1s2pkrQ5hBfvX1mLG7N6WDgMuYhj8HIdV0w== X-Google-Smtp-Source: AGHT+IFXnxSgb04rCd/qQWE0QUsTDNyJ/J3TQL/ZpLZVqCInDcMzhZxeJmvxJyDq6GHN7qQwYuk1YhkoJR2Q X-Received: by 2002:a05:6870:47aa:b0:2eb:87a9:7fc5 with SMTP id 586e51a60fabf-2ff2b531ed6mr3209120fac.16.1752283531928; Fri, 11 Jul 2025 18:25:31 -0700 (PDT) Received: from postal.iol.unh.edu (postal.iol.unh.edu. [2606:4100:3880:1234::84]) by smtp-relay.gmail.com with ESMTPS id 586e51a60fabf-2ff1179eaf8sm332907fac.38.2025.07.11.18.25.31 (version=TLS1_2 cipher=ECDHE-ECDSA-AES128-GCM-SHA256 bits=128/128); Fri, 11 Jul 2025 18:25:31 -0700 (PDT) X-Relaying-Domain: iol.unh.edu Date: Fri, 11 Jul 2025 18:25:31 -0700 (PDT) Message-ID: <6871b98b.050a0220.3bb608.1e11SMTPIN_ADDED_MISSING@mx.google.com> Received: from [172.21.0.5] (unknown [172.18.0.240]) by postal.iol.unh.edu (Postfix) with ESMTP id 6D13D6051830; Fri, 11 Jul 2025 21:25:31 -0400 (EDT) Subject: |SUCCESS| [GIT MASTER] 9fe9c0b231c8da5435bfccb1963121b4277f961c From: dpdklab@iol.unh.edu To: Test Report Cc: dpdk-test-reports@iol.unh.edu Content-Type: text/plain X-BeenThere: test-report@dpdk.org X-Mailman-Version: 2.1.29 Precedence: list List-Id: automatic DPDK test reports List-Unsubscribe: , List-Archive: List-Post: List-Help: List-Subscribe: , Errors-To: test-report-bounces@dpdk.org _Testing PASS_ Branch: dpdk 9fe9c0b231c8da5435bfccb1963121b4277f961c --> testing pass Upstream job id: Generic-Unit-Test-DPDK#354891 Test environment and result as below: +------------------------------+------------------------------+--------------+---------------------------+----------------+ | Environment | cryptodev_sw_snow3g_autotest | lpm_autotest | cryptodev_sw_zuc_autotest | dpdk_unit_test | +==============================+==============================+==============+===========================+================+ | Debian 12 (arm) | PASS | SKIPPED | PASS | SKIPPED | +------------------------------+------------------------------+--------------+---------------------------+----------------+ | Ubuntu 20.04 | SKIPPED | PASS | SKIPPED | PASS | +------------------------------+------------------------------+--------------+---------------------------+----------------+ | Fedora Linux 40 | SKIPPED | SKIPPED | SKIPPED | PASS | +------------------------------+------------------------------+--------------+---------------------------+----------------+ | CentOS Stream 9 | SKIPPED | SKIPPED | SKIPPED | PASS | +------------------------------+------------------------------+--------------+---------------------------+----------------+ | CentOS Stream 10 | SKIPPED | SKIPPED | SKIPPED | PASS | +------------------------------+------------------------------+--------------+---------------------------+----------------+ | Debian GNU/Linux 12 | SKIPPED | SKIPPED | SKIPPED | PASS | +------------------------------+------------------------------+--------------+---------------------------+----------------+ | Fedora Linux 41 | SKIPPED | SKIPPED | SKIPPED | PASS | +------------------------------+------------------------------+--------------+---------------------------+----------------+ | Ubuntu 24.04 | SKIPPED | SKIPPED | SKIPPED | PASS | +------------------------------+------------------------------+--------------+---------------------------+----------------+ | Red Hat Enterprise Linux 9.5 | SKIPPED | SKIPPED | SKIPPED | PASS | +------------------------------+------------------------------+--------------+---------------------------+----------------+ | Ubuntu 22.04 | SKIPPED | SKIPPED | SKIPPED | PASS | +------------------------------+------------------------------+--------------+---------------------------+----------------+ Debian 12 (arm) Kernel: Depends on container host Compiler: gcc (Debian 12.2.0-14) 12.2.0 Ubuntu 20.04 Kernel: 5.4 Compiler: gcc gcc (Ubuntu 9.4.0-1ubuntu1~20.04.2) 9.4.0 Fedora Linux 40 Kernel: 5.4 Compiler: gcc gcc (GCC) 14.2.1 20240912 (Red Hat 14.2.1-3) CentOS Stream 9 Kernel: 5.4 Compiler: gcc gcc (GCC) 11.5.0 20240719 (Red Hat 11.5.0-7) CentOS Stream 10 Kernel: 5.4 Compiler: gcc gcc (GCC) 14.2.1 20250110 (Red Hat 14.2.1-8) Debian GNU/Linux 12 Kernel: 5.4 Compiler: gcc gcc (Debian 12.2.0-14+deb12u1) 12.2.0 Fedora Linux 41 Kernel: 5.4 Compiler: clang gcc (GCC) 14.3.1 20250523 (Red Hat 14.3.1-1) Ubuntu 24.04 Kernel: 5.4 Compiler: gcc gcc (Ubuntu 13.3.0-6ubuntu2~24.04) 13.3.0 Red Hat Enterprise Linux 9.5 Kernel: 5.4 Compiler: gcc gcc (GCC) 11.5.0 20240719 (Red Hat 11.5.0-2) Ubuntu 22.04 Kernel: 5.4 Compiler: gcc gcc (Ubuntu 11.4.0-1ubuntu1~22.04) 11.4.0 To view detailed results, visit: https://lab.dpdk.org/results/dashboard/tarballs/34243/ UNH-IOL DPDK Community Lab To manage your email subscriptions, visit: https://lab.dpdk.org/results/dashboard/preferences/subscriptions/