From mboxrd@z Thu Jan 1 00:00:00 1970 Return-Path: Received: from mails.dpdk.org (mails.dpdk.org [217.70.189.124]) by inbox.dpdk.org (Postfix) with ESMTP id 7CC5346B4C for ; Sat, 12 Jul 2025 03:33:31 +0200 (CEST) Received: from mails.dpdk.org (localhost [127.0.0.1]) by mails.dpdk.org (Postfix) with ESMTP id 4BC124013F; Sat, 12 Jul 2025 03:33:31 +0200 (CEST) Received: from mail-pg1-f227.google.com (mail-pg1-f227.google.com [209.85.215.227]) by mails.dpdk.org (Postfix) with ESMTP id AE26F4013F for ; Sat, 12 Jul 2025 03:33:29 +0200 (CEST) Received: by mail-pg1-f227.google.com with SMTP id 41be03b00d2f7-b31d489a76dso2458664a12.1 for ; Fri, 11 Jul 2025 18:33:29 -0700 (PDT) DKIM-Signature: v=1; a=rsa-sha256; c=relaxed/relaxed; d=iol.unh.edu; s=unh-iol; t=1752284008; x=1752888808; darn=dpdk.org; h=cc:to:from:subject:message-id:date:from:to:cc:subject:date :message-id:reply-to; bh=BcTug3XZhNaT7lJVdaBFHpAVKsK42dWe8fVz6EYLcqo=; b=Nt3NPpYeTaj/wDfIWV//9Svp1x5vIU4GoNveU7kJf2zBtiId6+00jwSodyzfSyVG0T DYt4Fvux13wLAsXJNzI2KRXJqQ0k/i5XnRJZnlcRgsveL2anH2FeUKVTXj/aNCjvNIz3 RdLKfGZaL7Dt2YpG/dAzlx6jc9ATwKnw3B6IE= X-Google-DKIM-Signature: v=1; a=rsa-sha256; c=relaxed/relaxed; d=1e100.net; s=20230601; t=1752284008; x=1752888808; h=cc:to:from:subject:message-id:date:x-gm-message-state:from:to:cc :subject:date:message-id:reply-to; bh=BcTug3XZhNaT7lJVdaBFHpAVKsK42dWe8fVz6EYLcqo=; b=OoC4zgKIILa4iHlwOWiuYhWP6i+lWD8Z2MQRFSg/Dh+PoF9DlVFT6u2QzLcge1M4Kb gDAdTIBWNjvXLgVFw1VewBOCdRBOxGiwIXeDM2rURaABiu3jdV16E29eZGeDnHpX7VhT DDwx1OhInBHa+qPqRevtwEYbLKhnrp+wjmhWKJsHLv+2l7a4YTc9KfwVHdy1SrfS8wzB A8+EpqBcLcnhmq2YL6QIdGgN30PKEH8vxzTmF2VrU5vqrOSL4qJrjlT9/EZ+73Wd+j7l WQ1txyCQt9cqJw1NGZd/tZyYzTCPnarf42gKzCLqTlG70CjngufjDJPvBojCS748DxKY 42mA== X-Gm-Message-State: AOJu0Yz/hsUqN3olDTMY4ba8Za4WfCLPBAk9GFwzfcY5NFTz2tecUfkV /uBZM2b4KWxFPM77E2MVYUuHMM5HGiyamR7LMN/QY0CHPIYG0qcdaes+3q1IJ+Rw/em60AQ4bzK d42n+cUIUGHNeiKdwFmndCvoBbLvDSniOp/nGnzXzmFZ51t1RzgBRghxwX/+m X-Gm-Gg: ASbGncsw+PEQRKXqOP001wJqJUgAo/+9pto3ED2hpPHzoljcE/EOV5K5rV4G+DVqzfY F3WmLs0Y3hOwIwy9TAUKBVbsyljdT2E5RkPfnFwOSKbveCAMqRu+wlURL2/tRili3jjVHjDZkQo 2T/JO8Tqs5KweyGuuTAv+i0oLeXVDeTyjvCYp+tAgeod5xDiVsX+k5mG0QgtB4lk9TgtwMmyf8K aLNui/UcD/VWfDsY+UjH7q6tNrmd2nS1axFR5WGRuFkglma/GkYgaj3n3pYZgrKvKPRWTGyJM/S AKltAnRkvtr49nVBCxGdCLTf6xeLr6FRC7mlR1MQ156WiU27vg== X-Google-Smtp-Source: AGHT+IFMMFNuflkhMxdQtWAD5k41KbtNZNBTSB5AuphPiv0M+grsUM5A61M7FZ+dEz7oo8l44INe7d5EHN9f X-Received: by 2002:a17:90b:1845:b0:313:1a8c:c2d3 with SMTP id 98e67ed59e1d1-31c4f512a39mr6084234a91.22.1752284008627; Fri, 11 Jul 2025 18:33:28 -0700 (PDT) Received: from postal.iol.unh.edu (postal.iol.unh.edu. [2606:4100:3880:1234::84]) by smtp-relay.gmail.com with ESMTPS id 98e67ed59e1d1-31c3005fc0bsm341072a91.3.2025.07.11.18.33.28 (version=TLS1_2 cipher=ECDHE-ECDSA-AES128-GCM-SHA256 bits=128/128); Fri, 11 Jul 2025 18:33:28 -0700 (PDT) X-Relaying-Domain: iol.unh.edu Date: Fri, 11 Jul 2025 18:33:28 -0700 (PDT) Message-ID: <6871bb68.170a0220.53baa.2828SMTPIN_ADDED_MISSING@mx.google.com> Received: from [172.21.0.5] (unknown [172.18.0.240]) by postal.iol.unh.edu (Postfix) with ESMTP id 38D5C6051830; Fri, 11 Jul 2025 21:33:27 -0400 (EDT) Subject: |SUCCESS| [GIT MASTER] 9fe9c0b231c8da5435bfccb1963121b4277f961c From: dpdklab@iol.unh.edu To: Test Report Cc: dpdk-test-reports@iol.unh.edu Content-Type: text/plain X-BeenThere: test-report@dpdk.org X-Mailman-Version: 2.1.29 Precedence: list List-Id: automatic DPDK test reports List-Unsubscribe: , List-Archive: List-Post: List-Help: List-Subscribe: , Errors-To: test-report-bounces@dpdk.org _Testing PASS_ Branch: dpdk 9fe9c0b231c8da5435bfccb1963121b4277f961c --> testing pass Upstream job id: Generic-DPDK-Compile-Meson#408126 Test environment and result as below: +-------------------------------+--------------------+-------------------+------------------+-------------------------+-------------------+----------------------+ | Environment | dpdk_meson_compile | dpdk_compile_spdk | dpdk_compile_ovs | dpdk_llvm_clang_compile | dpdk_msvc_compile | dpdk_mingw64_compile | +===============================+====================+===================+==================+=========================+===================+======================+ | Fedora Linux 40 | PASS | PASS | SKIPPED | SKIPPED | SKIPPED | SKIPPED | +-------------------------------+--------------------+-------------------+------------------+-------------------------+-------------------+----------------------+ | CentOS Stream 10 | PASS | SKIPPED | SKIPPED | SKIPPED | SKIPPED | SKIPPED | +-------------------------------+--------------------+-------------------+------------------+-------------------------+-------------------+----------------------+ | Debian GNU/Linux 12 | PASS | PASS | SKIPPED | SKIPPED | SKIPPED | SKIPPED | +-------------------------------+--------------------+-------------------+------------------+-------------------------+-------------------+----------------------+ | CentOS Stream 9 | PASS | PASS | SKIPPED | SKIPPED | SKIPPED | SKIPPED | +-------------------------------+--------------------+-------------------+------------------+-------------------------+-------------------+----------------------+ | Ubuntu 22.04 | PASS | PASS | SKIPPED | SKIPPED | SKIPPED | SKIPPED | +-------------------------------+--------------------+-------------------+------------------+-------------------------+-------------------+----------------------+ | Fedora Linux 41 | PASS | PASS | PASS | SKIPPED | SKIPPED | SKIPPED | +-------------------------------+--------------------+-------------------+------------------+-------------------------+-------------------+----------------------+ | openSUSE Leap 15.6 | PASS | SKIPPED | SKIPPED | SKIPPED | SKIPPED | SKIPPED | +-------------------------------+--------------------+-------------------+------------------+-------------------------+-------------------+----------------------+ | Ubuntu 20.04 | PASS | SKIPPED | SKIPPED | SKIPPED | SKIPPED | SKIPPED | +-------------------------------+--------------------+-------------------+------------------+-------------------------+-------------------+----------------------+ | Red Hat Enterprise Linux 9.5 | PASS | SKIPPED | SKIPPED | SKIPPED | SKIPPED | SKIPPED | +-------------------------------+--------------------+-------------------+------------------+-------------------------+-------------------+----------------------+ | Red Hat Enterprise Linux 8.10 | PASS | SKIPPED | SKIPPED | SKIPPED | SKIPPED | SKIPPED | +-------------------------------+--------------------+-------------------+------------------+-------------------------+-------------------+----------------------+ | Ubuntu 24.04 | PASS | PASS | PASS | SKIPPED | SKIPPED | SKIPPED | +-------------------------------+--------------------+-------------------+------------------+-------------------------+-------------------+----------------------+ | Alpine Linux 3.22.0 | PASS | SKIPPED | SKIPPED | SKIPPED | SKIPPED | SKIPPED | +-------------------------------+--------------------+-------------------+------------------+-------------------------+-------------------+----------------------+ | Arch Linux 20250613.0.365270 | PASS | SKIPPED | SKIPPED | SKIPPED | SKIPPED | SKIPPED | +-------------------------------+--------------------+-------------------+------------------+-------------------------+-------------------+----------------------+ | FreeBSD 14.2 | PASS | SKIPPED | SKIPPED | SKIPPED | SKIPPED | SKIPPED | +-------------------------------+--------------------+-------------------+------------------+-------------------------+-------------------+----------------------+ | Windows Server 2022 | SKIPPED | SKIPPED | SKIPPED | PASS | PASS | PASS | +-------------------------------+--------------------+-------------------+------------------+-------------------------+-------------------+----------------------+ Fedora Linux 40 Kernel: 5.15 Compiler: gcc gcc (GCC) 14.2.1 20240912 (Red Hat 14.2.1-3) CentOS Stream 10 Kernel: 5.15 Compiler: gcc gcc (GCC) 14.2.1 20250110 (Red Hat 14.2.1-8) Debian GNU/Linux 12 Kernel: 5.15 Compiler: gcc gcc (Debian 12.2.0-14+deb12u1) 12.2.0 CentOS Stream 9 Kernel: 5.15 Compiler: gcc gcc (GCC) 11.5.0 20240719 (Red Hat 11.5.0-7) Ubuntu 22.04 Kernel: 5.15 Compiler: gcc gcc (Ubuntu 11.4.0-1ubuntu1~22.04) 11.4.0 Fedora Linux 41 Kernel: 5.15 Compiler: clang gcc (GCC) 14.3.1 20250523 (Red Hat 14.3.1-1) openSUSE Leap 15.6 Kernel: 5.15 Compiler: gcc gcc (SUSE Linux) 7.5.0 Ubuntu 20.04 Kernel: 5.15 Compiler: gcc gcc (Ubuntu 9.4.0-1ubuntu1~20.04.2) 9.4.0 Red Hat Enterprise Linux 9.5 Kernel: 5.15 Compiler: gcc gcc (GCC) 11.5.0 20240719 (Red Hat 11.5.0-2) Red Hat Enterprise Linux 8.10 Kernel: 5.15 Compiler: gcc gcc (GCC) 8.5.0 20210514 (Red Hat 8.5.0-22) Ubuntu 24.04 Kernel: 5.15 Compiler: gcc gcc (Ubuntu 13.3.0-6ubuntu2~24.04) 13.3.0 Alpine Linux 3.22.0 Kernel: 5.15 Compiler: gcc gcc (Alpine 14.2.0) 14.2.0 Arch Linux 20250613.0.365270 Kernel: 5.15 Compiler: gcc gcc (GCC) 15.1.1 20250425 FreeBSD 14.2 Kernel: 14.2-RELEASE Compiler: clang 18.1.6 Windows Server 2022 Kernel: 10.0.20348.2031 Compiler: clang 15.0.7, gcc 14.1.0 (MinGW), and MSVC VS 19.39.33521 To view detailed results, visit: https://lab.dpdk.org/results/dashboard/tarballs/34243/ UNH-IOL DPDK Community Lab To manage your email subscriptions, visit: https://lab.dpdk.org/results/dashboard/preferences/subscriptions/