From mboxrd@z Thu Jan 1 00:00:00 1970 Return-Path: Received: from mails.dpdk.org (mails.dpdk.org [217.70.189.124]) by inbox.dpdk.org (Postfix) with ESMTP id 7980146B4E for ; Sat, 12 Jul 2025 05:31:46 +0200 (CEST) Received: from mails.dpdk.org (localhost [127.0.0.1]) by mails.dpdk.org (Postfix) with ESMTP id 4D3EB4013F; Sat, 12 Jul 2025 05:31:46 +0200 (CEST) Received: from mail-io1-f98.google.com (mail-io1-f98.google.com [209.85.166.98]) by mails.dpdk.org (Postfix) with ESMTP id 9AF534013F for ; Sat, 12 Jul 2025 05:31:44 +0200 (CEST) Received: by mail-io1-f98.google.com with SMTP id ca18e2360f4ac-86cfc1b6dcaso92982639f.0 for ; Fri, 11 Jul 2025 20:31:44 -0700 (PDT) DKIM-Signature: v=1; a=rsa-sha256; c=relaxed/relaxed; d=iol.unh.edu; s=unh-iol; t=1752291104; x=1752895904; darn=dpdk.org; h=cc:to:from:subject:message-id:date:from:to:cc:subject:date :message-id:reply-to; bh=NGQwbWawG8kaKe1WvW+ZFKwhYEiO+SW0NKQK3RIjpcQ=; b=aQF4M+xd3+7J7y6cUQUgnfDhoOlPPPU7oUC3ucfaUedvmADiRvDccorS3nbKmKpJR2 uNzo2YwfC5sg5y+kIjCAWSlcXdS/PwJfbMJAb9suEy3a+/2/DezRlmBBs5+UbMsASc8m pm1YePf9OdCkm5aXcglnKFw7HUF6Hd6LQDYDU= X-Google-DKIM-Signature: v=1; a=rsa-sha256; c=relaxed/relaxed; d=1e100.net; s=20230601; t=1752291104; x=1752895904; h=cc:to:from:subject:message-id:date:x-gm-message-state:from:to:cc :subject:date:message-id:reply-to; bh=NGQwbWawG8kaKe1WvW+ZFKwhYEiO+SW0NKQK3RIjpcQ=; b=aNcwz7cWFhXlPLqx682PDtNA3xgVuLdtq6f+2D5NkeMNbMxZzel3ICZtHc+Jc0XRPk rW2w5yB3aGqgxJF6vBx2zPikwhi0cO2QAPT/P7eDJWo4GoVnL8CppUYUmGGpzb9U/ck5 joMmAyAZlvDfebR44Imp4ZvvNGigOguCy84n5wqERs4wuvDXBlDuwsViPCXpFguC1vAR DlOiYIGYeqf82rWtU688t4/lOJ1/Bf0RHeb4uZ/zWMYeG1ZPV2GXdsgSdiKjKnuJBAmd 5M3fV88NJiIA9MOYZihDcaVkKXQ2/cZ7aH/LKMob8xmECWf6NadbDyJp4D2auqP5I4TB BVSQ== X-Gm-Message-State: AOJu0YxqbF2zAvqI+56VGH9gGGFNqUjfouu/yDbFCdbfuq+01jqy17FL 9Tyz+VxKYfQv9q7UgJy1z7wAOUi42vB3j6s89+rQ2Y7xnTMx91d7pKdS2//lHU7dD6/HUT5rFEd LPC8Jank66/v0afoYLuvB66xxDz5TWcnzlwh6OScfdyH5BYXgihwiThHnw9IW X-Gm-Gg: ASbGncvrGLJSN/3olxnLNuilt6OXHtZsY7zGjMtD2SZRWyCw/6ph1L46zRitxPkFweW O0NQA95Dkk6v7JlBDwYgfx7QO6is+VzsOmVta//C6wvqrw2u/yTWJr4iwhHskYWMvN1GZf/U7S9 dFHUOgHi0Es7GtIQADDMMcyHU5VvaZUiJn70b+StR0B/HgD+TfsfteA5jMw63ECHf0np3yPq9sG TGqna21T+lJI2D7qge7Er7O6e5RmEe1O84RoDyGnVTkF1HZ/TsbYxiuoCxz4zJe2pR++aAqR7Hy uWhkV9mmZdzIgKeu8nTPWv6mdxHMIYmKHtJsCpO/rqWqIvsYzg== X-Google-Smtp-Source: AGHT+IELKNoOPfG41SDdhEJ1zx42r5z3e1N4yw+TR2LljhqGYsdNx4dwK2zdx5o0+/p27eQ/cBKi581mMFUC X-Received: by 2002:a05:6602:4143:b0:876:1c5e:8c50 with SMTP id ca18e2360f4ac-87977f8f198mr756942539f.7.1752291103861; Fri, 11 Jul 2025 20:31:43 -0700 (PDT) Received: from postal.iol.unh.edu (postal.iol.unh.edu. [2606:4100:3880:1234::84]) by smtp-relay.gmail.com with ESMTPS id 8926c6da1cb9f-505569ee0b5sm196692173.68.2025.07.11.20.31.43 (version=TLS1_2 cipher=ECDHE-ECDSA-AES128-GCM-SHA256 bits=128/128); Fri, 11 Jul 2025 20:31:43 -0700 (PDT) X-Relaying-Domain: iol.unh.edu Date: Fri, 11 Jul 2025 20:31:43 -0700 (PDT) Message-ID: <6871d71f.050a0220.18514f.a0b3SMTPIN_ADDED_MISSING@mx.google.com> Received: from [172.21.0.5] (unknown [172.18.0.240]) by postal.iol.unh.edu (Postfix) with ESMTP id 6A7BB6051830; Fri, 11 Jul 2025 23:31:43 -0400 (EDT) Subject: |SUCCESS| [GIT MASTER] 9fe9c0b231c8da5435bfccb1963121b4277f961c From: dpdklab@iol.unh.edu To: Test Report Cc: dpdk-test-reports@iol.unh.edu Content-Type: text/plain X-BeenThere: test-report@dpdk.org X-Mailman-Version: 2.1.29 Precedence: list List-Id: automatic DPDK test reports List-Unsubscribe: , List-Archive: List-Post: List-Help: List-Subscribe: , Errors-To: test-report-bounces@dpdk.org _Testing PASS_ Branch: dpdk 9fe9c0b231c8da5435bfccb1963121b4277f961c --> testing pass Upstream job id: Generic-DPDK-Compile-Meson#408104 Test environment and result as below: +------------------------------+--------------------+ | Environment | dpdk_meson_compile | +==============================+====================+ | Red Hat Enterprise Linux 9.5 | PASS | +------------------------------+--------------------+ | Ubuntu 20.04 | PASS | +------------------------------+--------------------+ | Debian GNU/Linux 12 | PASS | +------------------------------+--------------------+ | Fedora Linux 40 | PASS | +------------------------------+--------------------+ | Fedora Linux 41 | PASS | +------------------------------+--------------------+ | Ubuntu 22.04 | PASS | +------------------------------+--------------------+ | Ubuntu 24.04 | PASS | +------------------------------+--------------------+ | CentOS Stream 9 | PASS | +------------------------------+--------------------+ | CentOS Stream 10 | PASS | +------------------------------+--------------------+ Red Hat Enterprise Linux 9.5 Kernel: 5.4 Compiler: gcc gcc (GCC) 11.5.0 20240719 (Red Hat 11.5.0-2) Ubuntu 20.04 Kernel: 5.15 Compiler: aarch64-linux-gnu-gcc gcc (Ubuntu 9.4.0-1ubuntu1~20.04.2) 9.4.0 Debian GNU/Linux 12 Kernel: 5.4 Compiler: gcc gcc (Debian 12.2.0-14+deb12u1) 12.2.0 Fedora Linux 40 Kernel: 5.4 Compiler: gcc gcc (GCC) 14.2.1 20240912 (Red Hat 14.2.1-3) Fedora Linux 41 Kernel: 5.4 Compiler: clang gcc (GCC) 14.3.1 20250523 (Red Hat 14.3.1-1) Ubuntu 22.04 Kernel: 5.4 Compiler: gcc gcc (Ubuntu 11.4.0-1ubuntu1~22.04) 11.4.0 Ubuntu 24.04 Kernel: 5.4 Compiler: gcc gcc (Ubuntu 13.3.0-6ubuntu2~24.04) 13.3.0 CentOS Stream 9 Kernel: 5.4 Compiler: gcc gcc (GCC) 11.5.0 20240719 (Red Hat 11.5.0-7) CentOS Stream 10 Kernel: 5.4 Compiler: gcc gcc (GCC) 14.2.1 20250110 (Red Hat 14.2.1-8) To view detailed results, visit: https://lab.dpdk.org/results/dashboard/tarballs/34243/ UNH-IOL DPDK Community Lab To manage your email subscriptions, visit: https://lab.dpdk.org/results/dashboard/preferences/subscriptions/