From mboxrd@z Thu Jan 1 00:00:00 1970 Return-Path: Received: from mails.dpdk.org (mails.dpdk.org [217.70.189.124]) by inbox.dpdk.org (Postfix) with ESMTP id BE3E946B63 for ; Sun, 13 Jul 2025 10:41:56 +0200 (CEST) Received: from mails.dpdk.org (localhost [127.0.0.1]) by mails.dpdk.org (Postfix) with ESMTP id 8CA744028F; Sun, 13 Jul 2025 10:41:56 +0200 (CEST) Received: from mail-pl1-f228.google.com (mail-pl1-f228.google.com [209.85.214.228]) by mails.dpdk.org (Postfix) with ESMTP id 736454028F for ; Sun, 13 Jul 2025 10:41:54 +0200 (CEST) Received: by mail-pl1-f228.google.com with SMTP id d9443c01a7336-23602481460so31824985ad.0 for ; Sun, 13 Jul 2025 01:41:54 -0700 (PDT) DKIM-Signature: v=1; a=rsa-sha256; c=relaxed/relaxed; d=iol.unh.edu; s=unh-iol; t=1752396113; x=1753000913; darn=dpdk.org; h=references:in-reply-to:cc:to:from:subject:message-id:date:from:to :cc:subject:date:message-id:reply-to; bh=aSDLx6xtgEvFSKREdCBlyMKihfZyyR1okZepnkj3uVs=; b=IX3ra/AKY1V2xQxKmOY9wo6XdbkokUkLiBfrK3WDdQDnyxNrob3MQfGg45IJm1mQfv OGiRb/Gewsnw79jBA5d5JMKAxbTn5pWzZkIZdGg3PcdIkhcHoUrsRezV187w6UvKQ9kI IQXdSOfmXjpvmjvwI5ztLJKheH370yqUAHBps= X-Google-DKIM-Signature: v=1; a=rsa-sha256; c=relaxed/relaxed; d=1e100.net; s=20230601; t=1752396113; x=1753000913; h=references:in-reply-to:cc:to:from:subject:message-id:date :x-gm-message-state:from:to:cc:subject:date:message-id:reply-to; bh=aSDLx6xtgEvFSKREdCBlyMKihfZyyR1okZepnkj3uVs=; b=Pcpr3NjAI2MwBR1wQMoG/bRD9JiWRJZJxvhNyU4qe1EOcIZtMonLLadQSI6xF7cpqb ZbKC17c0CfSZFABszu6iJobTWnka08Mp4jcx0V8CU2eIAfpzz4U3rVX1RrdzZinjkcpw nUc9GQ4A+Spp6Ml/QYXsfEdMe7UcI5p3qrLhuvfmCH6diRXnG31FlufQvlfmMkPFybYp mwNqeJuWlsukeo6bo5RsP56G1A88F6Rj+on4zm/YliX0SSOyjXi8VeUt0/wK1o0euL+9 f4w3raRFmM0eHg00/X24ZOitMYTkOFRVhd0oFjCkBNC9fRiZo4V+tv6T5cXBoWTDDJyz uX9w== X-Gm-Message-State: AOJu0YziQktgY+b5BiSdmgkn6UVGpLNX8dpC5RqWDIDp9c2jYzBBCrX/ S1/rip9yziW5N2zbCNAKriCcKdyHs65HYE4FMFBA/YwYxrz+vXyAnQjTZnMQh55Rp4FY7MWDlM9 CHaA09OGK8kVGaKZ0r/gjsor2d4JPRHxZdBgGKZ8Nwkim X-Gm-Gg: ASbGncv0ZSJSetIAU0U+AUKLbrVpVEJQqBoR8/fW2WI1P+qRrMdaTfY8FSNdCXsZWQq L8NYt0iOc2WnJRQRlZv9QORGEHwN2SlDBDLmCM4NPFrnoUqynImy/U50WneZOhFcz7soRvs4D2H 48dvnOHl2LEpxRvaK1pfzzvBO+TFtqQ9woWJXk0qVLfwgc5t8newW64ncJxEZoZSZnqKI7KhxDs 47cm3NSxkuEBKo3EkIJG5hdqPJiaAgpMCQMp1K0wG4GDbgHTO3O9wufJhyyoy/sNu8lED7U8K+B tZK9D9TOrIeh1WXtEfqMFpv56zkoSkzAFK7wH+L6nwIDLuo4bAkr2Utdo27r15c/29JCF4B3 X-Google-Smtp-Source: AGHT+IEewZuq68kuk+ampjgxeNnJZ1/J2DolhyaMaqmSU3ben6mkW3iAJv0DDy2UxbpoJ9J2sh38YDJyxwuV X-Received: by 2002:a17:902:e88e:b0:23d:d0e7:754b with SMTP id d9443c01a7336-23df0831355mr113302925ad.18.1752396113359; Sun, 13 Jul 2025 01:41:53 -0700 (PDT) Received: from postal.iol.unh.edu (postal.iol.unh.edu. [132.177.123.84]) by smtp-relay.gmail.com with ESMTPS id d9443c01a7336-23de426361fsm3838535ad.17.2025.07.13.01.41.53 (version=TLS1_2 cipher=ECDHE-ECDSA-AES128-GCM-SHA256 bits=128/128); Sun, 13 Jul 2025 01:41:53 -0700 (PDT) X-Relaying-Domain: iol.unh.edu Date: Sun, 13 Jul 2025 01:41:53 -0700 (PDT) Message-ID: <68737151.170a0220.347dde.6decSMTPIN_ADDED_MISSING@mx.google.com> Received: from [172.21.0.5] (unknown [172.18.0.240]) by postal.iol.unh.edu (Postfix) with ESMTP id 74F4B6051830; Sun, 13 Jul 2025 04:41:52 -0400 (EDT) Subject: |SUCCESS| pw155181 [PATCH] [v9,1/1] app/testpmd: canonicalize short From: dpdklab@iol.unh.edu To: Test Report Cc: dpdk-test-reports@iol.unh.edu In-Reply-To: <20250713063417.10998-2-shperetz@nvidia.com> References: <20250713063417.10998-2-shperetz@nvidia.com> Content-Type: text/plain X-BeenThere: test-report@dpdk.org X-Mailman-Version: 2.1.29 Precedence: list List-Id: automatic DPDK test reports List-Unsubscribe: , List-Archive: List-Post: List-Help: List-Subscribe: , Errors-To: test-report-bounces@dpdk.org Test-Label: iol-unit-arm64-testing Test-Status: SUCCESS http://dpdk.org/patch/155181 _Testing PASS_ Submitter: Shani Peretz Date: Sunday, July 13 2025 06:34:17 DPDK git baseline: Repo:dpdk Branch: master CommitID:9fe9c0b231c8da5435bfccb1963121b4277f961c 155181 --> testing pass Upstream job id: Generic-Unit-Test-DPDK#355062 Test environment and result as below: +------------------------------+----------------+------------------------------+--------------+---------------------------+ | Environment | dpdk_unit_test | cryptodev_sw_snow3g_autotest | lpm_autotest | cryptodev_sw_zuc_autotest | +==============================+================+==============================+==============+===========================+ | Fedora Linux 40 | PASS | SKIPPED | SKIPPED | SKIPPED | +------------------------------+----------------+------------------------------+--------------+---------------------------+ | Ubuntu 24.04 | PASS | SKIPPED | SKIPPED | SKIPPED | +------------------------------+----------------+------------------------------+--------------+---------------------------+ | Debian GNU/Linux 12 | PASS | SKIPPED | SKIPPED | SKIPPED | +------------------------------+----------------+------------------------------+--------------+---------------------------+ | CentOS Stream 10 | PASS | SKIPPED | SKIPPED | SKIPPED | +------------------------------+----------------+------------------------------+--------------+---------------------------+ | Fedora Linux 41 | PASS | SKIPPED | SKIPPED | SKIPPED | +------------------------------+----------------+------------------------------+--------------+---------------------------+ | Ubuntu 20.04 | PASS | SKIPPED | PASS | SKIPPED | +------------------------------+----------------+------------------------------+--------------+---------------------------+ | CentOS Stream 9 | PASS | SKIPPED | SKIPPED | SKIPPED | +------------------------------+----------------+------------------------------+--------------+---------------------------+ | Red Hat Enterprise Linux 9.5 | PASS | SKIPPED | SKIPPED | SKIPPED | +------------------------------+----------------+------------------------------+--------------+---------------------------+ | Ubuntu 22.04 | PASS | SKIPPED | SKIPPED | SKIPPED | +------------------------------+----------------+------------------------------+--------------+---------------------------+ | Debian 12 (arm) | SKIPPED | PASS | SKIPPED | PASS | +------------------------------+----------------+------------------------------+--------------+---------------------------+ Fedora Linux 40 Kernel: 5.4 Compiler: clang gcc (GCC) 14.2.1 20240912 (Red Hat 14.2.1-3) Ubuntu 24.04 Kernel: 5.4 Compiler: gcc gcc (Ubuntu 13.3.0-6ubuntu2~24.04) 13.3.0 Debian GNU/Linux 12 Kernel: 5.4 Compiler: gcc gcc (Debian 12.2.0-14+deb12u1) 12.2.0 CentOS Stream 10 Kernel: 5.4 Compiler: gcc gcc (GCC) 14.2.1 20250110 (Red Hat 14.2.1-8) Fedora Linux 41 Kernel: 5.4 Compiler: gcc gcc (GCC) 14.3.1 20250523 (Red Hat 14.3.1-1) Ubuntu 20.04 Kernel: 5.4 Compiler: gcc gcc (Ubuntu 9.4.0-1ubuntu1~20.04.2) 9.4.0 CentOS Stream 9 Kernel: 5.4 Compiler: gcc gcc (GCC) 11.5.0 20240719 (Red Hat 11.5.0-7) Red Hat Enterprise Linux 9.5 Kernel: 5.4 Compiler: gcc gcc (GCC) 11.5.0 20240719 (Red Hat 11.5.0-2) Ubuntu 22.04 Kernel: 5.4 Compiler: gcc gcc (Ubuntu 11.4.0-1ubuntu1~22.04) 11.4.0 Debian 12 (arm) Kernel: Depends on container host Compiler: gcc (Debian 12.2.0-14) 12.2.0 To view detailed results, visit: https://lab.dpdk.org/results/dashboard/patchsets/33641/ UNH-IOL DPDK Community Lab To manage your email subscriptions, visit: https://lab.dpdk.org/results/dashboard/preferences/subscriptions/